| Back to Multiple platform build/check report for BioC 3.10 |
|
This page was generated on 2020-04-15 12:21:09 -0400 (Wed, 15 Apr 2020).
| Package 1278/1823 | Hostname | OS / Arch | INSTALL | BUILD | CHECK | BUILD BIN | ||||||
| plrs 1.26.0 Gwenael G.R. Leday to
| malbec1 | Linux (Ubuntu 18.04.4 LTS) / x86_64 | OK | OK | OK | |||||||
| tokay1 | Windows Server 2012 R2 Standard / x64 | [ OK ] | OK | WARNINGS | OK | |||||||
| merida1 | OS X 10.11.6 El Capitan / x86_64 | OK | OK | OK | OK |
| Package: plrs |
| Version: 1.26.0 |
| Command: C:\cygwin\bin\curl.exe -O https://malbec1.bioconductor.org/BBS/3.10/bioc/src/contrib/plrs_1.26.0.tar.gz && rm -rf plrs.buildbin-libdir && mkdir plrs.buildbin-libdir && C:\Users\biocbuild\bbs-3.10-bioc\R\bin\R.exe CMD INSTALL --merge-multiarch --build --library=plrs.buildbin-libdir plrs_1.26.0.tar.gz && C:\Users\biocbuild\bbs-3.10-bioc\R\bin\R.exe CMD INSTALL plrs_1.26.0.zip && rm plrs_1.26.0.tar.gz plrs_1.26.0.zip |
| StartedAt: 2020-04-14 20:21:17 -0400 (Tue, 14 Apr 2020) |
| EndedAt: 2020-04-14 20:22:15 -0400 (Tue, 14 Apr 2020) |
| EllapsedTime: 58.5 seconds |
| RetCode: 0 |
| Status: OK |
##############################################################################
##############################################################################
###
### Running command:
###
### C:\cygwin\bin\curl.exe -O https://malbec1.bioconductor.org/BBS/3.10/bioc/src/contrib/plrs_1.26.0.tar.gz && rm -rf plrs.buildbin-libdir && mkdir plrs.buildbin-libdir && C:\Users\biocbuild\bbs-3.10-bioc\R\bin\R.exe CMD INSTALL --merge-multiarch --build --library=plrs.buildbin-libdir plrs_1.26.0.tar.gz && C:\Users\biocbuild\bbs-3.10-bioc\R\bin\R.exe CMD INSTALL plrs_1.26.0.zip && rm plrs_1.26.0.tar.gz plrs_1.26.0.zip
###
##############################################################################
##############################################################################
% Total % Received % Xferd Average Speed Time Time Time Current
Dload Upload Total Spent Left Speed
0 0 0 0 0 0 0 0 --:--:-- --:--:-- --:--:-- 0
0 0 0 0 0 0 0 0 --:--:-- --:--:-- --:--:-- 0
100 468k 100 468k 0 0 1396k 0 --:--:-- --:--:-- --:--:-- 1410k
install for i386
* installing *source* package 'plrs' ...
** using staged installation
** R
** data
** byte-compile and prepare package for lazy loading
** help
*** installing help indices
converting help for package 'plrs'
finding HTML links ... done
criteria html
modify.conf html
neveCN17 html
Rd warning: C:/Users/biocbuild/bbs-3.10-bioc/tmpdir/Rtmp2XyJyn/R.INSTALL1ebc28a23d4/plrs/man/neveCN17.Rd:15: file link 'cghCall' in package 'CGHbase' does not exist and so has been treated as a topic
neveGE17 html
Rd warning: C:/Users/biocbuild/bbs-3.10-bioc/tmpdir/Rtmp2XyJyn/R.INSTALL1ebc28a23d4/plrs/man/neveGE17.Rd:15: file link 'ExpressionSet' in package 'Biobase' does not exist and so has been treated as a topic
plot-methods html
plrs-class html
plrs-package html
plrs html
plrs.cb html
plrs.select-class html
plrs.select html
plrs.series-class html
plrs.series html
Rd warning: C:/Users/biocbuild/bbs-3.10-bioc/tmpdir/Rtmp2XyJyn/R.INSTALL1ebc28a23d4/plrs/man/plrs.series.Rd:32: file link 'ExpressionSet' in package 'Biobase' does not exist and so has been treated as a topic
Rd warning: C:/Users/biocbuild/bbs-3.10-bioc/tmpdir/Rtmp2XyJyn/R.INSTALL1ebc28a23d4/plrs/man/plrs.series.Rd:33: file link 'cghSeg' in package 'CGHbase' does not exist and so has been treated as a topic
Rd warning: C:/Users/biocbuild/bbs-3.10-bioc/tmpdir/Rtmp2XyJyn/R.INSTALL1ebc28a23d4/plrs/man/plrs.series.Rd:33: file link 'cghCall' in package 'CGHbase' does not exist and so has been treated as a topic
Rd warning: C:/Users/biocbuild/bbs-3.10-bioc/tmpdir/Rtmp2XyJyn/R.INSTALL1ebc28a23d4/plrs/man/plrs.series.Rd:47: file link 'ExpressionSet' in package 'Biobase' does not exist and so has been treated as a topic
Rd warning: C:/Users/biocbuild/bbs-3.10-bioc/tmpdir/Rtmp2XyJyn/R.INSTALL1ebc28a23d4/plrs/man/plrs.series.Rd:48: file link 'cghSeg' in package 'CGHbase' does not exist and so has been treated as a topic
Rd warning: C:/Users/biocbuild/bbs-3.10-bioc/tmpdir/Rtmp2XyJyn/R.INSTALL1ebc28a23d4/plrs/man/plrs.series.Rd:48: file link 'cghCall' in package 'CGHbase' does not exist and so has been treated as a topic
Rd warning: C:/Users/biocbuild/bbs-3.10-bioc/tmpdir/Rtmp2XyJyn/R.INSTALL1ebc28a23d4/plrs/man/plrs.series.Rd:50: file link 'cghSeg' in package 'CGHbase' does not exist and so has been treated as a topic
plrs.sim html
plrs.test html
predict.plrs html
** building package indices
** installing vignettes
** testing if installed package can be loaded from temporary location
** testing if installed package can be loaded from final location
** testing if installed package keeps a record of temporary installation path
install for x64
* installing *source* package 'plrs' ...
** testing if installed package can be loaded
* MD5 sums
packaged installation of 'plrs' as plrs_1.26.0.zip
* DONE (plrs)
* installing to library 'C:/Users/biocbuild/bbs-3.10-bioc/R/library'
package 'plrs' successfully unpacked and MD5 sums checked