| Back to Multiple platform build/check report for BioC 3.10 |
|
This page was generated on 2020-04-15 12:17:10 -0400 (Wed, 15 Apr 2020).
| Package 1275/1823 | Hostname | OS / Arch | INSTALL | BUILD | CHECK | BUILD BIN | ||||||
| plier 1.56.0 Crispin Miller
| malbec1 | Linux (Ubuntu 18.04.4 LTS) / x86_64 | OK | OK | OK | |||||||
| tokay1 | Windows Server 2012 R2 Standard / x64 | [ OK ] | OK | OK | OK | |||||||
| merida1 | OS X 10.11.6 El Capitan / x86_64 | OK | OK | WARNINGS | OK |
| Package: plier |
| Version: 1.56.0 |
| Command: C:\cygwin\bin\curl.exe -O https://malbec1.bioconductor.org/BBS/3.10/bioc/src/contrib/plier_1.56.0.tar.gz && rm -rf plier.buildbin-libdir && mkdir plier.buildbin-libdir && C:\Users\biocbuild\bbs-3.10-bioc\R\bin\R.exe CMD INSTALL --merge-multiarch --build --library=plier.buildbin-libdir plier_1.56.0.tar.gz && C:\Users\biocbuild\bbs-3.10-bioc\R\bin\R.exe CMD INSTALL plier_1.56.0.zip && rm plier_1.56.0.tar.gz plier_1.56.0.zip |
| StartedAt: 2020-04-14 19:11:44 -0400 (Tue, 14 Apr 2020) |
| EndedAt: 2020-04-14 19:11:55 -0400 (Tue, 14 Apr 2020) |
| EllapsedTime: 11.3 seconds |
| RetCode: 0 |
| Status: OK |
##############################################################################
##############################################################################
###
### Running command:
###
### C:\cygwin\bin\curl.exe -O https://malbec1.bioconductor.org/BBS/3.10/bioc/src/contrib/plier_1.56.0.tar.gz && rm -rf plier.buildbin-libdir && mkdir plier.buildbin-libdir && C:\Users\biocbuild\bbs-3.10-bioc\R\bin\R.exe CMD INSTALL --merge-multiarch --build --library=plier.buildbin-libdir plier_1.56.0.tar.gz && C:\Users\biocbuild\bbs-3.10-bioc\R\bin\R.exe CMD INSTALL plier_1.56.0.zip && rm plier_1.56.0.tar.gz plier_1.56.0.zip
###
##############################################################################
##############################################################################
% Total % Received % Xferd Average Speed Time Time Time Current
Dload Upload Total Spent Left Speed
0 0 0 0 0 0 0 0 --:--:-- --:--:-- --:--:-- 0
100 20447 100 20447 0 0 545k 0 --:--:-- --:--:-- --:--:-- 605k
install for i386
* installing *source* package 'plier' ...
** using staged installation
** libs
C:/Rtools/mingw_32/bin/g++ -std=gnu++11 -I"C:/Users/BIOCBU~1/BBS-3~1.10-/R/include" -DNDEBUG -I"C:/extsoft/include" -O2 -Wall -mtune=core2 -c affyplier.cpp -o affyplier.o
C:/Rtools/mingw_32/bin/g++ -std=gnu++11 -I"C:/Users/BIOCBU~1/BBS-3~1.10-/R/include" -DNDEBUG -I"C:/extsoft/include" -O2 -Wall -mtune=core2 -c plier_impl.cpp -o plier_impl.o
C:/Rtools/mingw_32/bin/g++ -std=gnu++11 -I"C:/Users/BIOCBU~1/BBS-3~1.10-/R/include" -DNDEBUG -I"C:/extsoft/include" -O2 -Wall -mtune=core2 -c plieralg.cpp -o plieralg.o
plieralg.cpp: In function 'long int NewtonPlier(plier_data*, double&)':
plieralg.cpp:905:14: warning: variable 'icount' set but not used [-Wunused-but-set-variable]
long count, icount;
^
plieralg.cpp:1257:24: warning: 'LogLikelihood' may be used uninitialized in this function [-Wmaybe-uninitialized]
output = LogLikelihood/nSize;
^
plieralg.cpp: At global scope:
plieralg.cpp:49:12: warning: 'g_ErrorCode' defined but not used [-Wunused-variable]
static int g_ErrorCode=NoError;
^
C:/Rtools/mingw_32/bin/g++ -std=gnu++11 -I"C:/Users/BIOCBU~1/BBS-3~1.10-/R/include" -DNDEBUG -I"C:/extsoft/include" -O2 -Wall -mtune=core2 -c rwrapper.cpp -o rwrapper.o
C:/Rtools/mingw_32/bin/g++ -std=gnu++11 -shared -s -static-libgcc -o plier.dll tmp.def affyplier.o plier_impl.o plieralg.o rwrapper.o -LC:/extsoft/lib/i386 -LC:/extsoft/lib -LC:/Users/BIOCBU~1/BBS-3~1.10-/R/bin/i386 -lR
installing to C:/Users/biocbuild/bbs-3.10-bioc/meat/plier.buildbin-libdir/00LOCK-plier/00new/plier/libs/i386
** R
** byte-compile and prepare package for lazy loading
** help
*** installing help indices
converting help for package 'plier'
finding HTML links ... done
justPlier html
** building package indices
** testing if installed package can be loaded from temporary location
** testing if installed package can be loaded from final location
** testing if installed package keeps a record of temporary installation path
install for x64
* installing *source* package 'plier' ...
** libs
C:/Rtools/mingw_64/bin/g++ -std=gnu++11 -I"C:/Users/BIOCBU~1/BBS-3~1.10-/R/include" -DNDEBUG -I"C:/extsoft/include" -O2 -Wall -mtune=core2 -c affyplier.cpp -o affyplier.o
C:/Rtools/mingw_64/bin/g++ -std=gnu++11 -I"C:/Users/BIOCBU~1/BBS-3~1.10-/R/include" -DNDEBUG -I"C:/extsoft/include" -O2 -Wall -mtune=core2 -c plier_impl.cpp -o plier_impl.o
C:/Rtools/mingw_64/bin/g++ -std=gnu++11 -I"C:/Users/BIOCBU~1/BBS-3~1.10-/R/include" -DNDEBUG -I"C:/extsoft/include" -O2 -Wall -mtune=core2 -c plieralg.cpp -o plieralg.o
plieralg.cpp: In function 'long int NewtonPlier(plier_data*, double&)':
plieralg.cpp:905:14: warning: variable 'icount' set but not used [-Wunused-but-set-variable]
long count, icount;
^
plieralg.cpp:1257:24: warning: 'LogLikelihood' may be used uninitialized in this function [-Wmaybe-uninitialized]
output = LogLikelihood/nSize;
^
plieralg.cpp: At global scope:
plieralg.cpp:49:12: warning: 'g_ErrorCode' defined but not used [-Wunused-variable]
static int g_ErrorCode=NoError;
^
C:/Rtools/mingw_64/bin/g++ -std=gnu++11 -I"C:/Users/BIOCBU~1/BBS-3~1.10-/R/include" -DNDEBUG -I"C:/extsoft/include" -O2 -Wall -mtune=core2 -c rwrapper.cpp -o rwrapper.o
C:/Rtools/mingw_64/bin/g++ -std=gnu++11 -shared -s -static-libgcc -o plier.dll tmp.def affyplier.o plier_impl.o plieralg.o rwrapper.o -LC:/extsoft/lib/x64 -LC:/extsoft/lib -LC:/Users/BIOCBU~1/BBS-3~1.10-/R/bin/x64 -lR
installing to C:/Users/biocbuild/bbs-3.10-bioc/meat/plier.buildbin-libdir/plier/libs/x64
** testing if installed package can be loaded
* MD5 sums
packaged installation of 'plier' as plier_1.56.0.zip
* DONE (plier)
* installing to library 'C:/Users/biocbuild/bbs-3.10-bioc/R/library'
package 'plier' successfully unpacked and MD5 sums checked