| Back to Multiple platform build/check report for BioC 3.10 |
|
This page was generated on 2020-04-15 12:05:38 -0400 (Wed, 15 Apr 2020).
| Package 1272/1823 | Hostname | OS / Arch | INSTALL | BUILD | CHECK | BUILD BIN | ||||||
Errol Strain
| malbec1 | Linux (Ubuntu 18.04.4 LTS) / x86_64 | ERROR | [ ERROR ] | skipped | |||||||
| tokay1 | Windows Server 2012 R2 Standard / x64 | ERROR | ERROR | skipped | skipped | |||||||
| merida1 | OS X 10.11.6 El Capitan / x86_64 | ERROR | ERROR | skipped | skipped |
| Package: plateCore |
| Version: 1.44.0 |
| Command: /home/biocbuild/bbs-3.10-bioc/R/bin/R CMD build --keep-empty-dirs --no-resave-data plateCore |
| StartedAt: 2020-04-14 19:41:33 -0400 (Tue, 14 Apr 2020) |
| EndedAt: 2020-04-14 19:41:35 -0400 (Tue, 14 Apr 2020) |
| EllapsedTime: 2.5 seconds |
| RetCode: 1 |
| Status: ERROR |
| PackageFile: None |
| PackageFileSize: NA |
##############################################################################
##############################################################################
###
### Running command:
###
### /home/biocbuild/bbs-3.10-bioc/R/bin/R CMD build --keep-empty-dirs --no-resave-data plateCore
###
##############################################################################
##############################################################################
* checking for file ‘plateCore/DESCRIPTION’ ... OK
* preparing ‘plateCore’:
* checking DESCRIPTION meta-information ... OK
* installing the package to build vignettes
-----------------------------------
* installing *source* package ‘plateCore’ ...
** using staged installation
** R
** data
** byte-compile and prepare package for lazy loading
Error: class "norm2Filter" is not exported by 'namespace:flowCore'
Execution halted
ERROR: lazy loading failed for package ‘plateCore’
* removing ‘/tmp/Rtmp8A3hKe/Rinst1b226bdd8a15/plateCore’
-----------------------------------
ERROR: package installation failed