| Back to Multiple platform build/check report for BioC 3.10 |
|
This page was generated on 2020-04-15 12:15:39 -0400 (Wed, 15 Apr 2020).
| Package 1270/1823 | Hostname | OS / Arch | INSTALL | BUILD | CHECK | BUILD BIN | ||||||
| pipeFrame 1.2.2 Zheng Wei
| malbec1 | Linux (Ubuntu 18.04.4 LTS) / x86_64 | OK | OK | [ OK ] | |||||||
| tokay1 | Windows Server 2012 R2 Standard / x64 | OK | OK | OK | OK | |||||||
| merida1 | OS X 10.11.6 El Capitan / x86_64 | OK | OK | OK | OK |
| Package: pipeFrame |
| Version: 1.2.2 |
| Command: /home/biocbuild/bbs-3.10-bioc/R/bin/R CMD check --install=check:pipeFrame.install-out.txt --library=/home/biocbuild/bbs-3.10-bioc/R/library --no-vignettes --timings pipeFrame_1.2.2.tar.gz |
| StartedAt: 2020-04-15 06:30:49 -0400 (Wed, 15 Apr 2020) |
| EndedAt: 2020-04-15 06:34:36 -0400 (Wed, 15 Apr 2020) |
| EllapsedTime: 227.4 seconds |
| RetCode: 0 |
| Status: OK |
| CheckDir: pipeFrame.Rcheck |
| Warnings: 0 |
##############################################################################
##############################################################################
###
### Running command:
###
### /home/biocbuild/bbs-3.10-bioc/R/bin/R CMD check --install=check:pipeFrame.install-out.txt --library=/home/biocbuild/bbs-3.10-bioc/R/library --no-vignettes --timings pipeFrame_1.2.2.tar.gz
###
##############################################################################
##############################################################################
* using log directory ‘/home/biocbuild/bbs-3.10-bioc/meat/pipeFrame.Rcheck’
* using R version 3.6.3 (2020-02-29)
* using platform: x86_64-pc-linux-gnu (64-bit)
* using session charset: UTF-8
* using option ‘--no-vignettes’
* checking for file ‘pipeFrame/DESCRIPTION’ ... OK
* checking extension type ... Package
* this is package ‘pipeFrame’ version ‘1.2.2’
* package encoding: UTF-8
* checking package namespace information ... OK
* checking package dependencies ... OK
* checking if this is a source package ... OK
* checking if there is a namespace ... OK
* checking for hidden files and directories ... OK
* checking for portable file names ... OK
* checking for sufficient/correct file permissions ... OK
* checking whether package ‘pipeFrame’ can be installed ... OK
* checking installed package size ... OK
* checking package directory ... OK
* checking ‘build’ directory ... OK
* checking DESCRIPTION meta-information ... OK
* checking top-level files ... OK
* checking for left-over files ... OK
* checking index information ... OK
* checking package subdirectories ... OK
* checking R files for non-ASCII characters ... OK
* checking R files for syntax errors ... OK
* checking whether the package can be loaded ... OK
* checking whether the package can be loaded with stated dependencies ... OK
* checking whether the package can be unloaded cleanly ... OK
* checking whether the namespace can be loaded with stated dependencies ... OK
* checking whether the namespace can be unloaded cleanly ... OK
* checking dependencies in R code ... OK
* checking S3 generic/method consistency ... OK
* checking replacement functions ... OK
* checking foreign function calls ... OK
* checking R code for possible problems ... OK
* checking Rd files ... OK
* checking Rd metadata ... OK
* checking Rd cross-references ... OK
* checking for missing documentation entries ... OK
* checking for code/documentation mismatches ... OK
* checking Rd \usage sections ... OK
* checking Rd contents ... OK
* checking for unstated dependencies in examples ... OK
* checking files in ‘vignettes’ ... OK
* checking examples ... OK
Examples with CPU or elapsed time > 5s
user system elapsed
Step-class 6.452 0.26 6.801
* checking for unstated dependencies in ‘tests’ ... OK
* checking tests ...
Running ‘testthat.R’
OK
* checking for unstated dependencies in vignettes ... OK
* checking package vignettes in ‘inst/doc’ ... OK
* checking running R code from vignettes ... SKIPPED
* checking re-building of vignette outputs ... SKIPPED
* checking PDF version of manual ... OK
* DONE
Status: OK
pipeFrame.Rcheck/00install.out
############################################################################## ############################################################################## ### ### Running command: ### ### /home/biocbuild/bbs-3.10-bioc/R/bin/R CMD INSTALL pipeFrame ### ############################################################################## ############################################################################## * installing to library ‘/home/biocbuild/bbs-3.10-bioc/R/library’ * installing *source* package ‘pipeFrame’ ... ** using staged installation ** R ** inst ** byte-compile and prepare package for lazy loading ** help *** installing help indices ** building package indices ** installing vignettes ** testing if installed package can be loaded from temporary location ** testing if installed package can be loaded from final location ** testing if installed package keeps a record of temporary installation path * DONE (pipeFrame)
pipeFrame.Rcheck/tests/testthat.Rout
R version 3.6.3 (2020-02-29) -- "Holding the Windsock"
Copyright (C) 2020 The R Foundation for Statistical Computing
Platform: x86_64-pc-linux-gnu (64-bit)
R is free software and comes with ABSOLUTELY NO WARRANTY.
You are welcome to redistribute it under certain conditions.
Type 'license()' or 'licence()' for distribution details.
R is a collaborative project with many contributors.
Type 'contributors()' for more information and
'citation()' on how to cite R or R packages in publications.
Type 'demo()' for some demos, 'help()' for on-line help, or
'help.start()' for an HTML browser interface to help.
Type 'q()' to quit R.
> library(testthat)
> library(pipeFrame)
>
> test_check("pipeFrame")
══ testthat results ═══════════════════════════════════════════════════════════
[ OK: 29 | SKIPPED: 0 | WARNINGS: 46 | FAILED: 0 ]
>
> proc.time()
user system elapsed
17.156 0.768 17.963
pipeFrame.Rcheck/pipeFrame-Ex.timings
| name | user | system | elapsed | |
| Step-class | 6.452 | 0.260 | 6.801 | |
| Utils | 0.000 | 0.000 | 0.002 | |
| getObjsInPipe | 0.008 | 0.004 | 0.011 | |
| graphMng | 0.104 | 0.004 | 0.105 | |
| initPipeFrame | 0.000 | 0.000 | 0.001 | |
| runWithFinishCheck | 0.000 | 0.000 | 0.001 | |
| setGenome | 0 | 0 | 0 | |
| setJobName | 0.000 | 0.000 | 0.001 | |
| setPipeName | 0.000 | 0.000 | 0.001 | |
| setRefDir | 0.000 | 0.000 | 0.001 | |
| setThreads | 0.000 | 0.052 | 0.058 | |
| setTmpDir | 0 | 0 | 0 | |