| Back to Multiple platform build/check report for BioC 3.10 |
|
This page was generated on 2020-04-15 12:28:25 -0400 (Wed, 15 Apr 2020).
| Package 1251/1823 | Hostname | OS / Arch | INSTALL | BUILD | CHECK | BUILD BIN | ||||||
| pgca 1.10.0 Gabriela Cohen-Freue
| malbec1 | Linux (Ubuntu 18.04.4 LTS) / x86_64 | OK | OK | OK | |||||||
| tokay1 | Windows Server 2012 R2 Standard / x64 | OK | OK | WARNINGS | [ OK ] | |||||||
| merida1 | OS X 10.11.6 El Capitan / x86_64 | OK | OK | OK | OK |
| Package: pgca |
| Version: 1.10.0 |
| Command: rm -rf pgca.buildbin-libdir && mkdir pgca.buildbin-libdir && C:\Users\biocbuild\bbs-3.10-bioc\R\bin\R.exe CMD INSTALL --merge-multiarch --build --library=pgca.buildbin-libdir pgca_1.10.0.tar.gz |
| StartedAt: 2020-04-15 09:22:16 -0400 (Wed, 15 Apr 2020) |
| EndedAt: 2020-04-15 09:22:58 -0400 (Wed, 15 Apr 2020) |
| EllapsedTime: 41.6 seconds |
| RetCode: 0 |
| Status: OK |
| PackageFile: pgca_1.10.0.zip |
| PackageFileSize: 158.8 KiB |
##############################################################################
##############################################################################
###
### Running command:
###
### rm -rf pgca.buildbin-libdir && mkdir pgca.buildbin-libdir && C:\Users\biocbuild\bbs-3.10-bioc\R\bin\R.exe CMD INSTALL --merge-multiarch --build --library=pgca.buildbin-libdir pgca_1.10.0.tar.gz
###
##############################################################################
##############################################################################
install for i386
* installing *source* package 'pgca' ...
** using staged installation
** R
** data
*** moving datasets to lazyload DB
** inst
** byte-compile and prepare package for lazy loading
** help
*** installing help indices
converting help for package 'pgca'
finding HTML links ... done
BET1947_v339 html
applyDict html
pgcaDict html
saveDict html
Rd warning: C:/Users/biocbuild/bbs-3.10-bioc/tmpdir/Rtmp6z0nCP/R.INSTALL2d07cb1ba1/pgca/man/saveDict.Rd:13: file link 'connection' in package 'base' does not exist and so has been treated as a topic
** building package indices
** installing vignettes
** testing if installed package can be loaded from temporary location
** testing if installed package can be loaded from final location
** testing if installed package keeps a record of temporary installation path
install for x64
* installing *source* package 'pgca' ...
** testing if installed package can be loaded
* MD5 sums
packaged installation of 'pgca' as pgca_1.10.0.zip
* DONE (pgca)