| Back to Multiple platform build/check report for BioC 3.10 |
|
This page was generated on 2020-04-15 12:34:59 -0400 (Wed, 15 Apr 2020).
| Package 1242/1823 | Hostname | OS / Arch | INSTALL | BUILD | CHECK | BUILD BIN | ||||||
| pdInfoBuilder 1.50.0 Benilton Carvalho
| malbec1 | Linux (Ubuntu 18.04.4 LTS) / x86_64 | OK | OK | OK | |||||||
| tokay1 | Windows Server 2012 R2 Standard / x64 | OK | OK | OK | OK | |||||||
| merida1 | OS X 10.11.6 El Capitan / x86_64 | OK | [ OK ] | OK | OK |
| Package: pdInfoBuilder |
| Version: 1.50.0 |
| Command: /Library/Frameworks/R.framework/Versions/Current/Resources/bin/R CMD build --keep-empty-dirs --no-resave-data pdInfoBuilder |
| StartedAt: 2020-04-14 19:56:27 -0400 (Tue, 14 Apr 2020) |
| EndedAt: 2020-04-14 19:57:13 -0400 (Tue, 14 Apr 2020) |
| EllapsedTime: 45.9 seconds |
| RetCode: 0 |
| Status: OK |
| PackageFile: pdInfoBuilder_1.50.0.tar.gz |
| PackageFileSize: 347.5 KiB |
##############################################################################
##############################################################################
###
### Running command:
###
### /Library/Frameworks/R.framework/Versions/Current/Resources/bin/R CMD build --keep-empty-dirs --no-resave-data pdInfoBuilder
###
##############################################################################
##############################################################################
* checking for file ‘pdInfoBuilder/DESCRIPTION’ ... OK
* preparing ‘pdInfoBuilder’:
* checking DESCRIPTION meta-information ... OK
* cleaning src
* installing the package to build vignettes
* creating vignettes ... OK
Warning: ‘inst/doc’ files
‘BuildingPDInfoPkgs.Rnw’, ‘howto-AffymetrixMapping.Rnw’, ‘howto-AffymetrixMapping.pdf’
ignored as vignettes have been rebuilt.
Run R CMD build with --no-build-vignettes to prevent rebuilding.
* cleaning src
* checking for LF line-endings in source and make files and shell scripts
* checking for empty or unneeded directories
* building ‘pdInfoBuilder_1.50.0.tar.gz’