| Back to Multiple platform build/check report for BioC 3.10 |
|
This page was generated on 2020-04-15 12:38:54 -0400 (Wed, 15 Apr 2020).
| Package 1223/1823 | Hostname | OS / Arch | INSTALL | BUILD | CHECK | BUILD BIN | ||||||
| pathifier 1.24.0 Assif Yitzhaky
| malbec1 | Linux (Ubuntu 18.04.4 LTS) / x86_64 | OK | OK | OK | |||||||
| tokay1 | Windows Server 2012 R2 Standard / x64 | OK | OK | OK | OK | |||||||
| merida1 | OS X 10.11.6 El Capitan / x86_64 | OK | OK | OK | [ OK ] |
| Package: pathifier |
| Version: 1.24.0 |
| Command: rm -rf pathifier.buildbin-libdir && mkdir pathifier.buildbin-libdir && /Users/biocbuild/BBS/utils/build-universal.sh pathifier_1.24.0.tar.gz /Library/Frameworks/R.framework/Versions/Current/Resources/bin/R pathifier.buildbin-libdir |
| StartedAt: 2020-04-15 08:17:22 -0400 (Wed, 15 Apr 2020) |
| EndedAt: 2020-04-15 08:18:20 -0400 (Wed, 15 Apr 2020) |
| EllapsedTime: 57.7 seconds |
| RetCode: 0 |
| Status: OK |
| PackageFile: pathifier_1.24.0.tgz |
| PackageFileSize: 1.938 MiB |
############################################################################## ############################################################################## ### ### Running command: ### ### rm -rf pathifier.buildbin-libdir && mkdir pathifier.buildbin-libdir && /Users/biocbuild/BBS/utils/build-universal.sh pathifier_1.24.0.tar.gz /Library/Frameworks/R.framework/Versions/Current/Resources/bin/R pathifier.buildbin-libdir ### ############################################################################## ############################################################################## >>>>>>> >>>>>>> INSTALLATION WITH 'R CMD INSTALL --preclean --no-multiarch --library=pathifier.buildbin-libdir pathifier_1.24.0.tar.gz' >>>>>>> * installing *source* package ‘pathifier’ ... ** using staged installation ** R ** data ** inst ** byte-compile and prepare package for lazy loading ** help *** installing help indices ** building package indices ** installing vignettes ** testing if installed package can be loaded from temporary location ** testing if installed package can be loaded from final location ** testing if installed package keeps a record of temporary installation path * DONE (pathifier)