| Back to Multiple platform build/check report for BioC 3.10 |
|
This page was generated on 2020-04-15 12:24:52 -0400 (Wed, 15 Apr 2020).
| Package 1213/1823 | Hostname | OS / Arch | INSTALL | BUILD | CHECK | BUILD BIN | ||||||
| pandaR 1.18.0 Joseph N. Paulson
| malbec1 | Linux (Ubuntu 18.04.4 LTS) / x86_64 | OK | OK | OK | |||||||
| tokay1 | Windows Server 2012 R2 Standard / x64 | OK | OK | OK | [ OK ] | |||||||
| merida1 | OS X 10.11.6 El Capitan / x86_64 | OK | OK | OK | OK |
| Package: pandaR |
| Version: 1.18.0 |
| Command: rm -rf pandaR.buildbin-libdir && mkdir pandaR.buildbin-libdir && C:\Users\biocbuild\bbs-3.10-bioc\R\bin\R.exe CMD INSTALL --merge-multiarch --build --library=pandaR.buildbin-libdir pandaR_1.18.0.tar.gz |
| StartedAt: 2020-04-15 09:20:03 -0400 (Wed, 15 Apr 2020) |
| EndedAt: 2020-04-15 09:20:24 -0400 (Wed, 15 Apr 2020) |
| EllapsedTime: 21.5 seconds |
| RetCode: 0 |
| Status: OK |
| PackageFile: pandaR_1.18.0.zip |
| PackageFileSize: 9.012 MiB |
##############################################################################
##############################################################################
###
### Running command:
###
### rm -rf pandaR.buildbin-libdir && mkdir pandaR.buildbin-libdir && C:\Users\biocbuild\bbs-3.10-bioc\R\bin\R.exe CMD INSTALL --merge-multiarch --build --library=pandaR.buildbin-libdir pandaR_1.18.0.tar.gz
###
##############################################################################
##############################################################################
install for i386
* installing *source* package 'pandaR' ...
** using staged installation
** R
** data
*** moving datasets to lazyload DB
** inst
** byte-compile and prepare package for lazy loading
** help
*** installing help indices
converting help for package 'pandaR'
finding HTML links ... done
calcDegree html
calcDegreeDifference html
importPandaMatlab html
multiplot html
panda html
pandaR html
pandaResult html
pandaResultPairs html
pandaToyData html
plot.panda html
plotCommunityDetection html
plotGraph html
plotZ html
plotZbyTF html
print.panda html
subnetwork html
summary.panda html
targetedGenes html
testMotif html
topedges html
** building package indices
** installing vignettes
** testing if installed package can be loaded from temporary location
** testing if installed package can be loaded from final location
** testing if installed package keeps a record of temporary installation path
install for x64
* installing *source* package 'pandaR' ...
** testing if installed package can be loaded
* MD5 sums
packaged installation of 'pandaR' as pandaR_1.18.0.zip
* DONE (pandaR)