| Back to Multiple platform build/check report for BioC 3.10 |
|
This page was generated on 2020-04-15 12:29:04 -0400 (Wed, 15 Apr 2020).
| Package 1194/1823 | Hostname | OS / Arch | INSTALL | BUILD | CHECK | BUILD BIN | ||||||
| openPrimeRui 1.8.0 Matthias Döring
| malbec1 | Linux (Ubuntu 18.04.4 LTS) / x86_64 | OK | OK | OK | |||||||
| tokay1 | Windows Server 2012 R2 Standard / x64 | [ OK ] | OK | OK | OK | |||||||
| merida1 | OS X 10.11.6 El Capitan / x86_64 | OK | OK | OK | OK |
| Package: openPrimeRui |
| Version: 1.8.0 |
| Command: C:\cygwin\bin\curl.exe -O https://malbec1.bioconductor.org/BBS/3.10/bioc/src/contrib/openPrimeRui_1.8.0.tar.gz && rm -rf openPrimeRui.buildbin-libdir && mkdir openPrimeRui.buildbin-libdir && C:\Users\biocbuild\bbs-3.10-bioc\R\bin\R.exe CMD INSTALL --merge-multiarch --build --library=openPrimeRui.buildbin-libdir openPrimeRui_1.8.0.tar.gz && C:\Users\biocbuild\bbs-3.10-bioc\R\bin\R.exe CMD INSTALL openPrimeRui_1.8.0.zip && rm openPrimeRui_1.8.0.tar.gz openPrimeRui_1.8.0.zip |
| StartedAt: 2020-04-14 19:31:49 -0400 (Tue, 14 Apr 2020) |
| EndedAt: 2020-04-14 19:32:21 -0400 (Tue, 14 Apr 2020) |
| EllapsedTime: 31.3 seconds |
| RetCode: 0 |
| Status: OK |
##############################################################################
##############################################################################
###
### Running command:
###
### C:\cygwin\bin\curl.exe -O https://malbec1.bioconductor.org/BBS/3.10/bioc/src/contrib/openPrimeRui_1.8.0.tar.gz && rm -rf openPrimeRui.buildbin-libdir && mkdir openPrimeRui.buildbin-libdir && C:\Users\biocbuild\bbs-3.10-bioc\R\bin\R.exe CMD INSTALL --merge-multiarch --build --library=openPrimeRui.buildbin-libdir openPrimeRui_1.8.0.tar.gz && C:\Users\biocbuild\bbs-3.10-bioc\R\bin\R.exe CMD INSTALL openPrimeRui_1.8.0.zip && rm openPrimeRui_1.8.0.tar.gz openPrimeRui_1.8.0.zip
###
##############################################################################
##############################################################################
% Total % Received % Xferd Average Speed Time Time Time Current
Dload Upload Total Spent Left Speed
0 0 0 0 0 0 0 0 --:--:-- --:--:-- --:--:-- 0
100 2426k 100 2426k 0 0 28.9M 0 --:--:-- --:--:-- --:--:-- 30.3M
install for i386
* installing *source* package 'openPrimeRui' ...
** using staged installation
** R
** inst
** byte-compile and prepare package for lazy loading
** help
*** installing help indices
converting help for package 'openPrimeRui'
finding HTML links ... done
myCatch html
openPrimeRui-package html
startApp html
withWarnings html
** building package indices
** installing vignettes
** testing if installed package can be loaded from temporary location
** testing if installed package can be loaded from final location
** testing if installed package keeps a record of temporary installation path
install for x64
* installing *source* package 'openPrimeRui' ...
** testing if installed package can be loaded
* MD5 sums
packaged installation of 'openPrimeRui' as openPrimeRui_1.8.0.zip
* DONE (openPrimeRui)
* installing to library 'C:/Users/biocbuild/bbs-3.10-bioc/R/library'
package 'openPrimeRui' successfully unpacked and MD5 sums checked