| Back to Multiple platform build/check report for BioC 3.10 |
|
This page was generated on 2020-04-15 12:13:25 -0400 (Wed, 15 Apr 2020).
| Package 1191/1823 | Hostname | OS / Arch | INSTALL | BUILD | CHECK | BUILD BIN | ||||||
| ontoProc 1.8.1 VJ Carey
| malbec1 | Linux (Ubuntu 18.04.4 LTS) / x86_64 | OK | OK | [ OK ] | |||||||
| tokay1 | Windows Server 2012 R2 Standard / x64 | OK | OK | OK | OK | |||||||
| merida1 | OS X 10.11.6 El Capitan / x86_64 | OK | OK | OK | OK |
| Package: ontoProc |
| Version: 1.8.1 |
| Command: /home/biocbuild/bbs-3.10-bioc/R/bin/R CMD check --install=check:ontoProc.install-out.txt --library=/home/biocbuild/bbs-3.10-bioc/R/library --no-vignettes --timings ontoProc_1.8.1.tar.gz |
| StartedAt: 2020-04-15 05:15:04 -0400 (Wed, 15 Apr 2020) |
| EndedAt: 2020-04-15 05:18:10 -0400 (Wed, 15 Apr 2020) |
| EllapsedTime: 185.7 seconds |
| RetCode: 0 |
| Status: OK |
| CheckDir: ontoProc.Rcheck |
| Warnings: 0 |
##############################################################################
##############################################################################
###
### Running command:
###
### /home/biocbuild/bbs-3.10-bioc/R/bin/R CMD check --install=check:ontoProc.install-out.txt --library=/home/biocbuild/bbs-3.10-bioc/R/library --no-vignettes --timings ontoProc_1.8.1.tar.gz
###
##############################################################################
##############################################################################
* using log directory ‘/home/biocbuild/bbs-3.10-bioc/meat/ontoProc.Rcheck’
* using R version 3.6.3 (2020-02-29)
* using platform: x86_64-pc-linux-gnu (64-bit)
* using session charset: UTF-8
* using option ‘--no-vignettes’
* checking for file ‘ontoProc/DESCRIPTION’ ... OK
* this is package ‘ontoProc’ version ‘1.8.1’
* package encoding: UTF-8
* checking package namespace information ... OK
* checking package dependencies ... OK
* checking if this is a source package ... OK
* checking if there is a namespace ... OK
* checking for hidden files and directories ... OK
* checking for portable file names ... OK
* checking for sufficient/correct file permissions ... OK
* checking whether package ‘ontoProc’ can be installed ... OK
* checking installed package size ... NOTE
installed size is 37.7Mb
sub-directories of 1Mb or more:
app 1.9Mb
data 2.0Mb
ontoRda 33.5Mb
* checking package directory ... OK
* checking ‘build’ directory ... OK
* checking DESCRIPTION meta-information ... OK
* checking top-level files ... OK
* checking for left-over files ... OK
* checking index information ... OK
* checking package subdirectories ... OK
* checking R files for non-ASCII characters ... OK
* checking R files for syntax errors ... OK
* checking whether the package can be loaded ... OK
* checking whether the package can be loaded with stated dependencies ... OK
* checking whether the package can be unloaded cleanly ... OK
* checking whether the namespace can be loaded with stated dependencies ... OK
* checking whether the namespace can be unloaded cleanly ... OK
* checking dependencies in R code ... OK
* checking S3 generic/method consistency ... OK
* checking replacement functions ... OK
* checking foreign function calls ... OK
* checking R code for possible problems ... NOTE
CLfeat : prupdate: no visible binding for global variable ‘PROSYM’
CLfeat : prupdate: no visible binding for global variable ‘PRID’
CLfeat : prupdate: no visible binding for global variable ‘SYMBOL’
ctmarks: no visible binding for '<<-' assignment to ‘pr’
ctmarks: no visible binding for '<<-' assignment to ‘go’
ctmarks : server: no visible binding for global variable ‘text’
cyclicSigset: no visible binding for global variable ‘sigels’
ldfToTerm: no visible binding for global variable ‘PROSYM’
make_graphNEL_from_ontology_plot: no visible global function definition
for ‘as’
seur3kTab: no visible global function definition for ‘read.delim’
sym2CellOnto: no visible binding for global variable ‘PROSYM’
sym2CellOnto: no visible binding for global variable ‘SYMBOL’
Undefined global functions or variables:
PRID PROSYM SYMBOL as read.delim sigels text
Consider adding
importFrom("graphics", "text")
importFrom("methods", "as")
importFrom("utils", "read.delim")
to your NAMESPACE file (and ensure that your DESCRIPTION Imports field
contains 'methods').
* checking Rd files ... OK
* checking Rd metadata ... OK
* checking Rd cross-references ... OK
* checking for missing documentation entries ... OK
* checking for code/documentation mismatches ... OK
* checking Rd \usage sections ... OK
* checking Rd contents ... OK
* checking for unstated dependencies in examples ... OK
* checking contents of ‘data’ directory ... OK
* checking data for non-ASCII characters ... NOTE
Note: found 162 marked UTF-8 strings
* checking data for ASCII and uncompressed saves ... OK
* checking files in ‘vignettes’ ... OK
* checking examples ... OK
Examples with CPU or elapsed time > 5s
user system elapsed
CLfeats 17.860 0.336 18.302
fastGrep 12.028 0.068 12.156
getLeavesFromTerm 11.956 0.020 11.996
sym2CellOnto 6.664 0.064 6.736
getCellOnto 5.164 0.076 5.265
* checking for unstated dependencies in ‘tests’ ... OK
* checking tests ...
Running ‘test.R’
OK
* checking for unstated dependencies in vignettes ... OK
* checking package vignettes in ‘inst/doc’ ... OK
* checking running R code from vignettes ... SKIPPED
* checking re-building of vignette outputs ... SKIPPED
* checking PDF version of manual ... OK
* DONE
Status: 3 NOTEs
See
‘/home/biocbuild/bbs-3.10-bioc/meat/ontoProc.Rcheck/00check.log’
for details.
ontoProc.Rcheck/00install.out
############################################################################## ############################################################################## ### ### Running command: ### ### /home/biocbuild/bbs-3.10-bioc/R/bin/R CMD INSTALL ontoProc ### ############################################################################## ############################################################################## * installing to library ‘/home/biocbuild/bbs-3.10-bioc/R/library’ * installing *source* package ‘ontoProc’ ... ** using staged installation ** R ** data *** moving datasets to lazyload DB ** inst ** byte-compile and prepare package for lazy loading ** help *** installing help indices ** building package indices ** installing vignettes ** testing if installed package can be loaded from temporary location ** testing if installed package can be loaded from final location ** testing if installed package keeps a record of temporary installation path * DONE (ontoProc)
ontoProc.Rcheck/tests/test.Rout
R version 3.6.3 (2020-02-29) -- "Holding the Windsock"
Copyright (C) 2020 The R Foundation for Statistical Computing
Platform: x86_64-pc-linux-gnu (64-bit)
R is free software and comes with ABSOLUTELY NO WARRANTY.
You are welcome to redistribute it under certain conditions.
Type 'license()' or 'licence()' for distribution details.
R is a collaborative project with many contributors.
Type 'contributors()' for more information and
'citation()' on how to cite R or R packages in publications.
Type 'demo()' for some demos, 'help()' for on-line help, or
'help.start()' for an HTML browser interface to help.
Type 'q()' to quit R.
>
> library(ontoProc)
Loading required package: ontologyIndex
> library(testthat)
>
> test_check("ontoProc")
══ testthat results ═══════════════════════════════════════════════════════════
[ OK: 8 | SKIPPED: 0 | WARNINGS: 0 | FAILED: 0 ]
>
>
> proc.time()
user system elapsed
15.324 0.272 15.649
ontoProc.Rcheck/ontoProc-Ex.timings
| name | user | system | elapsed | |
| CLfeats | 17.860 | 0.336 | 18.302 | |
| PROSYM | 0.360 | 0.012 | 0.381 | |
| TermSet-class | 0.436 | 0.000 | 0.456 | |
| allGOterms | 0.072 | 0.004 | 0.074 | |
| cellTypeToGO | 2.056 | 0.056 | 2.136 | |
| cleanCLOnames | 1.280 | 0.012 | 1.338 | |
| cyclicSigset | 0.012 | 0.000 | 0.011 | |
| demoApp | 0 | 0 | 0 | |
| dropStop | 0.004 | 0.000 | 0.003 | |
| fastGrep | 12.028 | 0.068 | 12.156 | |
| getCellOnto | 5.164 | 0.076 | 5.265 | |
| getLeavesFromTerm | 11.956 | 0.020 | 11.996 | |
| humrna | 0.008 | 0.000 | 0.005 | |
| ldfToTerms | 0.876 | 0.012 | 0.892 | |
| liberalMap | 0.644 | 0.004 | 0.649 | |
| makeSelectInput | 0.000 | 0.000 | 0.001 | |
| make_graphNEL_from_ontology_plot | 0.744 | 0.004 | 0.747 | |
| mapOneNaive | 0.544 | 0.004 | 0.549 | |
| minicorpus | 0.000 | 0.000 | 0.001 | |
| nomenCheckup | 1.584 | 0.012 | 1.600 | |
| onto_plot2 | 0.600 | 0.008 | 0.609 | |
| onto_roots | 0 | 0 | 0 | |
| packDesc2019 | 0.004 | 0.000 | 0.002 | |
| recognizedPredicates | 0 | 0 | 0 | |
| secLevGen | 0.416 | 0.000 | 0.435 | |
| selectFromMap | 0.760 | 0.000 | 0.763 | |
| seur3kTab | 0.004 | 0.000 | 0.044 | |
| siblings_TAG | 1.224 | 0.004 | 1.231 | |
| stopWords | 0.004 | 0.000 | 0.002 | |
| sym2CellOnto | 6.664 | 0.064 | 6.736 | |