| Back to Multiple platform build/check report for BioC 3.10 |
|
This page was generated on 2020-04-15 12:29:35 -0400 (Wed, 15 Apr 2020).
| Package 1183/1823 | Hostname | OS / Arch | INSTALL | BUILD | CHECK | BUILD BIN | ||||||
| omicsPrint 1.6.0 Davy Cats
| malbec1 | Linux (Ubuntu 18.04.4 LTS) / x86_64 | OK | OK | OK | |||||||
| tokay1 | Windows Server 2012 R2 Standard / x64 | OK | OK | OK | [ OK ] | |||||||
| merida1 | OS X 10.11.6 El Capitan / x86_64 | OK | OK | OK | OK |
| Package: omicsPrint |
| Version: 1.6.0 |
| Command: rm -rf omicsPrint.buildbin-libdir && mkdir omicsPrint.buildbin-libdir && C:\Users\biocbuild\bbs-3.10-bioc\R\bin\R.exe CMD INSTALL --merge-multiarch --build --library=omicsPrint.buildbin-libdir omicsPrint_1.6.0.tar.gz |
| StartedAt: 2020-04-15 09:18:16 -0400 (Wed, 15 Apr 2020) |
| EndedAt: 2020-04-15 09:18:52 -0400 (Wed, 15 Apr 2020) |
| EllapsedTime: 36.0 seconds |
| RetCode: 0 |
| Status: OK |
| PackageFile: omicsPrint_1.6.0.zip |
| PackageFileSize: 7.639 MiB |
##############################################################################
##############################################################################
###
### Running command:
###
### rm -rf omicsPrint.buildbin-libdir && mkdir omicsPrint.buildbin-libdir && C:\Users\biocbuild\bbs-3.10-bioc\R\bin\R.exe CMD INSTALL --merge-multiarch --build --library=omicsPrint.buildbin-libdir omicsPrint_1.6.0.tar.gz
###
##############################################################################
##############################################################################
install for i386
* installing *source* package 'omicsPrint' ...
** using staged installation
** R
** data
*** moving datasets to lazyload DB
** inst
** byte-compile and prepare package for lazy loading
** help
*** installing help indices
converting help for package 'omicsPrint'
finding HTML links ... done
alleleSharing html
beta2genotype html
hg19.GoNLsnps html
hm450.manifest.pop.GoNL html
inferRelations html
** building package indices
** installing vignettes
** testing if installed package can be loaded from temporary location
** testing if installed package can be loaded from final location
** testing if installed package keeps a record of temporary installation path
install for x64
* installing *source* package 'omicsPrint' ...
** testing if installed package can be loaded
* MD5 sums
packaged installation of 'omicsPrint' as omicsPrint_1.6.0.zip
* DONE (omicsPrint)