| Back to Multiple platform build/check report for BioC 3.10 |
|
This page was generated on 2020-04-15 12:18:08 -0400 (Wed, 15 Apr 2020).
| Package 1172/1823 | Hostname | OS / Arch | INSTALL | BUILD | CHECK | BUILD BIN | ||||||
| oligoClasses 1.48.0 Benilton Carvalho
| malbec1 | Linux (Ubuntu 18.04.4 LTS) / x86_64 | OK | OK | WARNINGS | |||||||
| tokay1 | Windows Server 2012 R2 Standard / x64 | [ OK ] | OK | WARNINGS | OK | |||||||
| merida1 | OS X 10.11.6 El Capitan / x86_64 | OK | OK | WARNINGS | OK |
| Package: oligoClasses |
| Version: 1.48.0 |
| Command: C:\cygwin\bin\curl.exe -O https://malbec1.bioconductor.org/BBS/3.10/bioc/src/contrib/oligoClasses_1.48.0.tar.gz && rm -rf oligoClasses.buildbin-libdir && mkdir oligoClasses.buildbin-libdir && C:\Users\biocbuild\bbs-3.10-bioc\R\bin\R.exe CMD INSTALL --merge-multiarch --build --library=oligoClasses.buildbin-libdir oligoClasses_1.48.0.tar.gz && C:\Users\biocbuild\bbs-3.10-bioc\R\bin\R.exe CMD INSTALL oligoClasses_1.48.0.zip && rm oligoClasses_1.48.0.tar.gz oligoClasses_1.48.0.zip |
| StartedAt: 2020-04-14 19:35:34 -0400 (Tue, 14 Apr 2020) |
| EndedAt: 2020-04-14 19:36:54 -0400 (Tue, 14 Apr 2020) |
| EllapsedTime: 80.1 seconds |
| RetCode: 0 |
| Status: OK |
##############################################################################
##############################################################################
###
### Running command:
###
### C:\cygwin\bin\curl.exe -O https://malbec1.bioconductor.org/BBS/3.10/bioc/src/contrib/oligoClasses_1.48.0.tar.gz && rm -rf oligoClasses.buildbin-libdir && mkdir oligoClasses.buildbin-libdir && C:\Users\biocbuild\bbs-3.10-bioc\R\bin\R.exe CMD INSTALL --merge-multiarch --build --library=oligoClasses.buildbin-libdir oligoClasses_1.48.0.tar.gz && C:\Users\biocbuild\bbs-3.10-bioc\R\bin\R.exe CMD INSTALL oligoClasses_1.48.0.zip && rm oligoClasses_1.48.0.tar.gz oligoClasses_1.48.0.zip
###
##############################################################################
##############################################################################
% Total % Received % Xferd Average Speed Time Time Time Current
Dload Upload Total Spent Left Speed
0 0 0 0 0 0 0 0 --:--:-- --:--:-- --:--:-- 0
0 361k 0 0 0 0 0 0 --:--:-- --:--:-- --:--:-- 0
100 361k 100 361k 0 0 4588k 0 --:--:-- --:--:-- --:--:-- 4755k
install for i386
* installing *source* package 'oligoClasses' ...
** using staged installation
** R
** data
** inst
** byte-compile and prepare package for lazy loading
** help
*** installing help indices
converting help for package 'oligoClasses'
finding HTML links ... done
AlleleSet-class html
finding level-2 HTML links ... done
AlleleSet-methods html
AssayData-methods html
AssayDataList html
BeadStudioSet-class html
BeadStudioSetList-class html
CNSet-class html
ClassesNotExported html
CopyNumberSet-class html
CopyNumberSet-methods html
DBPDInfo-class html
FeatureSetExtensions-class html
GRanges-methods html
GenomeAnnotatedDataFrame-class html
GenomeAnnotatedDataFrameFrom-methods html
SnpSet-methods html
SnpSet2-class html
SnpSuperSet-class html
SummarizedExperiment-methods html
affyPlatforms html
annotationPackages html
assayDataList-methods html
batch html
batchStatistics html
celfileDate html
celfileName html
checkExists html
checkOrder html
chromosome-methods html
chromosome2integer html
clusterOpts html
clusterOptsDeprecated html
createFF html
data-efsExample html
data-scqsExample html
data-sfsExample html
data-sqsExample html
db html
defunct html
exprs-methods html
featureDataList-methods html
ff_matrix html
ff_or_matrix-class html
ffdf html
fileConnections html
flags html
gSet-class html
gSetList-class html
generics html
genomeBuild html
geometry-methods html
getBar html
getSequenceLengths html
i2p_p2i html
integerMatrix html
is.ffmatrix html
isPackageLoaded html
isSnp-methods html
kind html
largeObjects html
ldOpts html
length-methods html
library2 html
list.celfiles html
locusLevelData html
makeFeatureGRanges html
manufacturer-methods html
ocLapply html
oligoSetExample html
oligoSnpSet-methods html
parStatus html
pdPkgFromBioC html
platform-methods html
pmFragmentLength-methods html
position-methods html
requireAnnotation html
requireClusterPkgSetDeprecated html
sampleNames-methods html
splitVec html
** building package indices
** installing vignettes
** testing if installed package can be loaded from temporary location
** testing if installed package can be loaded from final location
** testing if installed package keeps a record of temporary installation path
install for x64
* installing *source* package 'oligoClasses' ...
** testing if installed package can be loaded
* MD5 sums
packaged installation of 'oligoClasses' as oligoClasses_1.48.0.zip
* DONE (oligoClasses)
* installing to library 'C:/Users/biocbuild/bbs-3.10-bioc/R/library'
package 'oligoClasses' successfully unpacked and MD5 sums checked