| Back to Multiple platform build/check report for BioC 3.10 |
|
This page was generated on 2020-04-15 12:22:48 -0400 (Wed, 15 Apr 2020).
| Package 1156/1823 | Hostname | OS / Arch | INSTALL | BUILD | CHECK | BUILD BIN | ||||||
| nondetects 2.16.0 Valeriia Sherina
| malbec1 | Linux (Ubuntu 18.04.4 LTS) / x86_64 | OK | OK | OK | |||||||
| tokay1 | Windows Server 2012 R2 Standard / x64 | [ OK ] | OK | OK | OK | |||||||
| merida1 | OS X 10.11.6 El Capitan / x86_64 | OK | OK | OK | OK |
| Package: nondetects |
| Version: 2.16.0 |
| Command: C:\cygwin\bin\curl.exe -O https://malbec1.bioconductor.org/BBS/3.10/bioc/src/contrib/nondetects_2.16.0.tar.gz && rm -rf nondetects.buildbin-libdir && mkdir nondetects.buildbin-libdir && C:\Users\biocbuild\bbs-3.10-bioc\R\bin\R.exe CMD INSTALL --merge-multiarch --build --library=nondetects.buildbin-libdir nondetects_2.16.0.tar.gz && C:\Users\biocbuild\bbs-3.10-bioc\R\bin\R.exe CMD INSTALL nondetects_2.16.0.zip && rm nondetects_2.16.0.tar.gz nondetects_2.16.0.zip |
| StartedAt: 2020-04-14 20:26:14 -0400 (Tue, 14 Apr 2020) |
| EndedAt: 2020-04-14 20:26:52 -0400 (Tue, 14 Apr 2020) |
| EllapsedTime: 38.4 seconds |
| RetCode: 0 |
| Status: OK |
##############################################################################
##############################################################################
###
### Running command:
###
### C:\cygwin\bin\curl.exe -O https://malbec1.bioconductor.org/BBS/3.10/bioc/src/contrib/nondetects_2.16.0.tar.gz && rm -rf nondetects.buildbin-libdir && mkdir nondetects.buildbin-libdir && C:\Users\biocbuild\bbs-3.10-bioc\R\bin\R.exe CMD INSTALL --merge-multiarch --build --library=nondetects.buildbin-libdir nondetects_2.16.0.tar.gz && C:\Users\biocbuild\bbs-3.10-bioc\R\bin\R.exe CMD INSTALL nondetects_2.16.0.zip && rm nondetects_2.16.0.tar.gz nondetects_2.16.0.zip
###
##############################################################################
##############################################################################
% Total % Received % Xferd Average Speed Time Time Time Current
Dload Upload Total Spent Left Speed
0 0 0 0 0 0 0 0 --:--:-- --:--:-- --:--:-- 0
13 122k 13 16384 0 0 365k 0 --:--:-- --:--:-- --:--:-- 390k
100 122k 100 122k 0 0 2759k 0 --:--:-- --:--:-- --:--:-- 2920k
install for i386
* installing *source* package 'nondetects' ...
** using staged installation
** R
** data
*** moving datasets to lazyload DB
** inst
** byte-compile and prepare package for lazy loading
** help
*** installing help indices
converting help for package 'nondetects'
finding HTML links ... done
nature2008 html
oncogene2013 html
qpcrImpute html
sagmb2011 html
** building package indices
** installing vignettes
'nondetects.Rmd' using 'UTF-8'
** testing if installed package can be loaded from temporary location
** testing if installed package can be loaded from final location
** testing if installed package keeps a record of temporary installation path
install for x64
* installing *source* package 'nondetects' ...
** testing if installed package can be loaded
* MD5 sums
packaged installation of 'nondetects' as nondetects_2.16.0.zip
* DONE (nondetects)
* installing to library 'C:/Users/biocbuild/bbs-3.10-bioc/R/library'
package 'nondetects' successfully unpacked and MD5 sums checked