| Back to Multiple platform build/check report for BioC 3.10 |
|
This page was generated on 2020-04-15 12:32:12 -0400 (Wed, 15 Apr 2020).
| Package 1153/1823 | Hostname | OS / Arch | INSTALL | BUILD | CHECK | BUILD BIN | ||||||
| ngsReports 1.2.0 Steve Pederson
| malbec1 | Linux (Ubuntu 18.04.4 LTS) / x86_64 | OK | OK | OK | |||||||
| tokay1 | Windows Server 2012 R2 Standard / x64 | [ OK ] | OK | OK | OK | |||||||
| merida1 | OS X 10.11.6 El Capitan / x86_64 | OK | OK | OK | OK |
| Package: ngsReports |
| Version: 1.2.0 |
| Command: C:\cygwin\bin\curl.exe -O https://malbec1.bioconductor.org/BBS/3.10/bioc/src/contrib/ngsReports_1.2.0.tar.gz && rm -rf ngsReports.buildbin-libdir && mkdir ngsReports.buildbin-libdir && C:\Users\biocbuild\bbs-3.10-bioc\R\bin\R.exe CMD INSTALL --merge-multiarch --build --library=ngsReports.buildbin-libdir ngsReports_1.2.0.tar.gz && C:\Users\biocbuild\bbs-3.10-bioc\R\bin\R.exe CMD INSTALL ngsReports_1.2.0.zip && rm ngsReports_1.2.0.tar.gz ngsReports_1.2.0.zip |
| StartedAt: 2020-04-14 20:24:47 -0400 (Tue, 14 Apr 2020) |
| EndedAt: 2020-04-14 20:27:28 -0400 (Tue, 14 Apr 2020) |
| EllapsedTime: 160.7 seconds |
| RetCode: 0 |
| Status: OK |
##############################################################################
##############################################################################
###
### Running command:
###
### C:\cygwin\bin\curl.exe -O https://malbec1.bioconductor.org/BBS/3.10/bioc/src/contrib/ngsReports_1.2.0.tar.gz && rm -rf ngsReports.buildbin-libdir && mkdir ngsReports.buildbin-libdir && C:\Users\biocbuild\bbs-3.10-bioc\R\bin\R.exe CMD INSTALL --merge-multiarch --build --library=ngsReports.buildbin-libdir ngsReports_1.2.0.tar.gz && C:\Users\biocbuild\bbs-3.10-bioc\R\bin\R.exe CMD INSTALL ngsReports_1.2.0.zip && rm ngsReports_1.2.0.tar.gz ngsReports_1.2.0.zip
###
##############################################################################
##############################################################################
% Total % Received % Xferd Average Speed Time Time Time Current
Dload Upload Total Spent Left Speed
0 0 0 0 0 0 0 0 --:--:-- --:--:-- --:--:-- 0
100 651k 100 651k 0 0 4601k 0 --:--:-- --:--:-- --:--:-- 4753k
install for i386
* installing *source* package 'ngsReports' ...
** using staged installation
** R
** data
*** moving datasets to lazyload DB
** inst
** byte-compile and prepare package for lazy loading
** help
*** installing help indices
converting help for package 'ngsReports'
finding HTML links ... done
FastqcData html
FastqcDataList html
PwfCols-class html
TheoreticalGC-class html
dot-FastqcFile-class html
dot-addPercent html
dot-emptyPlot html
dot-getToolName html
dot-hidePWFRects html
dot-isValidAdapterRemovalLog html
dot-isValidBowtieLog html
dot-isValidBuscoLog html
dot-isValidCutadaptLog html
dot-isValidDuplicationMetricsLog html
dot-isValidFeatureCountsLog html
dot-isValidFlagstatLog html
dot-isValidHisat2Log html
dot-isValidQuastLog html
dot-isValidStarLog html
dot-isValidTrimmomaticLog html
dot-makeDendro html
dot-makeLabels html
dot-makeSidebar html
dot-parseAdapterRemovalLogs html
dot-parseBowtieLogs html
dot-parseBuscoLogs html
dot-parseCutadaptLogs html
dot-parseDuplicationMetricsLogs html
dot-parseFeatureCountsLogs html
dot-parseFlagstatLogs html
dot-parseHisat2Logs html
dot-parseQuastLogs html
dot-parseStarLogs html
dot-parseTrimmomaticLogs html
dot-renderDendro html
dot-scale_fill_pwf html
dot-splitByTab html
estGcDistn html
extract-methods html
fqName-methods html
fqcVersion html
gcAvail html
gcTheoretical html
getColours-methods html
getGC html
getModule html
getSummary html
importNgsLogs html
isCompressed html
mData html
maxAdapterContent html
overRep2Fasta-methods html
path html
plotAdapterContent-methods html
plotAlignmentSummary html
plotAssemblyStats html
plotBaseQuals-methods html
plotDupLevels-methods html
plotFastqcPCA-methods html
plotGcContent-methods html
plotKmers-methods html
plotNContent-methods html
plotOverrep-methods html
plotReadTotals-methods html
plotSeqContent-methods html
plotSeqLengthDistn-methods html
plotSeqQuals-methods html
plotSummary-methods html
pwf html
readTotals html
runFastQC-methods html
writeHtmlReport html
** building package indices
** installing vignettes
** testing if installed package can be loaded from temporary location
** testing if installed package can be loaded from final location
** testing if installed package keeps a record of temporary installation path
install for x64
* installing *source* package 'ngsReports' ...
** testing if installed package can be loaded
* MD5 sums
packaged installation of 'ngsReports' as ngsReports_1.2.0.zip
* DONE (ngsReports)
* installing to library 'C:/Users/biocbuild/bbs-3.10-bioc/R/library'
package 'ngsReports' successfully unpacked and MD5 sums checked