| Back to Multiple platform build/check report for BioC 3.10 |
|
This page was generated on 2020-04-15 12:17:48 -0400 (Wed, 15 Apr 2020).
| Package 1141/1823 | Hostname | OS / Arch | INSTALL | BUILD | CHECK | BUILD BIN | ||||||
| nem 2.60.0 Holger Froehlich
| malbec1 | Linux (Ubuntu 18.04.4 LTS) / x86_64 | OK | OK | WARNINGS | |||||||
| tokay1 | Windows Server 2012 R2 Standard / x64 | [ OK ] | OK | WARNINGS | OK | |||||||
| merida1 | OS X 10.11.6 El Capitan / x86_64 | OK | OK | WARNINGS | OK |
| Package: nem |
| Version: 2.60.0 |
| Command: C:\cygwin\bin\curl.exe -O https://malbec1.bioconductor.org/BBS/3.10/bioc/src/contrib/nem_2.60.0.tar.gz && rm -rf nem.buildbin-libdir && mkdir nem.buildbin-libdir && C:\Users\biocbuild\bbs-3.10-bioc\R\bin\R.exe CMD INSTALL --merge-multiarch --build --library=nem.buildbin-libdir nem_2.60.0.tar.gz && C:\Users\biocbuild\bbs-3.10-bioc\R\bin\R.exe CMD INSTALL nem_2.60.0.zip && rm nem_2.60.0.tar.gz nem_2.60.0.zip |
| StartedAt: 2020-04-14 20:21:09 -0400 (Tue, 14 Apr 2020) |
| EndedAt: 2020-04-14 20:22:03 -0400 (Tue, 14 Apr 2020) |
| EllapsedTime: 53.2 seconds |
| RetCode: 0 |
| Status: OK |
##############################################################################
##############################################################################
###
### Running command:
###
### C:\cygwin\bin\curl.exe -O https://malbec1.bioconductor.org/BBS/3.10/bioc/src/contrib/nem_2.60.0.tar.gz && rm -rf nem.buildbin-libdir && mkdir nem.buildbin-libdir && C:\Users\biocbuild\bbs-3.10-bioc\R\bin\R.exe CMD INSTALL --merge-multiarch --build --library=nem.buildbin-libdir nem_2.60.0.tar.gz && C:\Users\biocbuild\bbs-3.10-bioc\R\bin\R.exe CMD INSTALL nem_2.60.0.zip && rm nem_2.60.0.tar.gz nem_2.60.0.zip
###
##############################################################################
##############################################################################
% Total % Received % Xferd Average Speed Time Time Time Current
Dload Upload Total Spent Left Speed
0 0 0 0 0 0 0 0 --:--:-- --:--:-- --:--:-- 0
2 4182k 2 112k 0 0 358k 0 0:00:11 --:--:-- 0:00:11 362k
100 4182k 100 4182k 0 0 6226k 0 --:--:-- --:--:-- --:--:-- 6252k
install for i386
* installing *source* package 'nem' ...
** using staged installation
** libs
C:/Rtools/mingw_32/bin/gcc -I"C:/Users/BIOCBU~1/BBS-3~1.10-/R/include" -DNDEBUG -I"C:/extsoft/include" -O3 -Wall -std=gnu99 -mtune=core2 -c MCMC.c -o MCMC.o
MCMC.c: In function 'network_likelihood':
MCMC.c:116:62: warning: suggest parentheses around comparison in operand of '&' [-Wparentheses]
if(egene_prior[i][s] > 0 & s < nsgenes){
^
MCMC.c:125:27: warning: suggest parentheses around comparison in operand of '&' [-Wparentheses]
if(egene_prior[i][s] > 0 & s == nsgenes){ // virtual "null" S-gene (not connected to any other S-gene, never perturbed) ==> automatic E-gene selection
^
MCMC.c: In function 'MCMCrun':
MCMC.c:403:10: warning: unused variable 'stored2' [-Wunused-variable]
long stored2 = 0;
^
MCMC.c:402:10: warning: unused variable 'stored' [-Wunused-variable]
long stored = 0;
^
MCMC.c:359:35: warning: unused variable 'mutinf' [-Wunused-variable]
double loglikMean, loglikSum, mutinf, delta, logPrior_cur_scale;
^
MCMC.c: In function 'network_likelihood':
MCMC.c:108:6: warning: 'max_loglik0_idx' may be used uninitialized in this function [-Wmaybe-uninitialized]
int max_loglik0_idx;
^
MCMC.c: In function 'MCMCrun':
MCMC.c:455:12: warning: 'delta_poss_operations' may be used uninitialized in this function [-Wmaybe-uninitialized]
hfactor = updateFactor(likLogOld, logPriorOld, logPriorScale, likelihood, logPrior_cur, logPrior_cur_scale, n_neighbors, n_neighbors + delta_poss_operations);
^
MCMC.c:28:48: warning: 'logPrior_cur' may be used uninitialized in this function [-Wmaybe-uninitialized]
return((likLogNew - likLogOld) + (logPriorNew - logPriorOld) + (logPriorScaleNew - logPriorScaleOld) + (log((double)oldNeighborhood) - log((double)newNeighborhood))); // hastings ratio ### Modified to handle Prior information
^
MCMC.c:407:24: note: 'logPrior_cur' was declared here
double likelihood, logPrior_cur, priorScale_new;
^
MCMC.c:28:20: warning: 'likelihood' may be used uninitialized in this function [-Wmaybe-uninitialized]
return((likLogNew - likLogOld) + (logPriorNew - logPriorOld) + (logPriorScaleNew - logPriorScaleOld) + (log((double)oldNeighborhood) - log((double)newNeighborhood))); // hastings ratio ### Modified to handle Prior information
^
MCMC.c:407:12: note: 'likelihood' was declared here
double likelihood, logPrior_cur, priorScale_new;
^
C:/Rtools/mingw_32/bin/gcc -I"C:/Users/BIOCBU~1/BBS-3~1.10-/R/include" -DNDEBUG -I"C:/extsoft/include" -O3 -Wall -std=gnu99 -mtune=core2 -c netlearn.c -o netlearn.o
netlearn.c: In function 'learn_network':
netlearn.c:168:9: warning: unused variable 'lik_switch' [-Wunused-variable]
double lik_switch;
^
C:/Rtools/mingw_32/bin/gcc -I"C:/Users/BIOCBU~1/BBS-3~1.10-/R/include" -DNDEBUG -I"C:/extsoft/include" -O3 -Wall -std=gnu99 -mtune=core2 -c wrapper.c -o wrapper.o
wrapper.c: In function 'MCMCrunWrapper':
wrapper.c:107:27: warning: suggest parentheses around comparison in operand of '&' [-Wparentheses]
int useMCMC = (sample > 0 & burnin > 0);
^
C:/Rtools/mingw_32/bin/gcc -shared -s -static-libgcc -o nem.dll tmp.def MCMC.o netlearn.o wrapper.o -LC:/extsoft/lib/i386 -LC:/extsoft/lib -LC:/Users/BIOCBU~1/BBS-3~1.10-/R/bin/i386 -lR
installing to C:/Users/biocbuild/bbs-3.10-bioc/meat/nem.buildbin-libdir/00LOCK-nem/00new/nem/libs/i386
** R
** data
** inst
** byte-compile and prepare package for lazy loading
** help
*** installing help indices
converting help for package 'nem'
finding HTML links ... done
BFSlevel html
BoutrosRNAi2002 html
Ivanova2006RNAiTimeSeries html
NiederbergerMediator2012 html
SCCgraph html
SahinRNAi2008 html
closest.transitive.greedy html
enumerate.models html
generateNetwork html
getDensityMatrix html
infer.edge.type html
internal html
local.model.prior html
nem html
nem.bootstrap html
nem.calcSignificance html
nem.consensus html
nem.cont.preprocess html
nem.discretize html
nem.jackknife html
nemModelSelection html
network.AIC html
plot.nem html
plotEffects html
prior.EgeneAttach.EB html
prune.graph html
quicknem html
selectEGenes html
set.default.parameters html
sim.intervention html
subsets html
transitive.closure html
transitive.projections html
transitive.reduction html
** building package indices
** installing vignettes
'nem.Rnw' using 'latin1'
** testing if installed package can be loaded from temporary location
** testing if installed package can be loaded from final location
** testing if installed package keeps a record of temporary installation path
install for x64
* installing *source* package 'nem' ...
** libs
C:/Rtools/mingw_64/bin/gcc -I"C:/Users/BIOCBU~1/BBS-3~1.10-/R/include" -DNDEBUG -I"C:/extsoft/include" -O2 -Wall -std=gnu99 -mtune=core2 -c MCMC.c -o MCMC.o
MCMC.c: In function 'network_likelihood':
MCMC.c:116:62: warning: suggest parentheses around comparison in operand of '&' [-Wparentheses]
if(egene_prior[i][s] > 0 & s < nsgenes){
^
MCMC.c:125:27: warning: suggest parentheses around comparison in operand of '&' [-Wparentheses]
if(egene_prior[i][s] > 0 & s == nsgenes){ // virtual "null" S-gene (not connected to any other S-gene, never perturbed) ==> automatic E-gene selection
^
MCMC.c: In function 'MCMCrun':
MCMC.c:403:10: warning: unused variable 'stored2' [-Wunused-variable]
long stored2 = 0;
^
MCMC.c:402:10: warning: unused variable 'stored' [-Wunused-variable]
long stored = 0;
^
MCMC.c:359:35: warning: unused variable 'mutinf' [-Wunused-variable]
double loglikMean, loglikSum, mutinf, delta, logPrior_cur_scale;
^
MCMC.c: In function 'network_likelihood':
MCMC.c:108:6: warning: 'max_loglik0_idx' may be used uninitialized in this function [-Wmaybe-uninitialized]
int max_loglik0_idx;
^
MCMC.c: In function 'MCMCrun':
MCMC.c:455:12: warning: 'delta_poss_operations' may be used uninitialized in this function [-Wmaybe-uninitialized]
hfactor = updateFactor(likLogOld, logPriorOld, logPriorScale, likelihood, logPrior_cur, logPrior_cur_scale, n_neighbors, n_neighbors + delta_poss_operations);
^
MCMC.c:455:10: warning: 'logPrior_cur' may be used uninitialized in this function [-Wmaybe-uninitialized]
hfactor = updateFactor(likLogOld, logPriorOld, logPriorScale, likelihood, logPrior_cur, logPrior_cur_scale, n_neighbors, n_neighbors + delta_poss_operations);
^
MCMC.c:455:10: warning: 'likelihood' may be used uninitialized in this function [-Wmaybe-uninitialized]
C:/Rtools/mingw_64/bin/gcc -I"C:/Users/BIOCBU~1/BBS-3~1.10-/R/include" -DNDEBUG -I"C:/extsoft/include" -O2 -Wall -std=gnu99 -mtune=core2 -c netlearn.c -o netlearn.o
netlearn.c: In function 'learn_network':
netlearn.c:168:9: warning: unused variable 'lik_switch' [-Wunused-variable]
double lik_switch;
^
C:/Rtools/mingw_64/bin/gcc -I"C:/Users/BIOCBU~1/BBS-3~1.10-/R/include" -DNDEBUG -I"C:/extsoft/include" -O2 -Wall -std=gnu99 -mtune=core2 -c wrapper.c -o wrapper.o
wrapper.c: In function 'MCMCrunWrapper':
wrapper.c:107:27: warning: suggest parentheses around comparison in operand of '&' [-Wparentheses]
int useMCMC = (sample > 0 & burnin > 0);
^
C:/Rtools/mingw_64/bin/gcc -shared -s -static-libgcc -o nem.dll tmp.def MCMC.o netlearn.o wrapper.o -LC:/extsoft/lib/x64 -LC:/extsoft/lib -LC:/Users/BIOCBU~1/BBS-3~1.10-/R/bin/x64 -lR
installing to C:/Users/biocbuild/bbs-3.10-bioc/meat/nem.buildbin-libdir/nem/libs/x64
** testing if installed package can be loaded
* MD5 sums
packaged installation of 'nem' as nem_2.60.0.zip
* DONE (nem)
* installing to library 'C:/Users/biocbuild/bbs-3.10-bioc/R/library'
package 'nem' successfully unpacked and MD5 sums checked