| Back to Multiple platform build/check report for BioC 3.10 |
|
This page was generated on 2020-04-15 12:32:51 -0400 (Wed, 15 Apr 2020).
| Package 1137/1823 | Hostname | OS / Arch | INSTALL | BUILD | CHECK | BUILD BIN | ||||||
| ncGTW 1.0.0 Chiung-Ting Wu
| malbec1 | Linux (Ubuntu 18.04.4 LTS) / x86_64 | OK | OK | OK | |||||||
| tokay1 | Windows Server 2012 R2 Standard / x64 | [ OK ] | OK | OK | OK | |||||||
| merida1 | OS X 10.11.6 El Capitan / x86_64 | OK | OK | OK | OK |
| Package: ncGTW |
| Version: 1.0.0 |
| Command: C:\cygwin\bin\curl.exe -O https://malbec1.bioconductor.org/BBS/3.10/bioc/src/contrib/ncGTW_1.0.0.tar.gz && rm -rf ncGTW.buildbin-libdir && mkdir ncGTW.buildbin-libdir && C:\Users\biocbuild\bbs-3.10-bioc\R\bin\R.exe CMD INSTALL --merge-multiarch --build --library=ncGTW.buildbin-libdir ncGTW_1.0.0.tar.gz && C:\Users\biocbuild\bbs-3.10-bioc\R\bin\R.exe CMD INSTALL ncGTW_1.0.0.zip && rm ncGTW_1.0.0.tar.gz ncGTW_1.0.0.zip |
| StartedAt: 2020-04-14 19:50:08 -0400 (Tue, 14 Apr 2020) |
| EndedAt: 2020-04-14 19:51:24 -0400 (Tue, 14 Apr 2020) |
| EllapsedTime: 75.4 seconds |
| RetCode: 0 |
| Status: OK |
##############################################################################
##############################################################################
###
### Running command:
###
### C:\cygwin\bin\curl.exe -O https://malbec1.bioconductor.org/BBS/3.10/bioc/src/contrib/ncGTW_1.0.0.tar.gz && rm -rf ncGTW.buildbin-libdir && mkdir ncGTW.buildbin-libdir && C:\Users\biocbuild\bbs-3.10-bioc\R\bin\R.exe CMD INSTALL --merge-multiarch --build --library=ncGTW.buildbin-libdir ncGTW_1.0.0.tar.gz && C:\Users\biocbuild\bbs-3.10-bioc\R\bin\R.exe CMD INSTALL ncGTW_1.0.0.zip && rm ncGTW_1.0.0.tar.gz ncGTW_1.0.0.zip
###
##############################################################################
##############################################################################
% Total % Received % Xferd Average Speed Time Time Time Current
Dload Upload Total Spent Left Speed
0 0 0 0 0 0 0 0 --:--:-- --:--:-- --:--:-- 0
100 1368k 100 1368k 0 0 5371k 0 --:--:-- --:--:-- --:--:-- 5450k
install for i386
* installing *source* package 'ncGTW' ...
** using staged installation
** libs
C:/Rtools/mingw_32/bin/g++ -std=gnu++11 -I"C:/Users/BIOCBU~1/BBS-3~1.10-/R/include" -DNDEBUG -I"C:/Users/biocbuild/bbs-3.10-bioc/R/library/Rcpp/include" -I"C:/extsoft/include" -O2 -Wall -mtune=core2 -c RcppExports.cpp -o RcppExports.o
C:/Rtools/mingw_32/bin/g++ -std=gnu++11 -I"C:/Users/BIOCBU~1/BBS-3~1.10-/R/include" -DNDEBUG -I"C:/Users/biocbuild/bbs-3.10-bioc/R/library/Rcpp/include" -I"C:/extsoft/include" -O2 -Wall -mtune=core2 -c graphCut.cpp -o graphCut.o
C:/Rtools/mingw_32/bin/g++ -std=gnu++11 -I"C:/Users/BIOCBU~1/BBS-3~1.10-/R/include" -DNDEBUG -I"C:/Users/biocbuild/bbs-3.10-bioc/R/library/Rcpp/include" -I"C:/extsoft/include" -O2 -Wall -mtune=core2 -c ibfs.cpp -o ibfs.o
C:/Rtools/mingw_32/bin/g++ -std=gnu++11 -shared -s -static-libgcc -o ncGTW.dll tmp.def RcppExports.o graphCut.o ibfs.o -LC:/extsoft/lib/i386 -LC:/extsoft/lib -LC:/Users/BIOCBU~1/BBS-3~1.10-/R/bin/i386 -lR
installing to C:/Users/biocbuild/bbs-3.10-bioc/meat/ncGTW.buildbin-libdir/00LOCK-ncGTW/00new/ncGTW/libs/i386
** R
** data
*** moving datasets to lazyload DB
** inst
** byte-compile and prepare package for lazy loading
** help
*** installing help indices
converting help for package 'ncGTW'
finding HTML links ... done
adjustRT html
compCV html
fillPeaksChromPar html
getPeaksncGTW html
loadProfile html
meanCorOl html
misalignDetect html
ncGTW-package html
ncGTWalign html
ncGTWinput-accessors html
ncGTWinput-class html
ncGTWoutput-accessors html
ncGTWoutput-class html
ncGTWparam-class html
ncGTWwarp-accessors html
ncGTWwarp-class html
plotGroup html
xcmsExamples html
** building package indices
** installing vignettes
** testing if installed package can be loaded from temporary location
** testing if installed package can be loaded from final location
** testing if installed package keeps a record of temporary installation path
install for x64
* installing *source* package 'ncGTW' ...
** libs
C:/Rtools/mingw_64/bin/g++ -std=gnu++11 -I"C:/Users/BIOCBU~1/BBS-3~1.10-/R/include" -DNDEBUG -I"C:/Users/biocbuild/bbs-3.10-bioc/R/library/Rcpp/include" -I"C:/extsoft/include" -O2 -Wall -mtune=core2 -c RcppExports.cpp -o RcppExports.o
C:/Rtools/mingw_64/bin/g++ -std=gnu++11 -I"C:/Users/BIOCBU~1/BBS-3~1.10-/R/include" -DNDEBUG -I"C:/Users/biocbuild/bbs-3.10-bioc/R/library/Rcpp/include" -I"C:/extsoft/include" -O2 -Wall -mtune=core2 -c graphCut.cpp -o graphCut.o
C:/Rtools/mingw_64/bin/g++ -std=gnu++11 -I"C:/Users/BIOCBU~1/BBS-3~1.10-/R/include" -DNDEBUG -I"C:/Users/biocbuild/bbs-3.10-bioc/R/library/Rcpp/include" -I"C:/extsoft/include" -O2 -Wall -mtune=core2 -c ibfs.cpp -o ibfs.o
C:/Rtools/mingw_64/bin/g++ -std=gnu++11 -shared -s -static-libgcc -o ncGTW.dll tmp.def RcppExports.o graphCut.o ibfs.o -LC:/extsoft/lib/x64 -LC:/extsoft/lib -LC:/Users/BIOCBU~1/BBS-3~1.10-/R/bin/x64 -lR
installing to C:/Users/biocbuild/bbs-3.10-bioc/meat/ncGTW.buildbin-libdir/ncGTW/libs/x64
** testing if installed package can be loaded
* MD5 sums
packaged installation of 'ncGTW' as ncGTW_1.0.0.zip
* DONE (ncGTW)
* installing to library 'C:/Users/biocbuild/bbs-3.10-bioc/R/library'
package 'ncGTW' successfully unpacked and MD5 sums checked