| Back to Multiple platform build/check report for BioC 3.10 |
|
This page was generated on 2020-04-15 12:22:07 -0400 (Wed, 15 Apr 2020).
| Package 1127/1823 | Hostname | OS / Arch | INSTALL | BUILD | CHECK | BUILD BIN | ||||||
| mzID 1.24.0 Laurent Gatto
| malbec1 | Linux (Ubuntu 18.04.4 LTS) / x86_64 | OK | OK | OK | |||||||
| tokay1 | Windows Server 2012 R2 Standard / x64 | [ OK ] | OK | WARNINGS | OK | |||||||
| merida1 | OS X 10.11.6 El Capitan / x86_64 | OK | OK | OK | OK |
| Package: mzID |
| Version: 1.24.0 |
| Command: C:\cygwin\bin\curl.exe -O https://malbec1.bioconductor.org/BBS/3.10/bioc/src/contrib/mzID_1.24.0.tar.gz && rm -rf mzID.buildbin-libdir && mkdir mzID.buildbin-libdir && C:\Users\biocbuild\bbs-3.10-bioc\R\bin\R.exe CMD INSTALL --merge-multiarch --build --library=mzID.buildbin-libdir mzID_1.24.0.tar.gz && C:\Users\biocbuild\bbs-3.10-bioc\R\bin\R.exe CMD INSTALL mzID_1.24.0.zip && rm mzID_1.24.0.tar.gz mzID_1.24.0.zip |
| StartedAt: 2020-04-14 18:33:34 -0400 (Tue, 14 Apr 2020) |
| EndedAt: 2020-04-14 18:34:16 -0400 (Tue, 14 Apr 2020) |
| EllapsedTime: 42.1 seconds |
| RetCode: 0 |
| Status: OK |
##############################################################################
##############################################################################
###
### Running command:
###
### C:\cygwin\bin\curl.exe -O https://malbec1.bioconductor.org/BBS/3.10/bioc/src/contrib/mzID_1.24.0.tar.gz && rm -rf mzID.buildbin-libdir && mkdir mzID.buildbin-libdir && C:\Users\biocbuild\bbs-3.10-bioc\R\bin\R.exe CMD INSTALL --merge-multiarch --build --library=mzID.buildbin-libdir mzID_1.24.0.tar.gz && C:\Users\biocbuild\bbs-3.10-bioc\R\bin\R.exe CMD INSTALL mzID_1.24.0.zip && rm mzID_1.24.0.tar.gz mzID_1.24.0.zip
###
##############################################################################
##############################################################################
% Total % Received % Xferd Average Speed Time Time Time Current
Dload Upload Total Spent Left Speed
0 0 0 0 0 0 0 0 --:--:-- --:--:-- --:--:-- 0
100 485k 100 485k 0 0 14.2M 0 --:--:-- --:--:-- --:--:-- 15.8M
install for i386
* installing *source* package 'mzID' ...
** using staged installation
** R
** inst
** byte-compile and prepare package for lazy loading
** help
*** installing help indices
converting help for package 'mzID'
finding HTML links ... done
flatten html
increment html
keyFor html
mzID-class html
mzID-getters html
mzID-package html
mzID html
mzIDCollection-class html
mzIDCollection html
mzIDdatabase-class html
mzIDdatabase html
Rd warning: C:/Users/biocbuild/bbs-3.10-bioc/tmpdir/RtmpCkIHaW/R.INSTALL13c810967b4/mzID/man/mzIDdatabase.Rd:11: file link 'xmlInternalTreeParse' in package 'XML' does not exist and so has been treated as a topic
mzIDevidence-class html
mzIDevidence html
Rd warning: C:/Users/biocbuild/bbs-3.10-bioc/tmpdir/RtmpCkIHaW/R.INSTALL13c810967b4/mzID/man/mzIDevidence.Rd:11: file link 'xmlInternalTreeParse' in package 'XML' does not exist and so has been treated as a topic
mzIDparameters-class html
mzIDparameters html
Rd warning: C:/Users/biocbuild/bbs-3.10-bioc/tmpdir/RtmpCkIHaW/R.INSTALL13c810967b4/mzID/man/mzIDparameters.Rd:11: file link 'xmlInternalTreeParse' in package 'XML' does not exist and so has been treated as a topic
mzIDpeptides-class html
mzIDpeptides html
Rd warning: C:/Users/biocbuild/bbs-3.10-bioc/tmpdir/RtmpCkIHaW/R.INSTALL13c810967b4/mzID/man/mzIDpeptides.Rd:11: file link 'xmlInternalTreeParse' in package 'XML' does not exist and so has been treated as a topic
mzIDpsm-class html
mzIDpsm html
Rd warning: C:/Users/biocbuild/bbs-3.10-bioc/tmpdir/RtmpCkIHaW/R.INSTALL13c810967b4/mzID/man/mzIDpsm.Rd:11: file link 'xmlInternalTreeParse' in package 'XML' does not exist and so has been treated as a topic
removeDecoy html
** building package indices
** installing vignettes
** testing if installed package can be loaded from temporary location
** testing if installed package can be loaded from final location
** testing if installed package keeps a record of temporary installation path
install for x64
* installing *source* package 'mzID' ...
** testing if installed package can be loaded
* MD5 sums
packaged installation of 'mzID' as mzID_1.24.0.zip
* DONE (mzID)
* installing to library 'C:/Users/biocbuild/bbs-3.10-bioc/R/library'
package 'mzID' successfully unpacked and MD5 sums checked