| Back to Multiple platform build/check report for BioC 3.10 |
|
This page was generated on 2020-04-15 12:29:05 -0400 (Wed, 15 Apr 2020).
| Package 1116/1823 | Hostname | OS / Arch | INSTALL | BUILD | CHECK | BUILD BIN | ||||||
| multiMiR 1.8.0 Matt Mulvahill
| malbec1 | Linux (Ubuntu 18.04.4 LTS) / x86_64 | OK | OK | OK | |||||||
| tokay1 | Windows Server 2012 R2 Standard / x64 | [ OK ] | OK | OK | OK | |||||||
| merida1 | OS X 10.11.6 El Capitan / x86_64 | OK | OK | OK | OK |
| Package: multiMiR |
| Version: 1.8.0 |
| Command: C:\cygwin\bin\curl.exe -O https://malbec1.bioconductor.org/BBS/3.10/bioc/src/contrib/multiMiR_1.8.0.tar.gz && rm -rf multiMiR.buildbin-libdir && mkdir multiMiR.buildbin-libdir && C:\Users\biocbuild\bbs-3.10-bioc\R\bin\R.exe CMD INSTALL --merge-multiarch --build --library=multiMiR.buildbin-libdir multiMiR_1.8.0.tar.gz && C:\Users\biocbuild\bbs-3.10-bioc\R\bin\R.exe CMD INSTALL multiMiR_1.8.0.zip && rm multiMiR_1.8.0.tar.gz multiMiR_1.8.0.zip |
| StartedAt: 2020-04-14 18:46:39 -0400 (Tue, 14 Apr 2020) |
| EndedAt: 2020-04-14 18:48:05 -0400 (Tue, 14 Apr 2020) |
| EllapsedTime: 86.7 seconds |
| RetCode: 0 |
| Status: OK |
##############################################################################
##############################################################################
###
### Running command:
###
### C:\cygwin\bin\curl.exe -O https://malbec1.bioconductor.org/BBS/3.10/bioc/src/contrib/multiMiR_1.8.0.tar.gz && rm -rf multiMiR.buildbin-libdir && mkdir multiMiR.buildbin-libdir && C:\Users\biocbuild\bbs-3.10-bioc\R\bin\R.exe CMD INSTALL --merge-multiarch --build --library=multiMiR.buildbin-libdir multiMiR_1.8.0.tar.gz && C:\Users\biocbuild\bbs-3.10-bioc\R\bin\R.exe CMD INSTALL multiMiR_1.8.0.zip && rm multiMiR_1.8.0.tar.gz multiMiR_1.8.0.zip
###
##############################################################################
##############################################################################
% Total % Received % Xferd Average Speed Time Time Time Current
Dload Upload Total Spent Left Speed
0 0 0 0 0 0 0 0 --:--:-- --:--:-- --:--:-- 0
100 50714 100 50714 0 0 1271k 0 --:--:-- --:--:-- --:--:-- 1415k
install for i386
* installing *source* package 'multiMiR' ...
** using staged installation
** R
** inst
** byte-compile and prepare package for lazy loading
** help
*** installing help indices
converting help for package 'multiMiR'
finding HTML links ... done
add.multimir.links html
all_tables html
as.mmquery html
as_mmsql_components html
build_mmsql html
default_cutoff html
deprecate_arg html
extract_mmquery html
get.multimir.cutoffs html
get_multimir html
list_multimir html
mmquery_bioc-class html
multiMiR html
multimir.summary html
multimir_dbInfo html
multimir_switchDBVersion html
null_to_df html
pad html
parens_quote html
parens_wrap html
parse_orgs html
parse_response html
query_multimir html
quote_wrap html
remove_empty_strings html
remove_table html
search_multimir html
split_by html
sql_org html
sql_validated html
submit_request html
** building package indices
** installing vignettes
** testing if installed package can be loaded from temporary location
** testing if installed package can be loaded from final location
** testing if installed package keeps a record of temporary installation path
install for x64
* installing *source* package 'multiMiR' ...
** testing if installed package can be loaded
* MD5 sums
packaged installation of 'multiMiR' as multiMiR_1.8.0.zip
* DONE (multiMiR)
* installing to library 'C:/Users/biocbuild/bbs-3.10-bioc/R/library'
package 'multiMiR' successfully unpacked and MD5 sums checked