| Back to Multiple platform build/check report for BioC 3.10 |
|
This page was generated on 2020-04-15 12:28:27 -0400 (Wed, 15 Apr 2020).
| Package 1096/1823 | Hostname | OS / Arch | INSTALL | BUILD | CHECK | BUILD BIN | ||||||
| msgbsR 1.10.0 Benjamin Mayne
| malbec1 | Linux (Ubuntu 18.04.4 LTS) / x86_64 | OK | OK | WARNINGS | |||||||
| tokay1 | Windows Server 2012 R2 Standard / x64 | [ OK ] | OK | WARNINGS | OK | |||||||
| merida1 | OS X 10.11.6 El Capitan / x86_64 | OK | OK | WARNINGS | OK |
| Package: msgbsR |
| Version: 1.10.0 |
| Command: C:\cygwin\bin\curl.exe -O https://malbec1.bioconductor.org/BBS/3.10/bioc/src/contrib/msgbsR_1.10.0.tar.gz && rm -rf msgbsR.buildbin-libdir && mkdir msgbsR.buildbin-libdir && C:\Users\biocbuild\bbs-3.10-bioc\R\bin\R.exe CMD INSTALL --merge-multiarch --build --library=msgbsR.buildbin-libdir msgbsR_1.10.0.tar.gz && C:\Users\biocbuild\bbs-3.10-bioc\R\bin\R.exe CMD INSTALL msgbsR_1.10.0.zip && rm msgbsR_1.10.0.tar.gz msgbsR_1.10.0.zip |
| StartedAt: 2020-04-14 20:07:41 -0400 (Tue, 14 Apr 2020) |
| EndedAt: 2020-04-14 20:09:06 -0400 (Tue, 14 Apr 2020) |
| EllapsedTime: 85.3 seconds |
| RetCode: 0 |
| Status: OK |
##############################################################################
##############################################################################
###
### Running command:
###
### C:\cygwin\bin\curl.exe -O https://malbec1.bioconductor.org/BBS/3.10/bioc/src/contrib/msgbsR_1.10.0.tar.gz && rm -rf msgbsR.buildbin-libdir && mkdir msgbsR.buildbin-libdir && C:\Users\biocbuild\bbs-3.10-bioc\R\bin\R.exe CMD INSTALL --merge-multiarch --build --library=msgbsR.buildbin-libdir msgbsR_1.10.0.tar.gz && C:\Users\biocbuild\bbs-3.10-bioc\R\bin\R.exe CMD INSTALL msgbsR_1.10.0.zip && rm msgbsR_1.10.0.tar.gz msgbsR_1.10.0.zip
###
##############################################################################
##############################################################################
% Total % Received % Xferd Average Speed Time Time Time Current
Dload Upload Total Spent Left Speed
0 0 0 0 0 0 0 0 --:--:-- --:--:-- --:--:-- 0
100 15.3M 100 15.3M 0 0 57.6M 0 --:--:-- --:--:-- --:--:-- 58.5M
install for i386
* installing *source* package 'msgbsR' ...
** using staged installation
** R
** data
** inst
** byte-compile and prepare package for lazy loading
** help
*** installing help indices
converting help for package 'msgbsR'
finding HTML links ... done
checkCuts html
cuts html
diffMeth html
msgbsR html
plotCircos html
plotCounts html
ratdata html
ratdata2 html
rawCounts html
** building package indices
** installing vignettes
** testing if installed package can be loaded from temporary location
** testing if installed package can be loaded from final location
** testing if installed package keeps a record of temporary installation path
install for x64
* installing *source* package 'msgbsR' ...
** testing if installed package can be loaded
* MD5 sums
packaged installation of 'msgbsR' as msgbsR_1.10.0.zip
* DONE (msgbsR)
* installing to library 'C:/Users/biocbuild/bbs-3.10-bioc/R/library'
package 'msgbsR' successfully unpacked and MD5 sums checked