| Back to Multiple platform build/check report for BioC 3.10 |
|
This page was generated on 2020-04-15 12:28:10 -0400 (Wed, 15 Apr 2020).
| Package 1086/1823 | Hostname | OS / Arch | INSTALL | BUILD | CHECK | BUILD BIN | ||||||
| motifcounter 1.10.0 Wolfgang Kopp
| malbec1 | Linux (Ubuntu 18.04.4 LTS) / x86_64 | OK | OK | OK | |||||||
| tokay1 | Windows Server 2012 R2 Standard / x64 | OK | OK | OK | [ OK ] | |||||||
| merida1 | OS X 10.11.6 El Capitan / x86_64 | OK | OK | OK | OK |
| Package: motifcounter |
| Version: 1.10.0 |
| Command: rm -rf motifcounter.buildbin-libdir && mkdir motifcounter.buildbin-libdir && C:\Users\biocbuild\bbs-3.10-bioc\R\bin\R.exe CMD INSTALL --merge-multiarch --build --library=motifcounter.buildbin-libdir motifcounter_1.10.0.tar.gz |
| StartedAt: 2020-04-15 09:12:46 -0400 (Wed, 15 Apr 2020) |
| EndedAt: 2020-04-15 09:13:31 -0400 (Wed, 15 Apr 2020) |
| EllapsedTime: 44.8 seconds |
| RetCode: 0 |
| Status: OK |
| PackageFile: motifcounter_1.10.0.zip |
| PackageFileSize: 725.8 KiB |
##############################################################################
##############################################################################
###
### Running command:
###
### rm -rf motifcounter.buildbin-libdir && mkdir motifcounter.buildbin-libdir && C:\Users\biocbuild\bbs-3.10-bioc\R\bin\R.exe CMD INSTALL --merge-multiarch --build --library=motifcounter.buildbin-libdir motifcounter_1.10.0.tar.gz
###
##############################################################################
##############################################################################
install for i386
* installing *source* package 'motifcounter' ...
** using staged installation
** libs
C:/Rtools/mingw_32/bin/gcc -I"C:/Users/BIOCBU~1/BBS-3~1.10-/R/include" -DNDEBUG -I"C:/extsoft/include" -fopenmp -DIN_R -O3 -Wall -std=gnu99 -mtune=core2 -c Rbackground.c -o Rbackground.o
C:/Rtools/mingw_32/bin/gcc -I"C:/Users/BIOCBU~1/BBS-3~1.10-/R/include" -DNDEBUG -I"C:/extsoft/include" -fopenmp -DIN_R -O3 -Wall -std=gnu99 -mtune=core2 -c Rcombinatorial.c -o Rcombinatorial.o
C:/Rtools/mingw_32/bin/gcc -I"C:/Users/BIOCBU~1/BBS-3~1.10-/R/include" -DNDEBUG -I"C:/extsoft/include" -fopenmp -DIN_R -O3 -Wall -std=gnu99 -mtune=core2 -c Rcompoundpoisson.c -o Rcompoundpoisson.o
C:/Rtools/mingw_32/bin/gcc -I"C:/Users/BIOCBU~1/BBS-3~1.10-/R/include" -DNDEBUG -I"C:/extsoft/include" -fopenmp -DIN_R -O3 -Wall -std=gnu99 -mtune=core2 -c Rminmaxscore.c -o Rminmaxscore.o
C:/Rtools/mingw_32/bin/gcc -I"C:/Users/BIOCBU~1/BBS-3~1.10-/R/include" -DNDEBUG -I"C:/extsoft/include" -fopenmp -DIN_R -O3 -Wall -std=gnu99 -mtune=core2 -c Roption.c -o Roption.o
C:/Rtools/mingw_32/bin/gcc -I"C:/Users/BIOCBU~1/BBS-3~1.10-/R/include" -DNDEBUG -I"C:/extsoft/include" -fopenmp -DIN_R -O3 -Wall -std=gnu99 -mtune=core2 -c Roverlap.c -o Roverlap.o
C:/Rtools/mingw_32/bin/gcc -I"C:/Users/BIOCBU~1/BBS-3~1.10-/R/include" -DNDEBUG -I"C:/extsoft/include" -fopenmp -DIN_R -O3 -Wall -std=gnu99 -mtune=core2 -c Rscore1d.c -o Rscore1d.o
C:/Rtools/mingw_32/bin/gcc -I"C:/Users/BIOCBU~1/BBS-3~1.10-/R/include" -DNDEBUG -I"C:/extsoft/include" -fopenmp -DIN_R -O3 -Wall -std=gnu99 -mtune=core2 -c Rsequence.c -o Rsequence.o
Rsequence.c: In function 'RscoreHistogram':
Rsequence.c:143:21: warning: unused variable 'noscores' [-Wunused-variable]
int mins, maxs, noscores;
^
C:/Rtools/mingw_32/bin/gcc -I"C:/Users/BIOCBU~1/BBS-3~1.10-/R/include" -DNDEBUG -I"C:/extsoft/include" -fopenmp -DIN_R -O3 -Wall -std=gnu99 -mtune=core2 -c Rsimulate.c -o Rsimulate.o
C:/Rtools/mingw_32/bin/gcc -I"C:/Users/BIOCBU~1/BBS-3~1.10-/R/include" -DNDEBUG -I"C:/extsoft/include" -fopenmp -DIN_R -O3 -Wall -std=gnu99 -mtune=core2 -c background.c -o background.o
C:/Rtools/mingw_32/bin/gcc -I"C:/Users/BIOCBU~1/BBS-3~1.10-/R/include" -DNDEBUG -I"C:/extsoft/include" -fopenmp -DIN_R -O3 -Wall -std=gnu99 -mtune=core2 -c combinatorial.c -o combinatorial.o
C:/Rtools/mingw_32/bin/gcc -I"C:/Users/BIOCBU~1/BBS-3~1.10-/R/include" -DNDEBUG -I"C:/extsoft/include" -fopenmp -DIN_R -O3 -Wall -std=gnu99 -mtune=core2 -c compoundpoisson.c -o compoundpoisson.o
C:/Rtools/mingw_32/bin/gcc -I"C:/Users/BIOCBU~1/BBS-3~1.10-/R/include" -DNDEBUG -I"C:/extsoft/include" -fopenmp -DIN_R -O3 -Wall -std=gnu99 -mtune=core2 -c markovchain.c -o markovchain.o
C:/Rtools/mingw_32/bin/gcc -I"C:/Users/BIOCBU~1/BBS-3~1.10-/R/include" -DNDEBUG -I"C:/extsoft/include" -fopenmp -DIN_R -O3 -Wall -std=gnu99 -mtune=core2 -c markovchain_single.c -o markovchain_single.o
C:/Rtools/mingw_32/bin/gcc -I"C:/Users/BIOCBU~1/BBS-3~1.10-/R/include" -DNDEBUG -I"C:/extsoft/include" -fopenmp -DIN_R -O3 -Wall -std=gnu99 -mtune=core2 -c matrix.c -o matrix.o
C:/Rtools/mingw_32/bin/gcc -I"C:/Users/BIOCBU~1/BBS-3~1.10-/R/include" -DNDEBUG -I"C:/extsoft/include" -fopenmp -DIN_R -O3 -Wall -std=gnu99 -mtune=core2 -c mdist_register.c -o mdist_register.o
C:/Rtools/mingw_32/bin/gcc -I"C:/Users/BIOCBU~1/BBS-3~1.10-/R/include" -DNDEBUG -I"C:/extsoft/include" -fopenmp -DIN_R -O3 -Wall -std=gnu99 -mtune=core2 -c minmaxscore.c -o minmaxscore.o
C:/Rtools/mingw_32/bin/gcc -I"C:/Users/BIOCBU~1/BBS-3~1.10-/R/include" -DNDEBUG -I"C:/extsoft/include" -fopenmp -DIN_R -O3 -Wall -std=gnu99 -mtune=core2 -c overlap.c -o overlap.o
C:/Rtools/mingw_32/bin/gcc -I"C:/Users/BIOCBU~1/BBS-3~1.10-/R/include" -DNDEBUG -I"C:/extsoft/include" -fopenmp -DIN_R -O3 -Wall -std=gnu99 -mtune=core2 -c score1d.c -o score1d.o
C:/Rtools/mingw_32/bin/gcc -I"C:/Users/BIOCBU~1/BBS-3~1.10-/R/include" -DNDEBUG -I"C:/extsoft/include" -fopenmp -DIN_R -O3 -Wall -std=gnu99 -mtune=core2 -c score2d.c -o score2d.o
C:/Rtools/mingw_32/bin/gcc -I"C:/Users/BIOCBU~1/BBS-3~1.10-/R/include" -DNDEBUG -I"C:/extsoft/include" -fopenmp -DIN_R -O3 -Wall -std=gnu99 -mtune=core2 -c scorefunctions.c -o scorefunctions.o
scorefunctions.c: In function 'getPositionWeights':
scorefunctions.c:84:22: warning: unused variable 'cindex' [-Wunused-variable]
int j, i, index, cindex, ds;
^
scorefunctions.c: In function 'hitSequence':
scorefunctions.c:119:17: warning: unused variable 'cindex' [-Wunused-variable]
int s, index, cindex;
^
scorefunctions.c: In function 'scoreSequence':
scorefunctions.c:159:19: warning: unused variable 'cindex' [-Wunused-variable]
int s, index, cindex;
^
C:/Rtools/mingw_32/bin/gcc -I"C:/Users/BIOCBU~1/BBS-3~1.10-/R/include" -DNDEBUG -I"C:/extsoft/include" -fopenmp -DIN_R -O3 -Wall -std=gnu99 -mtune=core2 -c sequence.c -o sequence.o
C:/Rtools/mingw_32/bin/gcc -I"C:/Users/BIOCBU~1/BBS-3~1.10-/R/include" -DNDEBUG -I"C:/extsoft/include" -fopenmp -DIN_R -O3 -Wall -std=gnu99 -mtune=core2 -c simulate.c -o simulate.o
C:/Rtools/mingw_32/bin/gcc -shared -s -static-libgcc -o motifcounter.dll tmp.def Rbackground.o Rcombinatorial.o Rcompoundpoisson.o Rminmaxscore.o Roption.o Roverlap.o Rscore1d.o Rsequence.o Rsimulate.o background.o combinatorial.o compoundpoisson.o markovchain.o markovchain_single.o matrix.o mdist_register.o minmaxscore.o overlap.o score1d.o score2d.o scorefunctions.o sequence.o simulate.o -fopenmp -LC:/extsoft/lib/i386 -LC:/extsoft/lib -LC:/Users/BIOCBU~1/BBS-3~1.10-/R/bin/i386 -lR
installing to C:/Users/biocbuild/bbs-3.10-bioc/meat/motifcounter.buildbin-libdir/00LOCK-motifcounter/00new/motifcounter/libs/i386
** R
** inst
** byte-compile and prepare package for lazy loading
** help
*** installing help indices
converting help for package 'motifcounter'
finding HTML links ... done
Background-class html
Overlap-class html
clumpSizeDist html
combinatorialDist html
compoundPoissonDist html
computeClumpStartProb html
generateDNAString html
generateDNAStringSet html
getAlpha html
getBeta html
getBeta3p html
getBeta5p html
getCounts html
getGamma html
getOrder html
getSinglestranded html
getStation html
getTrans html
hitStrand html
lenSequences html
markovModel html
motifAndBackgroundValid html
motifEnrichment html
motifHitProfile html
motifHits html
motifValid html
motifcounter-package html
motifcounterOptions html
normalizeMotif html
numMotifHits html
probOverlapHit html
readBackground html
revcompMotif html
scoreDist html
scoreDistBf html
scoreDistEmpirical html
scoreHistogram html
scoreHistogramSingleSeq html
scoreProfile html
scoreSequence html
scoreStrand html
scoreThreshold html
sigLevel html
simulateClumpSizeDist html
simulateNumHitsDist html
** building package indices
** installing vignettes
** testing if installed package can be loaded from temporary location
** testing if installed package can be loaded from final location
** testing if installed package keeps a record of temporary installation path
install for x64
* installing *source* package 'motifcounter' ...
** libs
C:/Rtools/mingw_64/bin/gcc -I"C:/Users/BIOCBU~1/BBS-3~1.10-/R/include" -DNDEBUG -I"C:/extsoft/include" -fopenmp -DIN_R -O2 -Wall -std=gnu99 -mtune=core2 -c Rbackground.c -o Rbackground.o
C:/Rtools/mingw_64/bin/gcc -I"C:/Users/BIOCBU~1/BBS-3~1.10-/R/include" -DNDEBUG -I"C:/extsoft/include" -fopenmp -DIN_R -O2 -Wall -std=gnu99 -mtune=core2 -c Rcombinatorial.c -o Rcombinatorial.o
C:/Rtools/mingw_64/bin/gcc -I"C:/Users/BIOCBU~1/BBS-3~1.10-/R/include" -DNDEBUG -I"C:/extsoft/include" -fopenmp -DIN_R -O2 -Wall -std=gnu99 -mtune=core2 -c Rcompoundpoisson.c -o Rcompoundpoisson.o
C:/Rtools/mingw_64/bin/gcc -I"C:/Users/BIOCBU~1/BBS-3~1.10-/R/include" -DNDEBUG -I"C:/extsoft/include" -fopenmp -DIN_R -O2 -Wall -std=gnu99 -mtune=core2 -c Rminmaxscore.c -o Rminmaxscore.o
C:/Rtools/mingw_64/bin/gcc -I"C:/Users/BIOCBU~1/BBS-3~1.10-/R/include" -DNDEBUG -I"C:/extsoft/include" -fopenmp -DIN_R -O2 -Wall -std=gnu99 -mtune=core2 -c Roption.c -o Roption.o
C:/Rtools/mingw_64/bin/gcc -I"C:/Users/BIOCBU~1/BBS-3~1.10-/R/include" -DNDEBUG -I"C:/extsoft/include" -fopenmp -DIN_R -O2 -Wall -std=gnu99 -mtune=core2 -c Roverlap.c -o Roverlap.o
C:/Rtools/mingw_64/bin/gcc -I"C:/Users/BIOCBU~1/BBS-3~1.10-/R/include" -DNDEBUG -I"C:/extsoft/include" -fopenmp -DIN_R -O2 -Wall -std=gnu99 -mtune=core2 -c Rscore1d.c -o Rscore1d.o
C:/Rtools/mingw_64/bin/gcc -I"C:/Users/BIOCBU~1/BBS-3~1.10-/R/include" -DNDEBUG -I"C:/extsoft/include" -fopenmp -DIN_R -O2 -Wall -std=gnu99 -mtune=core2 -c Rsequence.c -o Rsequence.o
Rsequence.c: In function 'RscoreHistogram':
Rsequence.c:143:21: warning: unused variable 'noscores' [-Wunused-variable]
int mins, maxs, noscores;
^
C:/Rtools/mingw_64/bin/gcc -I"C:/Users/BIOCBU~1/BBS-3~1.10-/R/include" -DNDEBUG -I"C:/extsoft/include" -fopenmp -DIN_R -O2 -Wall -std=gnu99 -mtune=core2 -c Rsimulate.c -o Rsimulate.o
C:/Rtools/mingw_64/bin/gcc -I"C:/Users/BIOCBU~1/BBS-3~1.10-/R/include" -DNDEBUG -I"C:/extsoft/include" -fopenmp -DIN_R -O2 -Wall -std=gnu99 -mtune=core2 -c background.c -o background.o
C:/Rtools/mingw_64/bin/gcc -I"C:/Users/BIOCBU~1/BBS-3~1.10-/R/include" -DNDEBUG -I"C:/extsoft/include" -fopenmp -DIN_R -O2 -Wall -std=gnu99 -mtune=core2 -c combinatorial.c -o combinatorial.o
C:/Rtools/mingw_64/bin/gcc -I"C:/Users/BIOCBU~1/BBS-3~1.10-/R/include" -DNDEBUG -I"C:/extsoft/include" -fopenmp -DIN_R -O2 -Wall -std=gnu99 -mtune=core2 -c compoundpoisson.c -o compoundpoisson.o
C:/Rtools/mingw_64/bin/gcc -I"C:/Users/BIOCBU~1/BBS-3~1.10-/R/include" -DNDEBUG -I"C:/extsoft/include" -fopenmp -DIN_R -O2 -Wall -std=gnu99 -mtune=core2 -c markovchain.c -o markovchain.o
C:/Rtools/mingw_64/bin/gcc -I"C:/Users/BIOCBU~1/BBS-3~1.10-/R/include" -DNDEBUG -I"C:/extsoft/include" -fopenmp -DIN_R -O2 -Wall -std=gnu99 -mtune=core2 -c markovchain_single.c -o markovchain_single.o
C:/Rtools/mingw_64/bin/gcc -I"C:/Users/BIOCBU~1/BBS-3~1.10-/R/include" -DNDEBUG -I"C:/extsoft/include" -fopenmp -DIN_R -O2 -Wall -std=gnu99 -mtune=core2 -c matrix.c -o matrix.o
C:/Rtools/mingw_64/bin/gcc -I"C:/Users/BIOCBU~1/BBS-3~1.10-/R/include" -DNDEBUG -I"C:/extsoft/include" -fopenmp -DIN_R -O2 -Wall -std=gnu99 -mtune=core2 -c mdist_register.c -o mdist_register.o
C:/Rtools/mingw_64/bin/gcc -I"C:/Users/BIOCBU~1/BBS-3~1.10-/R/include" -DNDEBUG -I"C:/extsoft/include" -fopenmp -DIN_R -O2 -Wall -std=gnu99 -mtune=core2 -c minmaxscore.c -o minmaxscore.o
C:/Rtools/mingw_64/bin/gcc -I"C:/Users/BIOCBU~1/BBS-3~1.10-/R/include" -DNDEBUG -I"C:/extsoft/include" -fopenmp -DIN_R -O2 -Wall -std=gnu99 -mtune=core2 -c overlap.c -o overlap.o
C:/Rtools/mingw_64/bin/gcc -I"C:/Users/BIOCBU~1/BBS-3~1.10-/R/include" -DNDEBUG -I"C:/extsoft/include" -fopenmp -DIN_R -O2 -Wall -std=gnu99 -mtune=core2 -c score1d.c -o score1d.o
C:/Rtools/mingw_64/bin/gcc -I"C:/Users/BIOCBU~1/BBS-3~1.10-/R/include" -DNDEBUG -I"C:/extsoft/include" -fopenmp -DIN_R -O2 -Wall -std=gnu99 -mtune=core2 -c score2d.c -o score2d.o
C:/Rtools/mingw_64/bin/gcc -I"C:/Users/BIOCBU~1/BBS-3~1.10-/R/include" -DNDEBUG -I"C:/extsoft/include" -fopenmp -DIN_R -O2 -Wall -std=gnu99 -mtune=core2 -c scorefunctions.c -o scorefunctions.o
scorefunctions.c: In function 'getPositionWeights':
scorefunctions.c:84:22: warning: unused variable 'cindex' [-Wunused-variable]
int j, i, index, cindex, ds;
^
scorefunctions.c: In function 'hitSequence':
scorefunctions.c:119:17: warning: unused variable 'cindex' [-Wunused-variable]
int s, index, cindex;
^
scorefunctions.c: In function 'scoreSequence':
scorefunctions.c:159:19: warning: unused variable 'cindex' [-Wunused-variable]
int s, index, cindex;
^
C:/Rtools/mingw_64/bin/gcc -I"C:/Users/BIOCBU~1/BBS-3~1.10-/R/include" -DNDEBUG -I"C:/extsoft/include" -fopenmp -DIN_R -O2 -Wall -std=gnu99 -mtune=core2 -c sequence.c -o sequence.o
C:/Rtools/mingw_64/bin/gcc -I"C:/Users/BIOCBU~1/BBS-3~1.10-/R/include" -DNDEBUG -I"C:/extsoft/include" -fopenmp -DIN_R -O2 -Wall -std=gnu99 -mtune=core2 -c simulate.c -o simulate.o
C:/Rtools/mingw_64/bin/gcc -shared -s -static-libgcc -o motifcounter.dll tmp.def Rbackground.o Rcombinatorial.o Rcompoundpoisson.o Rminmaxscore.o Roption.o Roverlap.o Rscore1d.o Rsequence.o Rsimulate.o background.o combinatorial.o compoundpoisson.o markovchain.o markovchain_single.o matrix.o mdist_register.o minmaxscore.o overlap.o score1d.o score2d.o scorefunctions.o sequence.o simulate.o -fopenmp -LC:/extsoft/lib/x64 -LC:/extsoft/lib -LC:/Users/BIOCBU~1/BBS-3~1.10-/R/bin/x64 -lR
installing to C:/Users/biocbuild/bbs-3.10-bioc/meat/motifcounter.buildbin-libdir/motifcounter/libs/x64
** testing if installed package can be loaded
* MD5 sums
packaged installation of 'motifcounter' as motifcounter_1.10.0.zip
* DONE (motifcounter)