| Back to Multiple platform build/check report for BioC 3.10 |
|
This page was generated on 2020-04-15 12:25:27 -0400 (Wed, 15 Apr 2020).
| Package 1085/1823 | Hostname | OS / Arch | INSTALL | BUILD | CHECK | BUILD BIN | ||||||
| motifbreakR 2.0.0 Simon Gert Coetzee
| malbec1 | Linux (Ubuntu 18.04.4 LTS) / x86_64 | OK | OK | WARNINGS | |||||||
| tokay1 | Windows Server 2012 R2 Standard / x64 | OK | OK | WARNINGS | [ OK ] | |||||||
| merida1 | OS X 10.11.6 El Capitan / x86_64 | OK | OK | WARNINGS | OK |
| Package: motifbreakR |
| Version: 2.0.0 |
| Command: rm -rf motifbreakR.buildbin-libdir && mkdir motifbreakR.buildbin-libdir && C:\Users\biocbuild\bbs-3.10-bioc\R\bin\R.exe CMD INSTALL --merge-multiarch --build --library=motifbreakR.buildbin-libdir motifbreakR_2.0.0.tar.gz |
| StartedAt: 2020-04-15 09:12:43 -0400 (Wed, 15 Apr 2020) |
| EndedAt: 2020-04-15 09:14:03 -0400 (Wed, 15 Apr 2020) |
| EllapsedTime: 79.9 seconds |
| RetCode: 0 |
| Status: OK |
| PackageFile: motifbreakR_2.0.0.zip |
| PackageFileSize: 2.612 MiB |
##############################################################################
##############################################################################
###
### Running command:
###
### rm -rf motifbreakR.buildbin-libdir && mkdir motifbreakR.buildbin-libdir && C:\Users\biocbuild\bbs-3.10-bioc\R\bin\R.exe CMD INSTALL --merge-multiarch --build --library=motifbreakR.buildbin-libdir motifbreakR_2.0.0.tar.gz
###
##############################################################################
##############################################################################
install for i386
* installing *source* package 'motifbreakR' ...
** using staged installation
** R
** data
*** moving datasets to lazyload DB
** inst
** byte-compile and prepare package for lazy loading
See system.file("LICENSE", package="MotifDb") for use restrictions.
Warning: replacing previous import 'IRanges::windows' by 'grDevices::windows' when loading 'motifbreakR'
** help
*** installing help indices
converting help for package 'motifbreakR'
finding HTML links ... done
calculatePvalue html
finding level-2 HTML links ... done
encodemotif html
example.results html
Rd warning: C:/Users/biocbuild/bbs-3.10-bioc/tmpdir/RtmpiqjHmt/R.INSTALL37a44a2eaf9/motifbreakR/man/example.results.Rd:7: file link 'GRanges' in package 'GenomicRanges' does not exist and so has been treated as a topic
Rd warning: C:/Users/biocbuild/bbs-3.10-bioc/tmpdir/RtmpiqjHmt/R.INSTALL37a44a2eaf9/motifbreakR/man/example.results.Rd:12: file link 'GRanges' in package 'GenomicRanges' does not exist and so has been treated as a topic
factorbook html
hocomoco html
homer html
motifbreakR html
motifbreakR_motif html
plotMB html
scoreAllWindows html
snps.from.file html
snps.from.rsid html
** building package indices
** installing vignettes
** testing if installed package can be loaded from temporary location
See system.file("LICENSE", package="MotifDb") for use restrictions.
Warning: replacing previous import 'IRanges::windows' by 'grDevices::windows' when loading 'motifbreakR'
** testing if installed package can be loaded from final location
See system.file("LICENSE", package="MotifDb") for use restrictions.
Warning: replacing previous import 'IRanges::windows' by 'grDevices::windows' when loading 'motifbreakR'
** testing if installed package keeps a record of temporary installation path
install for x64
* installing *source* package 'motifbreakR' ...
** testing if installed package can be loaded
See system.file("LICENSE", package="MotifDb") for use restrictions.
Warning: replacing previous import 'IRanges::windows' by 'grDevices::windows' when loading 'motifbreakR'
* MD5 sums
packaged installation of 'motifbreakR' as motifbreakR_2.0.0.zip
* DONE (motifbreakR)