| Back to Multiple platform build/check report for BioC 3.10 |
|
This page was generated on 2020-04-15 12:24:45 -0400 (Wed, 15 Apr 2020).
| Package 1079/1823 | Hostname | OS / Arch | INSTALL | BUILD | CHECK | BUILD BIN | ||||||
| mogsa 1.20.0 Chen Meng
| malbec1 | Linux (Ubuntu 18.04.4 LTS) / x86_64 | OK | OK | OK | |||||||
| tokay1 | Windows Server 2012 R2 Standard / x64 | [ OK ] | OK | OK | OK | |||||||
| merida1 | OS X 10.11.6 El Capitan / x86_64 | OK | OK | OK | OK |
| Package: mogsa |
| Version: 1.20.0 |
| Command: C:\cygwin\bin\curl.exe -O https://malbec1.bioconductor.org/BBS/3.10/bioc/src/contrib/mogsa_1.20.0.tar.gz && rm -rf mogsa.buildbin-libdir && mkdir mogsa.buildbin-libdir && C:\Users\biocbuild\bbs-3.10-bioc\R\bin\R.exe CMD INSTALL --merge-multiarch --build --library=mogsa.buildbin-libdir mogsa_1.20.0.tar.gz && C:\Users\biocbuild\bbs-3.10-bioc\R\bin\R.exe CMD INSTALL mogsa_1.20.0.zip && rm mogsa_1.20.0.tar.gz mogsa_1.20.0.zip |
| StartedAt: 2020-04-14 19:22:10 -0400 (Tue, 14 Apr 2020) |
| EndedAt: 2020-04-14 19:23:16 -0400 (Tue, 14 Apr 2020) |
| EllapsedTime: 66.4 seconds |
| RetCode: 0 |
| Status: OK |
##############################################################################
##############################################################################
###
### Running command:
###
### C:\cygwin\bin\curl.exe -O https://malbec1.bioconductor.org/BBS/3.10/bioc/src/contrib/mogsa_1.20.0.tar.gz && rm -rf mogsa.buildbin-libdir && mkdir mogsa.buildbin-libdir && C:\Users\biocbuild\bbs-3.10-bioc\R\bin\R.exe CMD INSTALL --merge-multiarch --build --library=mogsa.buildbin-libdir mogsa_1.20.0.tar.gz && C:\Users\biocbuild\bbs-3.10-bioc\R\bin\R.exe CMD INSTALL mogsa_1.20.0.zip && rm mogsa_1.20.0.tar.gz mogsa_1.20.0.zip
###
##############################################################################
##############################################################################
% Total % Received % Xferd Average Speed Time Time Time Current
Dload Upload Total Spent Left Speed
0 0 0 0 0 0 0 0 --:--:-- --:--:-- --:--:-- 0
100 300k 100 300k 0 0 1994k 0 --:--:-- --:--:-- --:--:-- 2044k
install for i386
* installing *source* package 'mogsa' ...
** using staged installation
** R
** data
** inst
** byte-compile and prepare package for lazy loading
** help
*** installing help indices
converting help for package 'mogsa'
finding HTML links ... done
GIS html
NCI60_4array_supdata html
NCI60_4arrays html
annotate.gs html
biSoftK html
bootMbpca html
bootMbpcaK html
bootMoa html
box.gs.feature html
combine-methods html
decompose.gs.group html
decompose.gs.ind html
deflat html
distMoa html
getmgsa html
matpower html
mbpca html
mgsa-class html
moGap html
moa-class html
moa html
moa.sup-class html
moaCoef html
moaScore html
mogsa-package html
mogsa html
msvd html
nipalsSoftK html
pairwise.rv html
plot-methods html
plotGS html
prepGraphite html
prepMsigDB html
prepSupMoa html
print-methods html
processOpt html
show-methods html
softK html
summary-methods html
sup.moa html
toMoa html
wsvd html
** building package indices
** installing vignettes
** testing if installed package can be loaded from temporary location
** testing if installed package can be loaded from final location
** testing if installed package keeps a record of temporary installation path
install for x64
* installing *source* package 'mogsa' ...
** testing if installed package can be loaded
* MD5 sums
packaged installation of 'mogsa' as mogsa_1.20.0.zip
* DONE (mogsa)
* installing to library 'C:/Users/biocbuild/bbs-3.10-bioc/R/library'
package 'mogsa' successfully unpacked and MD5 sums checked