| Back to Multiple platform build/check report for BioC 3.10 |
|
This page was generated on 2020-04-15 12:32:36 -0400 (Wed, 15 Apr 2020).
| Package 1075/1823 | Hostname | OS / Arch | INSTALL | BUILD | CHECK | BUILD BIN | ||||||
| mnem 1.2.0 Martin Pirkl
| malbec1 | Linux (Ubuntu 18.04.4 LTS) / x86_64 | OK | OK | OK | |||||||
| tokay1 | Windows Server 2012 R2 Standard / x64 | OK | OK | OK | [ OK ] | |||||||
| merida1 | OS X 10.11.6 El Capitan / x86_64 | OK | OK | OK | OK |
| Package: mnem |
| Version: 1.2.0 |
| Command: rm -rf mnem.buildbin-libdir && mkdir mnem.buildbin-libdir && C:\Users\biocbuild\bbs-3.10-bioc\R\bin\R.exe CMD INSTALL --merge-multiarch --build --library=mnem.buildbin-libdir mnem_1.2.0.tar.gz |
| StartedAt: 2020-04-15 09:12:08 -0400 (Wed, 15 Apr 2020) |
| EndedAt: 2020-04-15 09:12:56 -0400 (Wed, 15 Apr 2020) |
| EllapsedTime: 48.3 seconds |
| RetCode: 0 |
| Status: OK |
| PackageFile: mnem_1.2.0.zip |
| PackageFileSize: 3.508 MiB |
##############################################################################
##############################################################################
###
### Running command:
###
### rm -rf mnem.buildbin-libdir && mkdir mnem.buildbin-libdir && C:\Users\biocbuild\bbs-3.10-bioc\R\bin\R.exe CMD INSTALL --merge-multiarch --build --library=mnem.buildbin-libdir mnem_1.2.0.tar.gz
###
##############################################################################
##############################################################################
install for i386
* installing *source* package 'mnem' ...
** using staged installation
** libs
C:/Rtools/mingw_32/bin/g++ -std=gnu++11 -I"C:/Users/BIOCBU~1/BBS-3~1.10-/R/include" -DNDEBUG -I"C:/Users/biocbuild/bbs-3.10-bioc/R/library/Rcpp/include" -I"C:/Users/biocbuild/bbs-3.10-bioc/R/library/RcppEigen/include" -I"C:/extsoft/include" -O2 -Wall -mtune=core2 -c RcppExports.cpp -o RcppExports.o
C:/Rtools/mingw_32/bin/g++ -std=gnu++11 -I"C:/Users/BIOCBU~1/BBS-3~1.10-/R/include" -DNDEBUG -I"C:/Users/biocbuild/bbs-3.10-bioc/R/library/Rcpp/include" -I"C:/Users/biocbuild/bbs-3.10-bioc/R/library/RcppEigen/include" -I"C:/extsoft/include" -O2 -Wall -mtune=core2 -c mm.cpp -o mm.o
C:/Rtools/mingw_32/bin/g++ -std=gnu++11 -shared -s -static-libgcc -o mnem.dll tmp.def RcppExports.o mm.o -LC:/extsoft/lib/i386 -LC:/extsoft/lib -LC:/Users/BIOCBU~1/BBS-3~1.10-/R/bin/i386 -lR
installing to C:/Users/biocbuild/bbs-3.10-bioc/meat/mnem.buildbin-libdir/00LOCK-mnem/00new/mnem/libs/i386
** R
** data
*** moving datasets to lazyload DB
** inst
** byte-compile and prepare package for lazy loading
** help
*** installing help indices
converting help for package 'mnem'
finding HTML links ... done
app html
bootstrap html
clustNEM html
createApp html
fitacc html
fuzzyindex html
getAffinity html
getIC html
hamSim html
mnem html
mnemh html
mnemk html
plot.bootmnem html
plot.mnem html
plot.mnemsim html
plotConvergence html
plotDnf html
simData html
** building package indices
** installing vignettes
** testing if installed package can be loaded from temporary location
** testing if installed package can be loaded from final location
** testing if installed package keeps a record of temporary installation path
install for x64
* installing *source* package 'mnem' ...
** libs
C:/Rtools/mingw_64/bin/g++ -std=gnu++11 -I"C:/Users/BIOCBU~1/BBS-3~1.10-/R/include" -DNDEBUG -I"C:/Users/biocbuild/bbs-3.10-bioc/R/library/Rcpp/include" -I"C:/Users/biocbuild/bbs-3.10-bioc/R/library/RcppEigen/include" -I"C:/extsoft/include" -O2 -Wall -mtune=core2 -c RcppExports.cpp -o RcppExports.o
C:/Rtools/mingw_64/bin/g++ -std=gnu++11 -I"C:/Users/BIOCBU~1/BBS-3~1.10-/R/include" -DNDEBUG -I"C:/Users/biocbuild/bbs-3.10-bioc/R/library/Rcpp/include" -I"C:/Users/biocbuild/bbs-3.10-bioc/R/library/RcppEigen/include" -I"C:/extsoft/include" -O2 -Wall -mtune=core2 -c mm.cpp -o mm.o
C:/Rtools/mingw_64/bin/g++ -std=gnu++11 -shared -s -static-libgcc -o mnem.dll tmp.def RcppExports.o mm.o -LC:/extsoft/lib/x64 -LC:/extsoft/lib -LC:/Users/BIOCBU~1/BBS-3~1.10-/R/bin/x64 -lR
installing to C:/Users/biocbuild/bbs-3.10-bioc/meat/mnem.buildbin-libdir/mnem/libs/x64
** testing if installed package can be loaded
* MD5 sums
packaged installation of 'mnem' as mnem_1.2.0.zip
* DONE (mnem)