| Back to Multiple platform build/check report for BioC 3.10 |
|
This page was generated on 2020-04-15 12:05:22 -0400 (Wed, 15 Apr 2020).
| Package 1041/1823 | Hostname | OS / Arch | INSTALL | BUILD | CHECK | BUILD BIN | ||||||
| microRNA 1.44.0 "James F. Reid"
| malbec1 | Linux (Ubuntu 18.04.4 LTS) / x86_64 | [ OK ] | OK | OK | |||||||
| tokay1 | Windows Server 2012 R2 Standard / x64 | OK | OK | OK | OK | |||||||
| merida1 | OS X 10.11.6 El Capitan / x86_64 | OK | OK | OK | OK |
| Package: microRNA |
| Version: 1.44.0 |
| Command: /home/biocbuild/bbs-3.10-bioc/R/bin/R CMD INSTALL microRNA |
| StartedAt: 2020-04-14 18:15:01 -0400 (Tue, 14 Apr 2020) |
| EndedAt: 2020-04-14 18:15:12 -0400 (Tue, 14 Apr 2020) |
| EllapsedTime: 11.5 seconds |
| RetCode: 0 |
| Status: OK |
##############################################################################
##############################################################################
###
### Running command:
###
### /home/biocbuild/bbs-3.10-bioc/R/bin/R CMD INSTALL microRNA
###
##############################################################################
##############################################################################
* installing to library ‘/home/biocbuild/bbs-3.10-bioc/R/library’
* installing *source* package ‘microRNA’ ...
** using staged installation
** libs
g++ -std=gnu++11 -I"/home/biocbuild/bbs-3.10-bioc/R/include" -DNDEBUG -I/usr/local/include -fpic -g -O2 -Wall -c longest_common_substring.cpp -o longest_common_substring.o
longest_common_substring.cpp: In function ‘SEXPREC* longest_common_substring(SEXP)’:
longest_common_substring.cpp:55:15: warning: comparison between signed and unsigned integer expressions [-Wsign-compare]
if (i == len[index] - 1) { // ignore null termination character
~~^~~~~~~~~~~~~~~~~
g++ -std=gnu++11 -shared -L/home/biocbuild/bbs-3.10-bioc/R/lib -L/usr/local/lib -o microRNA.so longest_common_substring.o -L/home/biocbuild/bbs-3.10-bioc/R/lib -lR
installing to /home/biocbuild/bbs-3.10-bioc/R/library/00LOCK-microRNA/00new/microRNA/libs
** R
** data
** inst
** byte-compile and prepare package for lazy loading
** help
*** installing help indices
** building package indices
** testing if installed package can be loaded from temporary location
** checking absolute paths in shared objects and dynamic libraries
** testing if installed package can be loaded from final location
** testing if installed package keeps a record of temporary installation path
* DONE (microRNA)