| Back to Multiple platform build/check report for BioC 3.10 |
|
This page was generated on 2020-04-15 12:25:43 -0400 (Wed, 15 Apr 2020).
| Package 1053/1823 | Hostname | OS / Arch | INSTALL | BUILD | CHECK | BUILD BIN | ||||||
| miRcomp 1.16.0 Matthew N. McCall
| malbec1 | Linux (Ubuntu 18.04.4 LTS) / x86_64 | OK | OK | WARNINGS | |||||||
| tokay1 | Windows Server 2012 R2 Standard / x64 | OK | OK | WARNINGS | [ OK ] | |||||||
| merida1 | OS X 10.11.6 El Capitan / x86_64 | OK | OK | WARNINGS | OK |
| Package: miRcomp |
| Version: 1.16.0 |
| Command: rm -rf miRcomp.buildbin-libdir && mkdir miRcomp.buildbin-libdir && C:\Users\biocbuild\bbs-3.10-bioc\R\bin\R.exe CMD INSTALL --merge-multiarch --build --library=miRcomp.buildbin-libdir miRcomp_1.16.0.tar.gz |
| StartedAt: 2020-04-15 09:10:56 -0400 (Wed, 15 Apr 2020) |
| EndedAt: 2020-04-15 09:11:37 -0400 (Wed, 15 Apr 2020) |
| EllapsedTime: 41.6 seconds |
| RetCode: 0 |
| Status: OK |
| PackageFile: miRcomp_1.16.0.zip |
| PackageFileSize: 2.58 MiB |
##############################################################################
##############################################################################
###
### Running command:
###
### rm -rf miRcomp.buildbin-libdir && mkdir miRcomp.buildbin-libdir && C:\Users\biocbuild\bbs-3.10-bioc\R\bin\R.exe CMD INSTALL --merge-multiarch --build --library=miRcomp.buildbin-libdir miRcomp_1.16.0.tar.gz
###
##############################################################################
##############################################################################
install for i386
* installing *source* package 'miRcomp' ...
** using staged installation
** R
** data
** inst
** byte-compile and prepare package for lazy loading
** help
*** installing help indices
converting help for package 'miRcomp'
finding HTML links ... done
accuracy html
completeFeatures html
expressionComp html
lifetech html
limitOfDetection html
miRcompShinyApp html
precision html
qpcRb4 html
qpcRb5 html
qpcRdefault html
qpcRl5 html
qpcRlinexp html
qualityAssessment html
titrationResponse html
** building package indices
** installing vignettes
** testing if installed package can be loaded from temporary location
** testing if installed package can be loaded from final location
** testing if installed package keeps a record of temporary installation path
install for x64
* installing *source* package 'miRcomp' ...
** testing if installed package can be loaded
* MD5 sums
packaged installation of 'miRcomp' as miRcomp_1.16.0.zip
* DONE (miRcomp)