| Back to Multiple platform build/check report for BioC 3.10 |
|
This page was generated on 2020-04-15 12:28:36 -0400 (Wed, 15 Apr 2020).
| Package 1033/1823 | Hostname | OS / Arch | INSTALL | BUILD | CHECK | BUILD BIN | ||||||
| mfa 1.8.0 Kieran Campbell
| malbec1 | Linux (Ubuntu 18.04.4 LTS) / x86_64 | OK | OK | OK | |||||||
| tokay1 | Windows Server 2012 R2 Standard / x64 | OK | OK | OK | [ OK ] | |||||||
| merida1 | OS X 10.11.6 El Capitan / x86_64 | OK | OK | OK | OK |
| Package: mfa |
| Version: 1.8.0 |
| Command: rm -rf mfa.buildbin-libdir && mkdir mfa.buildbin-libdir && C:\Users\biocbuild\bbs-3.10-bioc\R\bin\R.exe CMD INSTALL --merge-multiarch --build --library=mfa.buildbin-libdir mfa_1.8.0.tar.gz |
| StartedAt: 2020-04-15 09:09:45 -0400 (Wed, 15 Apr 2020) |
| EndedAt: 2020-04-15 09:10:45 -0400 (Wed, 15 Apr 2020) |
| EllapsedTime: 59.7 seconds |
| RetCode: 0 |
| Status: OK |
| PackageFile: mfa_1.8.0.zip |
| PackageFileSize: 963.5 KiB |
##############################################################################
##############################################################################
###
### Running command:
###
### rm -rf mfa.buildbin-libdir && mkdir mfa.buildbin-libdir && C:\Users\biocbuild\bbs-3.10-bioc\R\bin\R.exe CMD INSTALL --merge-multiarch --build --library=mfa.buildbin-libdir mfa_1.8.0.tar.gz
###
##############################################################################
##############################################################################
install for i386
* installing *source* package 'mfa' ...
** using staged installation
** libs
C:/Rtools/mingw_32/bin/g++ -std=gnu++11 -I"C:/Users/BIOCBU~1/BBS-3~1.10-/R/include" -DNDEBUG -I"C:/Users/biocbuild/bbs-3.10-bioc/R/library/Rcpp/include" -I"C:/extsoft/include" -O2 -Wall -mtune=core2 -c RcppExports.cpp -o RcppExports.o
C:/Rtools/mingw_32/bin/g++ -std=gnu++11 -I"C:/Users/BIOCBU~1/BBS-3~1.10-/R/include" -DNDEBUG -I"C:/Users/biocbuild/bbs-3.10-bioc/R/library/Rcpp/include" -I"C:/extsoft/include" -O2 -Wall -mtune=core2 -c gibbs.cpp -o gibbs.o
C:/Rtools/mingw_32/bin/g++ -std=gnu++11 -shared -s -static-libgcc -o mfa.dll tmp.def RcppExports.o gibbs.o -LC:/extsoft/lib/i386 -LC:/extsoft/lib -LC:/Users/BIOCBU~1/BBS-3~1.10-/R/bin/i386 -lR
installing to C:/Users/biocbuild/bbs-3.10-bioc/meat/mfa.buildbin-libdir/00LOCK-mfa/00new/mfa/libs/i386
** R
** inst
** byte-compile and prepare package for lazy loading
** help
*** installing help indices
converting help for package 'mfa'
finding HTML links ... done
calculate_chi html
create_synthetic html
cs_sigmoid html
empirical_lambda html
log_sum_exp html
map_branch html
mcmcify html
mfa html
plot_chi html
plot_dropout_relationship html
plot_mfa_autocorr html
plot_mfa_trace html
posterior html
print.mfa html
summary.mfa html
to_ggmcmc html
transient html
** building package indices
** installing vignettes
** testing if installed package can be loaded from temporary location
** testing if installed package can be loaded from final location
** testing if installed package keeps a record of temporary installation path
install for x64
* installing *source* package 'mfa' ...
** libs
C:/Rtools/mingw_64/bin/g++ -std=gnu++11 -I"C:/Users/BIOCBU~1/BBS-3~1.10-/R/include" -DNDEBUG -I"C:/Users/biocbuild/bbs-3.10-bioc/R/library/Rcpp/include" -I"C:/extsoft/include" -O2 -Wall -mtune=core2 -c RcppExports.cpp -o RcppExports.o
C:/Rtools/mingw_64/bin/g++ -std=gnu++11 -I"C:/Users/BIOCBU~1/BBS-3~1.10-/R/include" -DNDEBUG -I"C:/Users/biocbuild/bbs-3.10-bioc/R/library/Rcpp/include" -I"C:/extsoft/include" -O2 -Wall -mtune=core2 -c gibbs.cpp -o gibbs.o
C:/Rtools/mingw_64/bin/g++ -std=gnu++11 -shared -s -static-libgcc -o mfa.dll tmp.def RcppExports.o gibbs.o -LC:/extsoft/lib/x64 -LC:/extsoft/lib -LC:/Users/BIOCBU~1/BBS-3~1.10-/R/bin/x64 -lR
installing to C:/Users/biocbuild/bbs-3.10-bioc/meat/mfa.buildbin-libdir/mfa/libs/x64
** testing if installed package can be loaded
* MD5 sums
packaged installation of 'mfa' as mfa_1.8.0.zip
* DONE (mfa)