| Back to Multiple platform build/check report for BioC 3.10 |
|
This page was generated on 2020-04-15 12:26:57 -0400 (Wed, 15 Apr 2020).
| Package 1024/1823 | Hostname | OS / Arch | INSTALL | BUILD | CHECK | BUILD BIN | ||||||
| methylKit 1.12.0 Altuna Akalin
| malbec1 | Linux (Ubuntu 18.04.4 LTS) / x86_64 | OK | OK | OK | |||||||
| tokay1 | Windows Server 2012 R2 Standard / x64 | OK | OK | [ OK ] | OK | |||||||
| merida1 | OS X 10.11.6 El Capitan / x86_64 | OK | OK | OK | OK |
| Package: methylKit |
| Version: 1.12.0 |
| Command: C:\Users\biocbuild\bbs-3.10-bioc\R\bin\R.exe CMD check --force-multiarch --install=check:methylKit.install-out.txt --library=C:\Users\biocbuild\bbs-3.10-bioc\R\library --no-vignettes --timings methylKit_1.12.0.tar.gz |
| StartedAt: 2020-04-15 04:40:52 -0400 (Wed, 15 Apr 2020) |
| EndedAt: 2020-04-15 04:49:41 -0400 (Wed, 15 Apr 2020) |
| EllapsedTime: 528.9 seconds |
| RetCode: 0 |
| Status: OK |
| CheckDir: methylKit.Rcheck |
| Warnings: 0 |
##############################################################################
##############################################################################
###
### Running command:
###
### C:\Users\biocbuild\bbs-3.10-bioc\R\bin\R.exe CMD check --force-multiarch --install=check:methylKit.install-out.txt --library=C:\Users\biocbuild\bbs-3.10-bioc\R\library --no-vignettes --timings methylKit_1.12.0.tar.gz
###
##############################################################################
##############################################################################
* using log directory 'C:/Users/biocbuild/bbs-3.10-bioc/meat/methylKit.Rcheck'
* using R version 3.6.3 (2020-02-29)
* using platform: x86_64-w64-mingw32 (64-bit)
* using session charset: ISO8859-1
* using option '--no-vignettes'
* checking for file 'methylKit/DESCRIPTION' ... OK
* checking extension type ... Package
* this is package 'methylKit' version '1.12.0'
* checking package namespace information ... OK
* checking package dependencies ... OK
* checking if this is a source package ... OK
* checking if there is a namespace ... OK
* checking for hidden files and directories ... OK
* checking for portable file names ... OK
* checking whether package 'methylKit' can be installed ... OK
* checking installed package size ... NOTE
installed size is 9.7Mb
sub-directories of 1Mb or more:
R 1.2Mb
libs 6.8Mb
* checking package directory ... OK
* checking 'build' directory ... OK
* checking DESCRIPTION meta-information ... OK
* checking top-level files ... OK
* checking for left-over files ... OK
* checking index information ... OK
* checking package subdirectories ... OK
* checking R files for non-ASCII characters ... OK
* checking R files for syntax errors ... OK
* loading checks for arch 'i386'
** checking whether the package can be loaded ... OK
** checking whether the package can be loaded with stated dependencies ... OK
** checking whether the package can be unloaded cleanly ... OK
** checking whether the namespace can be loaded with stated dependencies ... OK
** checking whether the namespace can be unloaded cleanly ... OK
* loading checks for arch 'x64'
** checking whether the package can be loaded ... OK
** checking whether the package can be loaded with stated dependencies ... OK
** checking whether the package can be unloaded cleanly ... OK
** checking whether the namespace can be loaded with stated dependencies ... OK
** checking whether the namespace can be unloaded cleanly ... OK
* checking dependencies in R code ... NOTE
Namespace in Imports field not imported from: 'KernSmooth'
All declared Imports should be used.
* checking S3 generic/method consistency ... OK
* checking replacement functions ... OK
* checking foreign function calls ... OK
* checking R code for possible problems ... OK
* checking Rd files ... OK
* checking Rd metadata ... OK
* checking Rd cross-references ... OK
* checking for missing documentation entries ... OK
* checking for code/documentation mismatches ... OK
* checking Rd \usage sections ... OK
* checking Rd contents ... OK
* checking for unstated dependencies in examples ... OK
* checking contents of 'data' directory ... OK
* checking data for non-ASCII characters ... OK
* checking data for ASCII and uncompressed saves ... OK
* checking line endings in C/C++/Fortran sources/headers ... OK
* checking line endings in Makefiles ... OK
* checking compilation flags in Makevars ... OK
* checking for GNU extensions in Makefiles ... NOTE
GNU make is a SystemRequirements.
* checking for portable use of $(BLAS_LIBS) and $(LAPACK_LIBS) ... OK
* checking compiled code ... NOTE
Note: information on .o files for i386 is not available
Note: information on .o files for x64 is not available
File 'C:/Users/biocbuild/bbs-3.10-bioc/R/library/methylKit/libs/i386/methylKit.dll':
Found '_exit', possibly from '_exit' (C)
Found 'abort', possibly from 'abort' (C), 'runtime' (Fortran)
Found 'exit', possibly from 'exit' (C), 'stop' (Fortran)
Found 'printf', possibly from 'printf' (C)
Found 'putchar', possibly from 'putchar' (C)
Found 'puts', possibly from 'printf' (C), 'puts' (C)
Found 'rand', possibly from 'rand' (C)
File 'C:/Users/biocbuild/bbs-3.10-bioc/R/library/methylKit/libs/x64/methylKit.dll':
Found '_exit', possibly from '_exit' (C)
Found 'abort', possibly from 'abort' (C), 'runtime' (Fortran)
Found 'exit', possibly from 'exit' (C), 'stop' (Fortran)
Found 'printf', possibly from 'printf' (C)
Found 'putchar', possibly from 'putchar' (C)
Found 'puts', possibly from 'printf' (C), 'puts' (C)
Found 'rand', possibly from 'rand' (C)
Compiled code should not call entry points which might terminate R nor
write to stdout/stderr instead of to the console, nor use Fortran I/O
nor system RNGs. The detected symbols are linked into the code but
might come from libraries and not actually be called.
See 'Writing portable packages' in the 'Writing R Extensions' manual.
* checking files in 'vignettes' ... OK
* checking examples ...
** running examples for arch 'i386' ... OK
Examples with CPU or elapsed time > 5s
user system elapsed
calculateDiffMeth-methods 8.51 0.8 9.31
** running examples for arch 'x64' ... OK
Examples with CPU or elapsed time > 5s
user system elapsed
calculateDiffMeth-methods 6.5 0.23 6.74
* checking for unstated dependencies in 'tests' ... OK
* checking tests ...
** running tests for arch 'i386' ...
Running 'testthat.R'
OK
** running tests for arch 'x64' ...
Running 'testthat.R'
OK
* checking for unstated dependencies in vignettes ... OK
* checking package vignettes in 'inst/doc' ... OK
* checking running R code from vignettes ... SKIPPED
* checking re-building of vignette outputs ... SKIPPED
* checking PDF version of manual ... OK
* DONE
Status: 4 NOTEs
See
'C:/Users/biocbuild/bbs-3.10-bioc/meat/methylKit.Rcheck/00check.log'
for details.
methylKit.Rcheck/00install.out
##############################################################################
##############################################################################
###
### Running command:
###
### C:\cygwin\bin\curl.exe -O https://malbec1.bioconductor.org/BBS/3.10/bioc/src/contrib/methylKit_1.12.0.tar.gz && rm -rf methylKit.buildbin-libdir && mkdir methylKit.buildbin-libdir && C:\Users\biocbuild\bbs-3.10-bioc\R\bin\R.exe CMD INSTALL --merge-multiarch --build --library=methylKit.buildbin-libdir methylKit_1.12.0.tar.gz && C:\Users\biocbuild\bbs-3.10-bioc\R\bin\R.exe CMD INSTALL methylKit_1.12.0.zip && rm methylKit_1.12.0.tar.gz methylKit_1.12.0.zip
###
##############################################################################
##############################################################################
% Total % Received % Xferd Average Speed Time Time Time Current
Dload Upload Total Spent Left Speed
0 0 0 0 0 0 0 0 --:--:-- --:--:-- --:--:-- 0
100 627k 100 627k 0 0 6166k 0 --:--:-- --:--:-- --:--:-- 6465k
install for i386
* installing *source* package 'methylKit' ...
** using staged installation
** libs
C:/Rtools/mingw_32/bin/g++ -std=gnu++11 -I"C:/Users/BIOCBU~1/BBS-3~1.10-/R/include" -DNDEBUG -D_FILE_OFFSET_BITS=64 -I"C:/Users/biocbuild/bbs-3.10-bioc/R/library/Rcpp/include" -I"C:/Users/biocbuild/bbs-3.10-bioc/R/library/Rhtslib/include" -I"C:/Users/biocbuild/bbs-3.10-bioc/R/library/zlibbioc/include" -I"C:/extsoft/include" -O2 -Wall -mtune=core2 -c RcppExports.cpp -o RcppExports.o
C:/Rtools/mingw_32/bin/g++ -std=gnu++11 -I"C:/Users/BIOCBU~1/BBS-3~1.10-/R/include" -DNDEBUG -D_FILE_OFFSET_BITS=64 -I"C:/Users/biocbuild/bbs-3.10-bioc/R/library/Rcpp/include" -I"C:/Users/biocbuild/bbs-3.10-bioc/R/library/Rhtslib/include" -I"C:/Users/biocbuild/bbs-3.10-bioc/R/library/zlibbioc/include" -I"C:/extsoft/include" -O2 -Wall -mtune=core2 -c methCall.cpp -o methCall.o
methCall.cpp: In function 'int process_sam(std::istream*, std::string&, std::string&, std::string&, int&, int&, int&, int, int)':
methCall.cpp:708:84: warning: 'CHGout' may be used uninitialized in this function [-Wmaybe-uninitialized]
if(CHGstatus) { processCHmethHash(CHGmethHash,CHGout,mincov); std::fclose(CHGout); }
^
methCall.cpp:707:84: warning: 'CHHout' may be used uninitialized in this function [-Wmaybe-uninitialized]
if(CHHstatus) { processCHmethHash(CHHmethHash,CHHout,mincov); std::fclose(CHHout); }
^
methCall.cpp:706:81: warning: 'out' may be used uninitialized in this function [-Wmaybe-uninitialized]
if(CpGstatus) { processCGmethHash(CGmethHash,out,mincov); std::fclose(out); }
^
methCall.cpp: In function 'int process_bam(std::string&, std::string&, std::string&, std::string&, int&, int&, int&, int)':
methCall.cpp:1027:84: warning: 'CHGout' may be used uninitialized in this function [-Wmaybe-uninitialized]
if(CHGstatus) { processCHmethHash(CHGmethHash,CHGout,mincov); std::fclose(CHGout); }
^
methCall.cpp:1026:84: warning: 'CHHout' may be used uninitialized in this function [-Wmaybe-uninitialized]
if(CHHstatus) { processCHmethHash(CHHmethHash,CHHout,mincov); std::fclose(CHHout); }
^
methCall.cpp:1025:81: warning: 'out' may be used uninitialized in this function [-Wmaybe-uninitialized]
if(CpGstatus) { processCGmethHash(CGmethHash,out,mincov); std::fclose(out); }
^
methCall.cpp: In function 'int process_single_bismark(std::istream*, std::string&, std::string&, std::string&, int&, int&, int&)':
methCall.cpp:1254:84: warning: 'CHGout' may be used uninitialized in this function [-Wmaybe-uninitialized]
if(CHGstatus) { processCHmethHash(CHGmethHash,CHGout,mincov); std::fclose(CHGout); }
^
methCall.cpp:1253:84: warning: 'CHHout' may be used uninitialized in this function [-Wmaybe-uninitialized]
if(CHHstatus) { processCHmethHash(CHHmethHash,CHHout,mincov); std::fclose(CHHout); }
^
methCall.cpp:1252:81: warning: 'out' may be used uninitialized in this function [-Wmaybe-uninitialized]
if(CpGstatus) { processCGmethHash(CGmethHash,out,mincov); std::fclose(out); }
^
C:/Rtools/mingw_32/bin/g++ -shared -s -static-libgcc -o methylKit.dll tmp.def RcppExports.o methCall.o C:/Users/biocbuild/bbs-3.10-bioc/R/library/Rhtslib/usrlib/i386/libhts.a -LC:/extsoft/lib/i386 -lcurl -lrtmp -lssl -lssh2 -lcrypto -lgdi32 -lz -lws2_32 -lwldap32 -lwinmm -lidn -LC:/extsoft/lib/i386 -LC:/extsoft/lib -LC:/Users/BIOCBU~1/BBS-3~1.10-/R/bin/i386 -lR
installing to C:/Users/biocbuild/bbs-3.10-bioc/meat/methylKit.buildbin-libdir/00LOCK-methylKit/00new/methylKit/libs/i386
** R
** data
** inst
** byte-compile and prepare package for lazy loading
** help
*** installing help indices
converting help for package 'methylKit'
finding HTML links ... done
PCASamples-methods html
adjustMethylC html
assocComp-methods html
bedgraph-methods html
calculateDiffMeth-methods html
calculateDiffMethDSS-methods html
clusterSamples-methods html
dataSim-methods html
diffMethPerChr-methods html
extract-methods html
filterByCoverage-methods html
genomation-deprecated html
getAssembly-methods html
getContext-methods html
getCorrelation-methods html
getCoverageStats-methods html
getDBPath-methods html
getData-methods html
getMethylDiff-methods html
getMethylationStats-methods html
getSampleID-methods html
getTreatment-methods html
joinSegmentNeighbours html
makeMethylDB-methods html
methRead-methods html
methSeg html
finding level-2 HTML links ... done
methSeg2bed html
methylBase-class html
methylBase.obj html
methylBaseDB-class html
methylDiff-class html
methylDiff.obj html
methylDiffDB-class html
methylRaw-class html
methylRawDB-class html
methylRawList-class html
methylRawList.obj html
methylRawListDB-class html
normalizeCoverage-methods html
percMethylation-methods html
pool-methods html
processBismarkAln-methods html
reconstruct-methods html
regionCounts html
removeComp-methods html
reorganize-methods html
select-methods html
selectByOverlap-methods html
show-methods html
tileMethylCounts-methods html
unite-methods html
updateMethObject html
** building package indices
** installing vignettes
** testing if installed package can be loaded from temporary location
** testing if installed package can be loaded from final location
** testing if installed package keeps a record of temporary installation path
install for x64
* installing *source* package 'methylKit' ...
** libs
C:/Rtools/mingw_64/bin/g++ -std=gnu++11 -I"C:/Users/BIOCBU~1/BBS-3~1.10-/R/include" -DNDEBUG -D_FILE_OFFSET_BITS=64 -I"C:/Users/biocbuild/bbs-3.10-bioc/R/library/Rcpp/include" -I"C:/Users/biocbuild/bbs-3.10-bioc/R/library/Rhtslib/include" -I"C:/Users/biocbuild/bbs-3.10-bioc/R/library/zlibbioc/include" -I"C:/extsoft/include" -O2 -Wall -mtune=core2 -c RcppExports.cpp -o RcppExports.o
C:/Rtools/mingw_64/bin/g++ -std=gnu++11 -I"C:/Users/BIOCBU~1/BBS-3~1.10-/R/include" -DNDEBUG -D_FILE_OFFSET_BITS=64 -I"C:/Users/biocbuild/bbs-3.10-bioc/R/library/Rcpp/include" -I"C:/Users/biocbuild/bbs-3.10-bioc/R/library/Rhtslib/include" -I"C:/Users/biocbuild/bbs-3.10-bioc/R/library/zlibbioc/include" -I"C:/extsoft/include" -O2 -Wall -mtune=core2 -c methCall.cpp -o methCall.o
methCall.cpp: In function 'int process_sam(std::istream*, std::string&, std::string&, std::string&, int&, int&, int&, int, int)':
methCall.cpp:708:84: warning: 'CHGout' may be used uninitialized in this function [-Wmaybe-uninitialized]
if(CHGstatus) { processCHmethHash(CHGmethHash,CHGout,mincov); std::fclose(CHGout); }
^
methCall.cpp:707:84: warning: 'CHHout' may be used uninitialized in this function [-Wmaybe-uninitialized]
if(CHHstatus) { processCHmethHash(CHHmethHash,CHHout,mincov); std::fclose(CHHout); }
^
methCall.cpp:706:81: warning: 'out' may be used uninitialized in this function [-Wmaybe-uninitialized]
if(CpGstatus) { processCGmethHash(CGmethHash,out,mincov); std::fclose(out); }
^
methCall.cpp: In function 'int process_bam(std::string&, std::string&, std::string&, std::string&, int&, int&, int&, int)':
methCall.cpp:1027:84: warning: 'CHGout' may be used uninitialized in this function [-Wmaybe-uninitialized]
if(CHGstatus) { processCHmethHash(CHGmethHash,CHGout,mincov); std::fclose(CHGout); }
^
methCall.cpp:1026:84: warning: 'CHHout' may be used uninitialized in this function [-Wmaybe-uninitialized]
if(CHHstatus) { processCHmethHash(CHHmethHash,CHHout,mincov); std::fclose(CHHout); }
^
methCall.cpp:1025:81: warning: 'out' may be used uninitialized in this function [-Wmaybe-uninitialized]
if(CpGstatus) { processCGmethHash(CGmethHash,out,mincov); std::fclose(out); }
^
methCall.cpp: In function 'int process_single_bismark(std::istream*, std::string&, std::string&, std::string&, int&, int&, int&)':
methCall.cpp:1254:84: warning: 'CHGout' may be used uninitialized in this function [-Wmaybe-uninitialized]
if(CHGstatus) { processCHmethHash(CHGmethHash,CHGout,mincov); std::fclose(CHGout); }
^
methCall.cpp:1253:84: warning: 'CHHout' may be used uninitialized in this function [-Wmaybe-uninitialized]
if(CHHstatus) { processCHmethHash(CHHmethHash,CHHout,mincov); std::fclose(CHHout); }
^
methCall.cpp:1252:81: warning: 'out' may be used uninitialized in this function [-Wmaybe-uninitialized]
if(CpGstatus) { processCGmethHash(CGmethHash,out,mincov); std::fclose(out); }
^
C:/Rtools/mingw_64/bin/g++ -shared -s -static-libgcc -o methylKit.dll tmp.def RcppExports.o methCall.o C:/Users/biocbuild/bbs-3.10-bioc/R/library/Rhtslib/usrlib/x64/libhts.a -LC:/extsoft/lib/x64 -lcurl -lrtmp -lssl -lssh2 -lcrypto -lgdi32 -lz -lws2_32 -lwldap32 -lwinmm -LC:/extsoft/lib/x64 -LC:/extsoft/lib -LC:/Users/BIOCBU~1/BBS-3~1.10-/R/bin/x64 -lR
installing to C:/Users/biocbuild/bbs-3.10-bioc/meat/methylKit.buildbin-libdir/methylKit/libs/x64
** testing if installed package can be loaded
* MD5 sums
packaged installation of 'methylKit' as methylKit_1.12.0.zip
* DONE (methylKit)
* installing to library 'C:/Users/biocbuild/bbs-3.10-bioc/R/library'
package 'methylKit' successfully unpacked and MD5 sums checked
|
methylKit.Rcheck/tests_i386/testthat.Rout
R version 3.6.3 (2020-02-29) -- "Holding the Windsock"
Copyright (C) 2020 The R Foundation for Statistical Computing
Platform: i386-w64-mingw32/i386 (32-bit)
R is free software and comes with ABSOLUTELY NO WARRANTY.
You are welcome to redistribute it under certain conditions.
Type 'license()' or 'licence()' for distribution details.
R is a collaborative project with many contributors.
Type 'contributors()' for more information and
'citation()' on how to cite R or R packages in publications.
Type 'demo()' for some demos, 'help()' for on-line help, or
'help.start()' for an HTML browser interface to help.
Type 'q()' to quit R.
> library(testthat)
> library(methylKit)
Loading required package: GenomicRanges
Loading required package: stats4
Loading required package: BiocGenerics
Loading required package: parallel
Attaching package: 'BiocGenerics'
The following objects are masked from 'package:parallel':
clusterApply, clusterApplyLB, clusterCall, clusterEvalQ,
clusterExport, clusterMap, parApply, parCapply, parLapply,
parLapplyLB, parRapply, parSapply, parSapplyLB
The following objects are masked from 'package:stats':
IQR, mad, sd, var, xtabs
The following objects are masked from 'package:base':
Filter, Find, Map, Position, Reduce, anyDuplicated, append,
as.data.frame, basename, cbind, colnames, dirname, do.call,
duplicated, eval, evalq, get, grep, grepl, intersect, is.unsorted,
lapply, mapply, match, mget, order, paste, pmax, pmax.int, pmin,
pmin.int, rank, rbind, rownames, sapply, setdiff, sort, table,
tapply, union, unique, unsplit, which, which.max, which.min
Loading required package: S4Vectors
Attaching package: 'S4Vectors'
The following object is masked from 'package:base':
expand.grid
Loading required package: IRanges
Attaching package: 'IRanges'
The following object is masked from 'package:grDevices':
windows
Loading required package: GenomeInfoDb
>
>
>
> test_check("methylKit")
Trying to process:
C:/Users/biocbuild/bbs-3.10-bioc/R/library/methylKit/extdata/test.fastq_bismark.unsorted.min.sam
using htslib.
Failed to read header, falling back.
Trying to process:
C:/Users/biocbuild/bbs-3.10-bioc/R/library/methylKit/extdata/test.fastq_bismark.unsorted.min.sam
paired sam.
Trying to process:
C:/Users/biocbuild/bbs-3.10-bioc/R/library/methylKit/extdata/test.fastq_bismark.unsorted_chr.min.sam
using htslib.
Failed to read header, falling back.
Trying to process:
C:/Users/biocbuild/bbs-3.10-bioc/R/library/methylKit/extdata/test.fastq_bismark.unsorted_chr.min.sam
paired sam.
Trying to process:
C:/Users/biocbuild/bbs-3.10-bioc/R/library/methylKit/extdata/test.bismark_single_end.sorted.bam
using htslib.
Conversion Statistics:
total otherC considered (>95% C+T): 20
average conversion rate = 95.184207585947
total otherC considered (Forward) (>95% C+T): 8
average conversion rate (Forward) = 97.528594771242
total otherC considered (Reverse) (>95% C+T): 12
average conversion rate (Reverse) = 93.62128279575
Done.
Reading methylation percentage per base for sample: test1
Trying to process:
C:/Users/biocbuild/bbs-3.10-bioc/R/library/methylKit/extdata/ctrl.bismark_paired_end.sorted.bam
using htslib.
Conversion Statistics:
total otherC considered (>95% C+T): 4
average conversion rate = 100
total otherC considered (Forward) (>95% C+T): 4
average conversion rate (Forward) = 100
total otherC considered (Reverse) (>95% C+T): 0
average conversion rate (Reverse) = 0
Done.
Reading methylation percentage per base for sample: ctrl1
Trying to process:
C:/Users/biocbuild/bbs-3.10-bioc/R/library/methylKit/extdata/test.fastq_bismark.sorted.min.sam
using htslib.
Failed to read header, falling back.
Trying to process:
C:/Users/biocbuild/bbs-3.10-bioc/R/library/methylKit/extdata/test.fastq_bismark.sorted.min.sam
paired sam.
Conversion Statistics:
total otherC considered (>95% C+T): 10
average conversion rate = 100
total otherC considered (Forward) (>95% C+T): 10
average conversion rate (Forward) = 100
total otherC considered (Reverse) (>95% C+T): 0
average conversion rate (Reverse) = 0
Done.
Reading methylation percentage per base for sample: test1
Trying to process:
C:/Users/biocbuild/bbs-3.10-bioc/R/library/methylKit/extdata/test.fastq_bismark.sorted.min.sam
using htslib.
Failed to read header, falling back.
Trying to process:
C:/Users/biocbuild/bbs-3.10-bioc/R/library/methylKit/extdata/test.fastq_bismark.sorted.min.sam
paired sam.
Conversion Statistics:
total otherC considered (>95% C+T): 10
average conversion rate = 100
total otherC considered (Forward) (>95% C+T): 10
average conversion rate (Forward) = 100
total otherC considered (Reverse) (>95% C+T): 0
average conversion rate (Reverse) = 0
Done.
Reading methylation percentage per base for sample: test1
Trying to process:
C:/Users/biocbuild/bbs-3.10-bioc/R/library/methylKit/extdata/test.fastq_bismark.sorted.min.sam
using htslib.
Failed to read header, falling back.
Trying to process:
C:/Users/biocbuild/bbs-3.10-bioc/R/library/methylKit/extdata/test.fastq_bismark.sorted.min.sam
paired sam.
Conversion Statistics:
total otherC considered (>95% C+T): 10
average conversion rate = 100
total otherC considered (Forward) (>95% C+T): 10
average conversion rate (Forward) = 100
total otherC considered (Reverse) (>95% C+T): 0
average conversion rate (Reverse) = 0
Done.
Reading methylation percentage per base for sample: test1
Trying to process:
C:/Users/biocbuild/bbs-3.10-bioc/R/library/methylKit/extdata/test.fastq_bismark.sorted.min.sam
using htslib.
Failed to read header, falling back.
Trying to process:
C:/Users/biocbuild/bbs-3.10-bioc/R/library/methylKit/extdata/test.fastq_bismark.sorted.min.sam
paired sam.
Conversion Statistics:
total otherC considered (>95% C+T): 10
average conversion rate = 100
total otherC considered (Forward) (>95% C+T): 10
average conversion rate (Forward) = 100
total otherC considered (Reverse) (>95% C+T): 0
average conversion rate (Reverse) = 0
Done.
Reading methylation percentage per base for sample: test1
Trying to process:
C:/Users/biocbuild/bbs-3.10-bioc/R/library/methylKit/extdata/test.fastq_bismark.sorted.min.sam
using htslib.
Failed to read header, falling back.
Trying to process:
C:/Users/biocbuild/bbs-3.10-bioc/R/library/methylKit/extdata/test.fastq_bismark.sorted.min.sam
paired sam.
Conversion Statistics:
total otherC considered (>95% C+T): 10
average conversion rate = 100
total otherC considered (Forward) (>95% C+T): 10
average conversion rate (Forward) = 100
total otherC considered (Reverse) (>95% C+T): 0
average conversion rate (Reverse) = 0
Done.
Reading methylation percentage per base for sample: test1
Trying to process:
C:/Users/biocbuild/bbs-3.10-bioc/R/library/methylKit/extdata/test.fastq_bismark.sorted.min.sam
using htslib.
Failed to read header, falling back.
Trying to process:
C:/Users/biocbuild/bbs-3.10-bioc/R/library/methylKit/extdata/test.fastq_bismark.sorted.min.sam
paired sam.
Conversion Statistics:
total otherC considered (>95% C+T): 10
average conversion rate = 100
total otherC considered (Forward) (>95% C+T): 10
average conversion rate (Forward) = 100
total otherC considered (Reverse) (>95% C+T): 0
average conversion rate (Reverse) = 0
Done.
Reading methylation percentage per base for sample: test1
object has more than one sample id:
only one allowed
object has more than one sample id:
only one allowed
Using internal DSS code...
Using internal DSS code...
== testthat results ===========================================================
[ OK: 110 | SKIPPED: 0 | WARNINGS: 344 | FAILED: 0 ]
>
> proc.time()
user system elapsed
54.65 3.60 58.40
|
methylKit.Rcheck/tests_x64/testthat.Rout
R version 3.6.3 (2020-02-29) -- "Holding the Windsock"
Copyright (C) 2020 The R Foundation for Statistical Computing
Platform: x86_64-w64-mingw32/x64 (64-bit)
R is free software and comes with ABSOLUTELY NO WARRANTY.
You are welcome to redistribute it under certain conditions.
Type 'license()' or 'licence()' for distribution details.
R is a collaborative project with many contributors.
Type 'contributors()' for more information and
'citation()' on how to cite R or R packages in publications.
Type 'demo()' for some demos, 'help()' for on-line help, or
'help.start()' for an HTML browser interface to help.
Type 'q()' to quit R.
> library(testthat)
> library(methylKit)
Loading required package: GenomicRanges
Loading required package: stats4
Loading required package: BiocGenerics
Loading required package: parallel
Attaching package: 'BiocGenerics'
The following objects are masked from 'package:parallel':
clusterApply, clusterApplyLB, clusterCall, clusterEvalQ,
clusterExport, clusterMap, parApply, parCapply, parLapply,
parLapplyLB, parRapply, parSapply, parSapplyLB
The following objects are masked from 'package:stats':
IQR, mad, sd, var, xtabs
The following objects are masked from 'package:base':
Filter, Find, Map, Position, Reduce, anyDuplicated, append,
as.data.frame, basename, cbind, colnames, dirname, do.call,
duplicated, eval, evalq, get, grep, grepl, intersect, is.unsorted,
lapply, mapply, match, mget, order, paste, pmax, pmax.int, pmin,
pmin.int, rank, rbind, rownames, sapply, setdiff, sort, table,
tapply, union, unique, unsplit, which, which.max, which.min
Loading required package: S4Vectors
Attaching package: 'S4Vectors'
The following object is masked from 'package:base':
expand.grid
Loading required package: IRanges
Attaching package: 'IRanges'
The following object is masked from 'package:grDevices':
windows
Loading required package: GenomeInfoDb
>
>
>
> test_check("methylKit")
Trying to process:
C:/Users/biocbuild/bbs-3.10-bioc/R/library/methylKit/extdata/test.fastq_bismark.unsorted.min.sam
using htslib.
Failed to read header, falling back.
Trying to process:
C:/Users/biocbuild/bbs-3.10-bioc/R/library/methylKit/extdata/test.fastq_bismark.unsorted.min.sam
paired sam.
Trying to process:
C:/Users/biocbuild/bbs-3.10-bioc/R/library/methylKit/extdata/test.fastq_bismark.unsorted_chr.min.sam
using htslib.
Failed to read header, falling back.
Trying to process:
C:/Users/biocbuild/bbs-3.10-bioc/R/library/methylKit/extdata/test.fastq_bismark.unsorted_chr.min.sam
paired sam.
Trying to process:
C:/Users/biocbuild/bbs-3.10-bioc/R/library/methylKit/extdata/test.bismark_single_end.sorted.bam
using htslib.
Conversion Statistics:
total otherC considered (>95% C+T): 20
average conversion rate = 95.184207585947
total otherC considered (Forward) (>95% C+T): 8
average conversion rate (Forward) = 97.528594771242
total otherC considered (Reverse) (>95% C+T): 12
average conversion rate (Reverse) = 93.62128279575
Done.
Reading methylation percentage per base for sample: test1
Trying to process:
C:/Users/biocbuild/bbs-3.10-bioc/R/library/methylKit/extdata/ctrl.bismark_paired_end.sorted.bam
using htslib.
Conversion Statistics:
total otherC considered (>95% C+T): 4
average conversion rate = 100
total otherC considered (Forward) (>95% C+T): 4
average conversion rate (Forward) = 100
total otherC considered (Reverse) (>95% C+T): 0
average conversion rate (Reverse) = 0
Done.
Reading methylation percentage per base for sample: ctrl1
Trying to process:
C:/Users/biocbuild/bbs-3.10-bioc/R/library/methylKit/extdata/test.fastq_bismark.sorted.min.sam
using htslib.
Failed to read header, falling back.
Trying to process:
C:/Users/biocbuild/bbs-3.10-bioc/R/library/methylKit/extdata/test.fastq_bismark.sorted.min.sam
paired sam.
Conversion Statistics:
total otherC considered (>95% C+T): 10
average conversion rate = 100
total otherC considered (Forward) (>95% C+T): 10
average conversion rate (Forward) = 100
total otherC considered (Reverse) (>95% C+T): 0
average conversion rate (Reverse) = 0
Done.
Reading methylation percentage per base for sample: test1
Trying to process:
C:/Users/biocbuild/bbs-3.10-bioc/R/library/methylKit/extdata/test.fastq_bismark.sorted.min.sam
using htslib.
Failed to read header, falling back.
Trying to process:
C:/Users/biocbuild/bbs-3.10-bioc/R/library/methylKit/extdata/test.fastq_bismark.sorted.min.sam
paired sam.
Conversion Statistics:
total otherC considered (>95% C+T): 10
average conversion rate = 100
total otherC considered (Forward) (>95% C+T): 10
average conversion rate (Forward) = 100
total otherC considered (Reverse) (>95% C+T): 0
average conversion rate (Reverse) = 0
Done.
Reading methylation percentage per base for sample: test1
Trying to process:
C:/Users/biocbuild/bbs-3.10-bioc/R/library/methylKit/extdata/test.fastq_bismark.sorted.min.sam
using htslib.
Failed to read header, falling back.
Trying to process:
C:/Users/biocbuild/bbs-3.10-bioc/R/library/methylKit/extdata/test.fastq_bismark.sorted.min.sam
paired sam.
Conversion Statistics:
total otherC considered (>95% C+T): 10
average conversion rate = 100
total otherC considered (Forward) (>95% C+T): 10
average conversion rate (Forward) = 100
total otherC considered (Reverse) (>95% C+T): 0
average conversion rate (Reverse) = 0
Done.
Reading methylation percentage per base for sample: test1
Trying to process:
C:/Users/biocbuild/bbs-3.10-bioc/R/library/methylKit/extdata/test.fastq_bismark.sorted.min.sam
using htslib.
Failed to read header, falling back.
Trying to process:
C:/Users/biocbuild/bbs-3.10-bioc/R/library/methylKit/extdata/test.fastq_bismark.sorted.min.sam
paired sam.
Conversion Statistics:
total otherC considered (>95% C+T): 10
average conversion rate = 100
total otherC considered (Forward) (>95% C+T): 10
average conversion rate (Forward) = 100
total otherC considered (Reverse) (>95% C+T): 0
average conversion rate (Reverse) = 0
Done.
Reading methylation percentage per base for sample: test1
Trying to process:
C:/Users/biocbuild/bbs-3.10-bioc/R/library/methylKit/extdata/test.fastq_bismark.sorted.min.sam
using htslib.
Failed to read header, falling back.
Trying to process:
C:/Users/biocbuild/bbs-3.10-bioc/R/library/methylKit/extdata/test.fastq_bismark.sorted.min.sam
paired sam.
Conversion Statistics:
total otherC considered (>95% C+T): 10
average conversion rate = 100
total otherC considered (Forward) (>95% C+T): 10
average conversion rate (Forward) = 100
total otherC considered (Reverse) (>95% C+T): 0
average conversion rate (Reverse) = 0
Done.
Reading methylation percentage per base for sample: test1
Trying to process:
C:/Users/biocbuild/bbs-3.10-bioc/R/library/methylKit/extdata/test.fastq_bismark.sorted.min.sam
using htslib.
Failed to read header, falling back.
Trying to process:
C:/Users/biocbuild/bbs-3.10-bioc/R/library/methylKit/extdata/test.fastq_bismark.sorted.min.sam
paired sam.
Conversion Statistics:
total otherC considered (>95% C+T): 10
average conversion rate = 100
total otherC considered (Forward) (>95% C+T): 10
average conversion rate (Forward) = 100
total otherC considered (Reverse) (>95% C+T): 0
average conversion rate (Reverse) = 0
Done.
Reading methylation percentage per base for sample: test1
object has more than one sample id:
only one allowed
object has more than one sample id:
only one allowed
Using internal DSS code...
Using internal DSS code...
== testthat results ===========================================================
[ OK: 110 | SKIPPED: 0 | WARNINGS: 344 | FAILED: 0 ]
>
> proc.time()
user system elapsed
63.79 1.87 64.98
|
|
methylKit.Rcheck/examples_i386/methylKit-Ex.timings
|
methylKit.Rcheck/examples_x64/methylKit-Ex.timings
|