| Back to Multiple platform build/check report for BioC 3.10 |
|
This page was generated on 2020-04-15 12:21:32 -0400 (Wed, 15 Apr 2020).
| Package 1003/1823 | Hostname | OS / Arch | INSTALL | BUILD | CHECK | BUILD BIN | ||||||
| metagenomeSeq 1.28.2 Joseph N. Paulson
| malbec1 | Linux (Ubuntu 18.04.4 LTS) / x86_64 | OK | OK | WARNINGS | |||||||
| tokay1 | Windows Server 2012 R2 Standard / x64 | OK | OK | WARNINGS | [ OK ] | |||||||
| merida1 | OS X 10.11.6 El Capitan / x86_64 | OK | OK | WARNINGS | OK |
| Package: metagenomeSeq |
| Version: 1.28.2 |
| Command: rm -rf metagenomeSeq.buildbin-libdir && mkdir metagenomeSeq.buildbin-libdir && C:\Users\biocbuild\bbs-3.10-bioc\R\bin\R.exe CMD INSTALL --merge-multiarch --build --library=metagenomeSeq.buildbin-libdir metagenomeSeq_1.28.2.tar.gz |
| StartedAt: 2020-04-15 09:08:01 -0400 (Wed, 15 Apr 2020) |
| EndedAt: 2020-04-15 09:08:42 -0400 (Wed, 15 Apr 2020) |
| EllapsedTime: 41.1 seconds |
| RetCode: 0 |
| Status: OK |
| PackageFile: metagenomeSeq_1.28.2.zip |
| PackageFileSize: 2.096 MiB |
##############################################################################
##############################################################################
###
### Running command:
###
### rm -rf metagenomeSeq.buildbin-libdir && mkdir metagenomeSeq.buildbin-libdir && C:\Users\biocbuild\bbs-3.10-bioc\R\bin\R.exe CMD INSTALL --merge-multiarch --build --library=metagenomeSeq.buildbin-libdir metagenomeSeq_1.28.2.tar.gz
###
##############################################################################
##############################################################################
install for i386
* installing *source* package 'metagenomeSeq' ...
** using staged installation
** R
** data
** inst
** byte-compile and prepare package for lazy loading
in method for 'MRihw' with signature '"fitFeatureModelResults"': no definition for class "fitFeatureModelResults"
in method for 'MRihw' with signature '"fitZigResults"': no definition for class "fitZigResults"
** help
*** installing help indices
converting help for package 'metagenomeSeq'
finding HTML links ... done
MRcoefs html
MRcounts html
MRexperiment-class html
MRexperiment2biom html
MRfulltable html
MRihw-fitFeatureModelResults html
finding level-2 HTML links ... done
Rd warning: C:/Users/biocbuild/bbs-3.10-bioc/tmpdir/RtmpgbbofG/R.INSTALL43a81cb94936/metagenomeSeq/man/MRihw-fitFeatureModelResults.Rd:16: missing link 'fitFeatureModelResults'
Rd warning: C:/Users/biocbuild/bbs-3.10-bioc/tmpdir/RtmpgbbofG/R.INSTALL43a81cb94936/metagenomeSeq/man/MRihw-fitFeatureModelResults.Rd:17: missing link 'fitZigResults'
MRihw-fitZigResults html
Rd warning: C:/Users/biocbuild/bbs-3.10-bioc/tmpdir/RtmpgbbofG/R.INSTALL43a81cb94936/metagenomeSeq/man/MRihw-fitZigResults.Rd:16: missing link 'fitFeatureModelResults'
Rd warning: C:/Users/biocbuild/bbs-3.10-bioc/tmpdir/RtmpgbbofG/R.INSTALL43a81cb94936/metagenomeSeq/man/MRihw-fitZigResults.Rd:17: missing link 'fitZigResults'
MRihw html
MRtable html
aggregateBySample html
aggregateByTaxonomy html
biom2MRexperiment html
calcNormFactors html
calcPosComponent html
calcShrinkParameters html
calcStandardError html
calcZeroAdjustment html
calcZeroComponent html
calculateEffectiveSamples html
correctIndices html
correlationTest html
cumNorm html
cumNormMat html
cumNormStat html
cumNormStatFast html
doCountMStep html
doEStep html
doZeroMStep html
expSummary html
exportMat html
exportStats html
extractMR html
filterData html
fitDO html
fitFeatureModel html
fitFeatureModelResults-class html
fitLogNormal html
fitMultipleTimeSeries html
fitPA html
fitSSTimeSeries html
fitTimeSeries html
fitZeroLogNormal html
fitZig html
fitZigResults-class html
getCountDensity html
getEpsilon html
getNegativeLogLikelihoods html
getPi html
getZ html
isItStillActive html
libSize-set html
libSize html
loadBiom html
loadMeta html
loadMetaQ html
loadPhenoData html
lungData html
makeLabels html
mergeMRexperiments html
mergeTable html
metagenomeSeq-deprecated html
metagenomeSeq-package html
mouseData html
newMRexperiment html
normFactors-set html
normFactors html
plotBubble html
plotClassTimeSeries html
plotCorr html
plotFeature html
plotGenus html
plotMRheatmap html
plotOTU html
plotOrd html
plotRare html
plotTimeSeries html
posteriorProbs html
returnAppropriateObj html
ssFit html
ssIntervalCandidate html
ssPerm html
ssPermAnalysis html
trapz html
ts2MRexperiment html
uniqueFeatures html
wrenchNorm html
zigControl html
** building package indices
** installing vignettes
** testing if installed package can be loaded from temporary location
** testing if installed package can be loaded from final location
** testing if installed package keeps a record of temporary installation path
install for x64
* installing *source* package 'metagenomeSeq' ...
** testing if installed package can be loaded
* MD5 sums
packaged installation of 'metagenomeSeq' as metagenomeSeq_1.28.2.zip
* DONE (metagenomeSeq)