| Back to Multiple platform build/check report for BioC 3.10 |
|
This page was generated on 2020-04-15 12:23:24 -0400 (Wed, 15 Apr 2020).
| Package 1000/1823 | Hostname | OS / Arch | INSTALL | BUILD | CHECK | BUILD BIN | ||||||
| metagene 2.18.0 Charles Joly Beauparlant
| malbec1 | Linux (Ubuntu 18.04.4 LTS) / x86_64 | OK | OK | OK | |||||||
| tokay1 | Windows Server 2012 R2 Standard / x64 | OK | OK | OK | [ OK ] | |||||||
| merida1 | OS X 10.11.6 El Capitan / x86_64 | OK | OK | OK | OK |
| Package: metagene |
| Version: 2.18.0 |
| Command: rm -rf metagene.buildbin-libdir && mkdir metagene.buildbin-libdir && C:\Users\biocbuild\bbs-3.10-bioc\R\bin\R.exe CMD INSTALL --merge-multiarch --build --library=metagene.buildbin-libdir metagene_2.18.0.tar.gz |
| StartedAt: 2020-04-15 09:07:54 -0400 (Wed, 15 Apr 2020) |
| EndedAt: 2020-04-15 09:09:14 -0400 (Wed, 15 Apr 2020) |
| EllapsedTime: 79.3 seconds |
| RetCode: 0 |
| Status: OK |
| PackageFile: metagene_2.18.0.zip |
| PackageFileSize: 6.228 MiB |
##############################################################################
##############################################################################
###
### Running command:
###
### rm -rf metagene.buildbin-libdir && mkdir metagene.buildbin-libdir && C:\Users\biocbuild\bbs-3.10-bioc\R\bin\R.exe CMD INSTALL --merge-multiarch --build --library=metagene.buildbin-libdir metagene_2.18.0.tar.gz
###
##############################################################################
##############################################################################
install for i386
* installing *source* package 'metagene' ...
** using staged installation
** R
** data
*** moving datasets to lazyload DB
** inst
** byte-compile and prepare package for lazy loading
** help
*** installing help indices
converting help for package 'metagene'
finding HTML links ... done
Bam_Handler html
avoid_gaps_update html
bed_file_filter html
exon_by_gene_with_observed_transcripts
html
get_demo_bam_files html
get_demo_design html
get_demo_metagene html
get_demo_regions html
get_promoters_txdb html
metagene html
permutation_test html
plot_metagene html
promoters_hg18 html
promoters_hg19 html
promoters_mm10 html
promoters_mm9 html
write_bed_file_filter_result html
** building package indices
** installing vignettes
** testing if installed package can be loaded from temporary location
** testing if installed package can be loaded from final location
** testing if installed package keeps a record of temporary installation path
install for x64
* installing *source* package 'metagene' ...
** testing if installed package can be loaded
* MD5 sums
packaged installation of 'metagene' as metagene_2.18.0.zip
* DONE (metagene)