| Back to Multiple platform build/check report for BioC 3.10 |
|
This page was generated on 2020-04-15 12:08:58 -0400 (Wed, 15 Apr 2020).
| Package 996/1823 | Hostname | OS / Arch | INSTALL | BUILD | CHECK | BUILD BIN | ||||||
| metabomxtr 1.20.0 Michael Nodzenski
| malbec1 | Linux (Ubuntu 18.04.4 LTS) / x86_64 | OK | OK | [ OK ] | |||||||
| tokay1 | Windows Server 2012 R2 Standard / x64 | OK | OK | OK | OK | |||||||
| merida1 | OS X 10.11.6 El Capitan / x86_64 | OK | OK | OK | OK |
| Package: metabomxtr |
| Version: 1.20.0 |
| Command: /home/biocbuild/bbs-3.10-bioc/R/bin/R CMD check --install=check:metabomxtr.install-out.txt --library=/home/biocbuild/bbs-3.10-bioc/R/library --no-vignettes --timings metabomxtr_1.20.0.tar.gz |
| StartedAt: 2020-04-15 02:22:28 -0400 (Wed, 15 Apr 2020) |
| EndedAt: 2020-04-15 02:23:54 -0400 (Wed, 15 Apr 2020) |
| EllapsedTime: 86.2 seconds |
| RetCode: 0 |
| Status: OK |
| CheckDir: metabomxtr.Rcheck |
| Warnings: 0 |
##############################################################################
##############################################################################
###
### Running command:
###
### /home/biocbuild/bbs-3.10-bioc/R/bin/R CMD check --install=check:metabomxtr.install-out.txt --library=/home/biocbuild/bbs-3.10-bioc/R/library --no-vignettes --timings metabomxtr_1.20.0.tar.gz
###
##############################################################################
##############################################################################
* using log directory ‘/home/biocbuild/bbs-3.10-bioc/meat/metabomxtr.Rcheck’
* using R version 3.6.3 (2020-02-29)
* using platform: x86_64-pc-linux-gnu (64-bit)
* using session charset: UTF-8
* using option ‘--no-vignettes’
* checking for file ‘metabomxtr/DESCRIPTION’ ... OK
* checking extension type ... Package
* this is package ‘metabomxtr’ version ‘1.20.0’
* checking package namespace information ... OK
* checking package dependencies ... OK
* checking if this is a source package ... OK
* checking if there is a namespace ... OK
* checking for hidden files and directories ... OK
* checking for portable file names ... OK
* checking for sufficient/correct file permissions ... OK
* checking whether package ‘metabomxtr’ can be installed ... OK
* checking installed package size ... OK
* checking package directory ... OK
* checking ‘build’ directory ... OK
* checking DESCRIPTION meta-information ... OK
* checking top-level files ... OK
* checking for left-over files ... OK
* checking index information ... OK
* checking package subdirectories ... OK
* checking R files for non-ASCII characters ... OK
* checking R files for syntax errors ... OK
* checking whether the package can be loaded ... OK
* checking whether the package can be loaded with stated dependencies ... OK
* checking whether the package can be unloaded cleanly ... OK
* checking whether the namespace can be loaded with stated dependencies ... OK
* checking whether the namespace can be unloaded cleanly ... OK
* checking dependencies in R code ... OK
* checking S3 generic/method consistency ... OK
* checking replacement functions ... OK
* checking foreign function calls ... OK
* checking R code for possible problems ... OK
* checking Rd files ... OK
* checking Rd metadata ... OK
* checking Rd cross-references ... OK
* checking for missing documentation entries ... OK
* checking for code/documentation mismatches ... OK
* checking Rd \usage sections ... OK
* checking Rd contents ... OK
* checking for unstated dependencies in examples ... OK
* checking contents of ‘data’ directory ... OK
* checking data for non-ASCII characters ... OK
* checking data for ASCII and uncompressed saves ... OK
* checking files in ‘vignettes’ ... OK
* checking examples ... OK
Examples with CPU or elapsed time > 5s
user system elapsed
mxtrmod 3.824 1.712 2.527
* checking for unstated dependencies in vignettes ... OK
* checking package vignettes in ‘inst/doc’ ... OK
* checking running R code from vignettes ... SKIPPED
* checking re-building of vignette outputs ... SKIPPED
* checking PDF version of manual ... OK
* DONE
Status: OK
metabomxtr.Rcheck/00install.out
############################################################################## ############################################################################## ### ### Running command: ### ### /home/biocbuild/bbs-3.10-bioc/R/bin/R CMD INSTALL metabomxtr ### ############################################################################## ############################################################################## * installing to library ‘/home/biocbuild/bbs-3.10-bioc/R/library’ * installing *source* package ‘metabomxtr’ ... ** using staged installation ** R ** data ** byte-compile and prepare package for lazy loading ** help *** installing help indices ** building package indices ** installing vignettes ** testing if installed package can be loaded from temporary location ** testing if installed package can be loaded from final location ** testing if installed package keeps a record of temporary installation path * DONE (metabomxtr)
metabomxtr.Rcheck/metabomxtr-Ex.timings
| name | user | system | elapsed | |
| addBatchMeans | 0.028 | 0.000 | 0.027 | |
| addOutlierInfo | 0.000 | 0.000 | 0.002 | |
| allMissingLevels | 0.004 | 0.000 | 0.005 | |
| anyMissingLevels | 0.000 | 0.000 | 0.004 | |
| idMissingLevels | 0.004 | 0.000 | 0.005 | |
| metabomxtr-package | 3.472 | 1.308 | 2.552 | |
| metabplot | 2.132 | 0.748 | 1.521 | |
| mixnorm | 1.656 | 0.940 | 0.876 | |
| mxtrmod | 3.824 | 1.712 | 2.527 | |
| mxtrmodLL | 0.008 | 0.000 | 0.005 | |
| mxtrmodLRT | 1.944 | 0.876 | 1.207 | |
| mxtrmodstart | 0.004 | 0.000 | 0.004 | |
| removeAllMissingCatVar | 0.004 | 0.000 | 0.004 | |
| removeMissingLevels | 0.000 | 0.004 | 0.004 | |
| runMxtrmod | 1.644 | 0.304 | 1.385 | |