| Back to Multiple platform build/check report for BioC 3.10 |
|
This page was generated on 2020-04-15 12:08:32 -0400 (Wed, 15 Apr 2020).
| Package 993/1823 | Hostname | OS / Arch | INSTALL | BUILD | CHECK | BUILD BIN | ||||||
| messina 1.22.0 Mark Pinese
| malbec1 | Linux (Ubuntu 18.04.4 LTS) / x86_64 | OK | OK | [ OK ] | |||||||
| tokay1 | Windows Server 2012 R2 Standard / x64 | OK | OK | WARNINGS | OK | |||||||
| merida1 | OS X 10.11.6 El Capitan / x86_64 | OK | OK | OK | OK |
| Package: messina |
| Version: 1.22.0 |
| Command: /home/biocbuild/bbs-3.10-bioc/R/bin/R CMD check --install=check:messina.install-out.txt --library=/home/biocbuild/bbs-3.10-bioc/R/library --no-vignettes --timings messina_1.22.0.tar.gz |
| StartedAt: 2020-04-15 02:07:18 -0400 (Wed, 15 Apr 2020) |
| EndedAt: 2020-04-15 02:09:30 -0400 (Wed, 15 Apr 2020) |
| EllapsedTime: 132.3 seconds |
| RetCode: 0 |
| Status: OK |
| CheckDir: messina.Rcheck |
| Warnings: 0 |
##############################################################################
##############################################################################
###
### Running command:
###
### /home/biocbuild/bbs-3.10-bioc/R/bin/R CMD check --install=check:messina.install-out.txt --library=/home/biocbuild/bbs-3.10-bioc/R/library --no-vignettes --timings messina_1.22.0.tar.gz
###
##############################################################################
##############################################################################
* using log directory ‘/home/biocbuild/bbs-3.10-bioc/meat/messina.Rcheck’
* using R version 3.6.3 (2020-02-29)
* using platform: x86_64-pc-linux-gnu (64-bit)
* using session charset: UTF-8
* using option ‘--no-vignettes’
* checking for file ‘messina/DESCRIPTION’ ... OK
* checking extension type ... Package
* this is package ‘messina’ version ‘1.22.0’
* checking package namespace information ... OK
* checking package dependencies ... OK
* checking if this is a source package ... OK
* checking if there is a namespace ... OK
* checking for hidden files and directories ... OK
* checking for portable file names ... OK
* checking for sufficient/correct file permissions ... OK
* checking whether package ‘messina’ can be installed ... OK
* checking installed package size ... OK
* checking package directory ... OK
* checking ‘build’ directory ... OK
* checking DESCRIPTION meta-information ... NOTE
Malformed Title field: should not end in a period.
* checking top-level files ... OK
* checking for left-over files ... OK
* checking index information ... OK
* checking package subdirectories ... OK
* checking R files for non-ASCII characters ... OK
* checking R files for syntax errors ... OK
* checking whether the package can be loaded ... OK
* checking whether the package can be loaded with stated dependencies ... OK
* checking whether the package can be unloaded cleanly ... OK
* checking whether the namespace can be loaded with stated dependencies ... OK
* checking whether the namespace can be unloaded cleanly ... OK
* checking dependencies in R code ... NOTE
'library' or 'require' call to ‘Biobase’ in package code.
Please use :: or requireNamespace() instead.
See section 'Suggested packages' in the 'Writing R Extensions' manual.
* checking S3 generic/method consistency ... OK
* checking replacement functions ... OK
* checking foreign function calls ... OK
* checking R code for possible problems ... NOTE
calcBootstrapKaplanMeierEstimatesAtTimes : <anonymous> : <anonymous>:
no visible global function definition for ‘approx’
messina: no visible global function definition for ‘str’
messinaClassPlot: no visible global function definition for ‘reorder’
messinaSurvKMplot : <anonymous>: no visible binding for global variable
‘median’
messinaSurvKMplot : <anonymous>: no visible binding for global variable
‘quantile’
messinaSurvKMplot : <anonymous>: no visible binding for global variable
‘sd’
messinaSurvKMplotSingleGroup: no visible binding for global variable
‘median’
messinaSurvKMplotSingleGroup: no visible binding for global variable
‘quantile’
messinaSurvKMplotSingleGroup: no visible binding for global variable
‘sd’
messinaSurvObjPlot: no visible global function definition for
‘quantile’
messinaSurvObjectiveFunc: no visible global function definition for
‘coef’
messinaSurvPlot: no visible global function definition for ‘str’
Undefined global functions or variables:
approx coef median quantile reorder sd str
Consider adding
importFrom("stats", "approx", "coef", "median", "quantile", "reorder",
"sd")
importFrom("utils", "str")
to your NAMESPACE file.
* checking Rd files ... OK
* checking Rd metadata ... OK
* checking Rd cross-references ... OK
* checking for missing documentation entries ... OK
* checking for code/documentation mismatches ... OK
* checking Rd \usage sections ... OK
* checking Rd contents ... OK
* checking for unstated dependencies in examples ... OK
* checking contents of ‘data’ directory ... OK
* checking data for non-ASCII characters ... OK
* checking data for ASCII and uncompressed saves ... OK
* checking line endings in C/C++/Fortran sources/headers ... OK
* checking compiled code ... NOTE
Note: information on .o files is not available
* checking files in ‘vignettes’ ... OK
* checking examples ... OK
Examples with CPU or elapsed time > 5s
user system elapsed
plot-MessinaSurvResult-missing-method 41.636 0.004 41.734
messinaSurv 24.340 0.040 24.441
* checking for unstated dependencies in vignettes ... OK
* checking package vignettes in ‘inst/doc’ ... OK
* checking running R code from vignettes ... SKIPPED
* checking re-building of vignette outputs ... SKIPPED
* checking PDF version of manual ... OK
* DONE
Status: 4 NOTEs
See
‘/home/biocbuild/bbs-3.10-bioc/meat/messina.Rcheck/00check.log’
for details.
messina.Rcheck/00install.out
############################################################################## ############################################################################## ### ### Running command: ### ### /home/biocbuild/bbs-3.10-bioc/R/bin/R CMD INSTALL messina ### ############################################################################## ############################################################################## * installing to library ‘/home/biocbuild/bbs-3.10-bioc/R/library’ * installing *source* package ‘messina’ ... ** using staged installation ** libs g++ -std=gnu++11 -I"/home/biocbuild/bbs-3.10-bioc/R/include" -DNDEBUG -I"/home/biocbuild/bbs-3.10-bioc/R/library/Rcpp/include" -I/usr/local/include -fpic -g -O2 -Wall -c Classifier.cpp -o Classifier.o g++ -std=gnu++11 -I"/home/biocbuild/bbs-3.10-bioc/R/include" -DNDEBUG -I"/home/biocbuild/bbs-3.10-bioc/R/library/Rcpp/include" -I/usr/local/include -fpic -g -O2 -Wall -c Data.cpp -o Data.o g++ -std=gnu++11 -I"/home/biocbuild/bbs-3.10-bioc/R/include" -DNDEBUG -I"/home/biocbuild/bbs-3.10-bioc/R/library/Rcpp/include" -I/usr/local/include -fpic -g -O2 -Wall -c RcppExports.cpp -o RcppExports.o g++ -std=gnu++11 -I"/home/biocbuild/bbs-3.10-bioc/R/include" -DNDEBUG -I"/home/biocbuild/bbs-3.10-bioc/R/library/Rcpp/include" -I/usr/local/include -fpic -g -O2 -Wall -c crossval.cpp -o crossval.o g++ -std=gnu++11 -I"/home/biocbuild/bbs-3.10-bioc/R/include" -DNDEBUG -I"/home/biocbuild/bbs-3.10-bioc/R/library/Rcpp/include" -I/usr/local/include -fpic -g -O2 -Wall -c errors.cpp -o errors.o g++ -std=gnu++11 -I"/home/biocbuild/bbs-3.10-bioc/R/include" -DNDEBUG -I"/home/biocbuild/bbs-3.10-bioc/R/library/Rcpp/include" -I/usr/local/include -fpic -g -O2 -Wall -c init.cpp -o init.o g++ -std=gnu++11 -I"/home/biocbuild/bbs-3.10-bioc/R/include" -DNDEBUG -I"/home/biocbuild/bbs-3.10-bioc/R/library/Rcpp/include" -I/usr/local/include -fpic -g -O2 -Wall -c messinaExtern.cpp -o messinaExtern.o g++ -std=gnu++11 -shared -L/home/biocbuild/bbs-3.10-bioc/R/lib -L/usr/local/lib -o messina.so Classifier.o Data.o RcppExports.o crossval.o errors.o init.o messinaExtern.o -L/home/biocbuild/bbs-3.10-bioc/R/lib -lR installing to /home/biocbuild/bbs-3.10-bioc/R/library/00LOCK-messina/00new/messina/libs ** R ** data ** inst ** byte-compile and prepare package for lazy loading ** help *** installing help indices ** building package indices ** installing vignettes ** testing if installed package can be loaded from temporary location ** checking absolute paths in shared objects and dynamic libraries ** testing if installed package can be loaded from final location ** testing if installed package keeps a record of temporary installation path * DONE (messina)
messina.Rcheck/messina-Ex.timings
| name | user | system | elapsed | |
| messina | 1.916 | 0.044 | 2.189 | |
| messinaDE | 1.228 | 0.020 | 1.252 | |
| messinaSurv | 24.340 | 0.040 | 24.441 | |
| messinaTopResults | 1.112 | 0.032 | 1.147 | |
| plot-MessinaClassResult-missing-method | 3.024 | 0.024 | 3.053 | |
| plot-MessinaSurvResult-missing-method | 41.636 | 0.004 | 41.734 | |