| Back to Multiple platform build/check report for BioC 3.10 |
|
This page was generated on 2020-04-15 12:22:41 -0400 (Wed, 15 Apr 2020).
| Package 959/1823 | Hostname | OS / Arch | INSTALL | BUILD | CHECK | BUILD BIN | ||||||
| massiR 1.22.0 Sam Buckberry
| malbec1 | Linux (Ubuntu 18.04.4 LTS) / x86_64 | OK | OK | OK | |||||||
| tokay1 | Windows Server 2012 R2 Standard / x64 | [ OK ] | OK | OK | OK | |||||||
| merida1 | OS X 10.11.6 El Capitan / x86_64 | OK | OK | OK | OK |
| Package: massiR |
| Version: 1.22.0 |
| Command: C:\cygwin\bin\curl.exe -O https://malbec1.bioconductor.org/BBS/3.10/bioc/src/contrib/massiR_1.22.0.tar.gz && rm -rf massiR.buildbin-libdir && mkdir massiR.buildbin-libdir && C:\Users\biocbuild\bbs-3.10-bioc\R\bin\R.exe CMD INSTALL --merge-multiarch --build --library=massiR.buildbin-libdir massiR_1.22.0.tar.gz && C:\Users\biocbuild\bbs-3.10-bioc\R\bin\R.exe CMD INSTALL massiR_1.22.0.zip && rm massiR_1.22.0.tar.gz massiR_1.22.0.zip |
| StartedAt: 2020-04-14 19:01:27 -0400 (Tue, 14 Apr 2020) |
| EndedAt: 2020-04-14 19:01:56 -0400 (Tue, 14 Apr 2020) |
| EllapsedTime: 28.4 seconds |
| RetCode: 0 |
| Status: OK |
##############################################################################
##############################################################################
###
### Running command:
###
### C:\cygwin\bin\curl.exe -O https://malbec1.bioconductor.org/BBS/3.10/bioc/src/contrib/massiR_1.22.0.tar.gz && rm -rf massiR.buildbin-libdir && mkdir massiR.buildbin-libdir && C:\Users\biocbuild\bbs-3.10-bioc\R\bin\R.exe CMD INSTALL --merge-multiarch --build --library=massiR.buildbin-libdir massiR_1.22.0.tar.gz && C:\Users\biocbuild\bbs-3.10-bioc\R\bin\R.exe CMD INSTALL massiR_1.22.0.zip && rm massiR_1.22.0.tar.gz massiR_1.22.0.zip
###
##############################################################################
##############################################################################
% Total % Received % Xferd Average Speed Time Time Time Current
Dload Upload Total Spent Left Speed
0 0 0 0 0 0 0 0 --:--:-- --:--:-- --:--:-- 0
100 916k 100 916k 0 0 20.2M 0 --:--:-- --:--:-- --:--:-- 22.3M
install for i386
* installing *source* package 'massiR' ...
** using staged installation
** R
** data
*** moving datasets to lazyload DB
** inst
** byte-compile and prepare package for lazy loading
** help
*** installing help indices
converting help for package 'massiR'
finding HTML links ... done
massi.test.dataset html
massi.test.probes html
massiR-package html
massi_cluster html
massi_cluster_plot html
massi_dip html
massi_eset html
massi_select html
massi_y html
massi_y_plot html
y_probes html
** building package indices
** installing vignettes
** testing if installed package can be loaded from temporary location
** testing if installed package can be loaded from final location
** testing if installed package keeps a record of temporary installation path
install for x64
* installing *source* package 'massiR' ...
** testing if installed package can be loaded
* MD5 sums
packaged installation of 'massiR' as massiR_1.22.0.zip
* DONE (massiR)
* installing to library 'C:/Users/biocbuild/bbs-3.10-bioc/R/library'
package 'massiR' successfully unpacked and MD5 sums checked