| Back to Multiple platform build/check report for BioC 3.10 |
|
This page was generated on 2020-04-15 12:05:05 -0400 (Wed, 15 Apr 2020).
| Package 944/1823 | Hostname | OS / Arch | INSTALL | BUILD | CHECK | BUILD BIN | ||||||
| maigesPack 1.50.0 Gustavo H. Esteves
| malbec1 | Linux (Ubuntu 18.04.4 LTS) / x86_64 | OK | OK | [ OK ] | |||||||
| tokay1 | Windows Server 2012 R2 Standard / x64 | OK | OK | ERROR | OK | |||||||
| merida1 | OS X 10.11.6 El Capitan / x86_64 | OK | OK | OK | OK |
| Package: maigesPack |
| Version: 1.50.0 |
| Command: /home/biocbuild/bbs-3.10-bioc/R/bin/R CMD check --install=check:maigesPack.install-out.txt --library=/home/biocbuild/bbs-3.10-bioc/R/library --no-vignettes --timings maigesPack_1.50.0.tar.gz |
| StartedAt: 2020-04-15 00:27:02 -0400 (Wed, 15 Apr 2020) |
| EndedAt: 2020-04-15 00:29:05 -0400 (Wed, 15 Apr 2020) |
| EllapsedTime: 123.7 seconds |
| RetCode: 0 |
| Status: OK |
| CheckDir: maigesPack.Rcheck |
| Warnings: 0 |
##############################################################################
##############################################################################
###
### Running command:
###
### /home/biocbuild/bbs-3.10-bioc/R/bin/R CMD check --install=check:maigesPack.install-out.txt --library=/home/biocbuild/bbs-3.10-bioc/R/library --no-vignettes --timings maigesPack_1.50.0.tar.gz
###
##############################################################################
##############################################################################
* using log directory ‘/home/biocbuild/bbs-3.10-bioc/meat/maigesPack.Rcheck’
* using R version 3.6.3 (2020-02-29)
* using platform: x86_64-pc-linux-gnu (64-bit)
* using session charset: UTF-8
* using option ‘--no-vignettes’
* checking for file ‘maigesPack/DESCRIPTION’ ... OK
* this is package ‘maigesPack’ version ‘1.50.0’
* checking package namespace information ... OK
* checking package dependencies ... OK
* checking if this is a source package ... OK
* checking if there is a namespace ... OK
* checking for hidden files and directories ... NOTE
Found the following hidden files and directories:
.BBSoptions
These were most likely included in error. See section ‘Package
structure’ in the ‘Writing R Extensions’ manual.
* checking for portable file names ... OK
* checking for sufficient/correct file permissions ... OK
* checking whether package ‘maigesPack’ can be installed ... OK
* checking installed package size ... OK
* checking package directory ... OK
* checking ‘build’ directory ... OK
* checking DESCRIPTION meta-information ... NOTE
Malformed Description field: should contain one or more complete sentences.
* checking top-level files ... OK
* checking for left-over files ... OK
* checking index information ... OK
* checking package subdirectories ... OK
* checking R files for non-ASCII characters ... OK
* checking R files for syntax errors ... OK
* checking whether the package can be loaded ... OK
* checking whether the package can be loaded with stated dependencies ... OK
* checking whether the package can be unloaded cleanly ... OK
* checking whether the namespace can be loaded with stated dependencies ... OK
* checking whether the namespace can be unloaded cleanly ... OK
* checking dependencies in R code ... NOTE
'library' or 'require' calls in package code:
‘OLIN’ ‘annotate’ ‘rgl’
Please use :: or requireNamespace() instead.
See section 'Suggested packages' in the 'Writing R Extensions' manual.
* checking S3 generic/method consistency ... OK
* checking replacement functions ... OK
* checking foreign function calls ... OK
* checking R code for possible problems ... NOTE
activeMod: no visible global function definition for ‘sessionInfo’
activeModScoreHTML: no visible binding for global variable ‘data’
activeNet: no visible global function definition for ‘sessionInfo’
activeNetScoreHTML: no visible binding for global variable ‘data’
blackBlue: no visible global function definition for ‘col2rgb’
blackBlue: no visible global function definition for ‘rgb’
classifyKNN: no visible global function definition for ‘sessionInfo’
classifyKNNsc: no visible global function definition for ‘sessionInfo’
classifyLDA: no visible global function definition for ‘sessionInfo’
classifyLDAsc: no visible global function definition for ‘sessionInfo’
classifySVM: no visible global function definition for ‘sessionInfo’
classifySVMsc: no visible global function definition for ‘sessionInfo’
createMaigesRaw: no visible global function definition for
‘sessionInfo’
createTDMS: no visible global function definition for ‘write.table’
deGenes2by2BootT: no visible global function definition for
‘sessionInfo’
deGenes2by2Ttest: no visible global function definition for
‘sessionInfo’
deGenes2by2Wilcox: no visible global function definition for
‘sessionInfo’
deGenesANOVA: no visible global function definition for ‘sessionInfo’
designANOVA: no visible global function definition for ‘sessionInfo’
greenRed: no visible global function definition for ‘col2rgb’
greenRed: no visible global function definition for ‘rgb’
loadData: no visible global function definition for ‘read.table’
loadData: no visible global function definition for ‘sessionInfo’
normLoc: no visible global function definition for ‘sessionInfo’
normOLIN: no visible global function definition for ‘sessionInfo’
normRepLoess: no visible global function definition for ‘sessionInfo’
normScaleLimma: no visible global function definition for ‘sessionInfo’
normScaleMarray: no visible global function definition for
‘sessionInfo’
print.maiges: no visible global function definition for ‘str’
print.maigesANOVA: no visible global function definition for ‘str’
print.maigesPreRaw: no visible global function definition for ‘str’
print.maigesRaw: no visible global function definition for ‘str’
relNet2TGF.maigesRelNetB: no visible global function definition for
‘write.table’
relNet2TGF.maigesRelNetM: no visible global function definition for
‘write.table’
relNetworkB: no visible global function definition for ‘sessionInfo’
relNetworkM: no visible global function definition for ‘sessionInfo’
selSpots: no visible global function definition for ‘sessionInfo’
summarizeReplicates: no visible global function definition for
‘sessionInfo’
tableClass: no visible global function definition for ‘write.table’
tablesDE: no visible global function definition for ‘setRepository’
tablesDE: no visible global function definition for ‘write.table’
Undefined global functions or variables:
col2rgb data read.table rgb sessionInfo setRepository str write.table
Consider adding
importFrom("grDevices", "col2rgb", "rgb")
importFrom("utils", "data", "read.table", "sessionInfo", "str",
"write.table")
to your NAMESPACE file.
* checking Rd files ... OK
* checking Rd metadata ... OK
* checking Rd cross-references ... OK
* checking for missing documentation entries ... OK
* checking for code/documentation mismatches ... OK
* checking Rd \usage sections ... OK
* checking Rd contents ... OK
* checking for unstated dependencies in examples ... OK
* checking contents of ‘data’ directory ... OK
* checking data for non-ASCII characters ... OK
* checking data for ASCII and uncompressed saves ... OK
* checking line endings in C/C++/Fortran sources/headers ... OK
* checking compiled code ... NOTE
Note: information on .o files is not available
* checking files in ‘vignettes’ ... OK
* checking examples ... OK
Examples with CPU or elapsed time > 5s
user system elapsed
normScaleLimma 7.620 0.124 7.770
plot-methods 7.432 0.132 8.136
* checking for unstated dependencies in vignettes ... OK
* checking package vignettes in ‘inst/doc’ ... OK
* checking running R code from vignettes ... SKIPPED
* checking re-building of vignette outputs ... SKIPPED
* checking PDF version of manual ... OK
* DONE
Status: 5 NOTEs
See
‘/home/biocbuild/bbs-3.10-bioc/meat/maigesPack.Rcheck/00check.log’
for details.
maigesPack.Rcheck/00install.out
############################################################################## ############################################################################## ### ### Running command: ### ### /home/biocbuild/bbs-3.10-bioc/R/bin/R CMD INSTALL maigesPack ### ############################################################################## ############################################################################## * installing to library ‘/home/biocbuild/bbs-3.10-bioc/R/library’ * installing *source* package ‘maigesPack’ ... ** using staged installation ** libs gcc -I"/home/biocbuild/bbs-3.10-bioc/R/include" -DNDEBUG -I/usr/local/include -fpic -g -O2 -Wall -c Minfo.c -o Minfo.o gcc -I"/home/biocbuild/bbs-3.10-bioc/R/include" -DNDEBUG -I/usr/local/include -fpic -g -O2 -Wall -c bootstrapT.c -o bootstrapT.o gcc -I"/home/biocbuild/bbs-3.10-bioc/R/include" -DNDEBUG -I/usr/local/include -fpic -g -O2 -Wall -c register.c -o register.o gcc -I"/home/biocbuild/bbs-3.10-bioc/R/include" -DNDEBUG -I/usr/local/include -fpic -g -O2 -Wall -c robustCorr.c -o robustCorr.o gcc -I"/home/biocbuild/bbs-3.10-bioc/R/include" -DNDEBUG -I/usr/local/include -fpic -g -O2 -Wall -c stats.c -o stats.o gcc -shared -L/home/biocbuild/bbs-3.10-bioc/R/lib -L/usr/local/lib -o maigesPack.so Minfo.o bootstrapT.o register.o robustCorr.o stats.o -L/home/biocbuild/bbs-3.10-bioc/R/lib -lR installing to /home/biocbuild/bbs-3.10-bioc/R/library/00LOCK-maigesPack/00new/maigesPack/libs ** R ** data ** byte-compile and prepare package for lazy loading ** help *** installing help indices ** building package indices ** installing vignettes ** testing if installed package can be loaded from temporary location ** checking absolute paths in shared objects and dynamic libraries ** testing if installed package can be loaded from final location ** testing if installed package keeps a record of temporary installation path * DONE (maigesPack)
maigesPack.Rcheck/maigesPack-Ex.timings
| name | user | system | elapsed | |
| MI | 0.004 | 0.000 | 0.003 | |
| activeMod | 1.808 | 0.004 | 1.820 | |
| activeModScoreHTML | 0.756 | 0.000 | 0.755 | |
| activeNet | 3.340 | 0.020 | 3.378 | |
| activeNetScoreHTML | 3.332 | 0.004 | 3.334 | |
| addGeneGrps | 0 | 0 | 0 | |
| addPaths | 0 | 0 | 0 | |
| bootstrapCor | 0.044 | 0.004 | 0.047 | |
| bootstrapMI | 0.2 | 0.0 | 0.2 | |
| bootstrapT | 0.004 | 0.000 | 0.002 | |
| boxplot-methods | 2.112 | 0.152 | 2.266 | |
| bracketMethods | 0.220 | 0.000 | 0.219 | |
| calcA | 0.180 | 0.088 | 0.267 | |
| calcW | 0.188 | 0.088 | 0.276 | |
| classifyKNN | 0.144 | 0.012 | 0.156 | |
| classifyKNNsc | 0.224 | 0.000 | 0.225 | |
| classifyLDA | 0.872 | 0.000 | 0.874 | |
| classifyLDAsc | 1.184 | 0.008 | 1.195 | |
| classifySVM | 0.468 | 0.000 | 0.468 | |
| classifySVMsc | 0.924 | 0.004 | 0.930 | |
| coerce-methods | 0.088 | 0.004 | 0.090 | |
| compCorr | 0 | 0 | 0 | |
| createMaigesRaw | 0.172 | 0.004 | 0.177 | |
| deGenes2by2BootT | 0.512 | 0.008 | 0.523 | |
| deGenes2by2Ttest | 0.272 | 0.000 | 0.268 | |
| deGenes2by2Wilcox | 0.248 | 0.004 | 0.254 | |
| deGenesANOVA | 0.148 | 0.012 | 0.159 | |
| designANOVA | 0.108 | 0.000 | 0.107 | |
| dim-methods | 0.072 | 0.000 | 0.071 | |
| getLabels | 0.080 | 0.004 | 0.083 | |
| hierM | 1.232 | 0.012 | 1.188 | |
| hierMde | 1.704 | 0.024 | 1.769 | |
| image-methods | 1.408 | 0.020 | 1.441 | |
| kmeansM | 1.540 | 0.000 | 1.561 | |
| kmeansMde | 0.396 | 0.008 | 0.409 | |
| loadData | 0.000 | 0.000 | 0.001 | |
| normLoc | 2.416 | 0.024 | 2.446 | |
| normOLIN | 0.092 | 0.004 | 0.098 | |
| normRepLoess | 0.092 | 0.004 | 0.093 | |
| normScaleLimma | 7.620 | 0.124 | 7.770 | |
| normScaleMarray | 0.948 | 0.044 | 0.990 | |
| plot-methods | 7.432 | 0.132 | 8.136 | |
| plotGenePair | 0.140 | 0.004 | 0.146 | |
| print-methods | 0.164 | 0.008 | 0.174 | |
| relNet2TGF | 0.164 | 0.012 | 0.178 | |
| relNetworkB | 1.724 | 0.008 | 1.735 | |
| relNetworkM | 0.128 | 0.004 | 0.132 | |
| robustCorr | 0.000 | 0.000 | 0.001 | |
| selSpots | 0.456 | 0.028 | 0.483 | |
| show-methods | 0.116 | 0.004 | 0.122 | |
| somM | 1.512 | 0.008 | 1.543 | |
| somMde | 0.460 | 0.004 | 0.468 | |
| summarizeReplicates | 1.320 | 0.004 | 1.325 | |
| summary-methods | 0.116 | 0.000 | 0.113 | |
| tableClass | 0.496 | 0.000 | 0.499 | |
| tablesDE | 3.732 | 0.068 | 3.805 | |