| Back to Multiple platform build/check report for BioC 3.10 |
|
This page was generated on 2020-04-15 12:25:52 -0400 (Wed, 15 Apr 2020).
| Package 926/1823 | Hostname | OS / Arch | INSTALL | BUILD | CHECK | BUILD BIN | ||||||
| lpsymphony 1.14.0 Vladislav Kim
| malbec1 | Linux (Ubuntu 18.04.4 LTS) / x86_64 | OK | OK | WARNINGS | |||||||
| tokay1 | Windows Server 2012 R2 Standard / x64 | [ OK ] | OK | WARNINGS | OK | |||||||
| merida1 | OS X 10.11.6 El Capitan / x86_64 | OK | OK | WARNINGS | OK |
| Package: lpsymphony |
| Version: 1.14.0 |
| Command: C:\cygwin\bin\curl.exe -O https://malbec1.bioconductor.org/BBS/3.10/bioc/src/contrib/lpsymphony_1.14.0.tar.gz && rm -rf lpsymphony.buildbin-libdir && mkdir lpsymphony.buildbin-libdir && C:\Users\biocbuild\bbs-3.10-bioc\R\bin\R.exe CMD INSTALL --merge-multiarch --build --library=lpsymphony.buildbin-libdir lpsymphony_1.14.0.tar.gz && C:\Users\biocbuild\bbs-3.10-bioc\R\bin\R.exe CMD INSTALL lpsymphony_1.14.0.zip && rm lpsymphony_1.14.0.tar.gz lpsymphony_1.14.0.zip |
| StartedAt: 2020-04-14 18:29:09 -0400 (Tue, 14 Apr 2020) |
| EndedAt: 2020-04-14 18:30:33 -0400 (Tue, 14 Apr 2020) |
| EllapsedTime: 84.4 seconds |
| RetCode: 0 |
| Status: OK |
##############################################################################
##############################################################################
###
### Running command:
###
### C:\cygwin\bin\curl.exe -O https://malbec1.bioconductor.org/BBS/3.10/bioc/src/contrib/lpsymphony_1.14.0.tar.gz && rm -rf lpsymphony.buildbin-libdir && mkdir lpsymphony.buildbin-libdir && C:\Users\biocbuild\bbs-3.10-bioc\R\bin\R.exe CMD INSTALL --merge-multiarch --build --library=lpsymphony.buildbin-libdir lpsymphony_1.14.0.tar.gz && C:\Users\biocbuild\bbs-3.10-bioc\R\bin\R.exe CMD INSTALL lpsymphony_1.14.0.zip && rm lpsymphony_1.14.0.tar.gz lpsymphony_1.14.0.zip
###
##############################################################################
##############################################################################
% Total % Received % Xferd Average Speed Time Time Time Current
Dload Upload Total Spent Left Speed
0 0 0 0 0 0 0 0 --:--:-- --:--:-- --:--:-- 0
100 15.0M 100 15.0M 0 0 46.8M 0 --:--:-- --:--:-- --:--:-- 47.3M
install for i386
* installing *source* package 'lpsymphony' ...
** using staged installation
** libs
cp WinLib/i386/*.dll .
installing to C:/Users/biocbuild/bbs-3.10-bioc/meat/lpsymphony.buildbin-libdir/00LOCK-lpsymphony/00new/lpsymphony/libs/i386
** R
** byte-compile and prepare package for lazy loading
** help
*** installing help indices
converting help for package 'lpsymphony'
finding HTML links ... done
lpsymphony_solve html
** building package indices
** installing vignettes
** testing if installed package can be loaded from temporary location
** testing if installed package can be loaded from final location
** testing if installed package keeps a record of temporary installation path
install for x64
* installing *source* package 'lpsymphony' ...
** libs
cp WinLib/x64/*.dll .
installing to C:/Users/biocbuild/bbs-3.10-bioc/meat/lpsymphony.buildbin-libdir/lpsymphony/libs/x64
** testing if installed package can be loaded
* MD5 sums
packaged installation of 'lpsymphony' as lpsymphony_1.14.0.zip
* DONE (lpsymphony)
* installing to library 'C:/Users/biocbuild/bbs-3.10-bioc/R/library'
package 'lpsymphony' successfully unpacked and MD5 sums checked