| Back to Multiple platform build/check report for BioC 3.10 |
|
This page was generated on 2020-04-15 12:21:22 -0400 (Wed, 15 Apr 2020).
| Package 925/1823 | Hostname | OS / Arch | INSTALL | BUILD | CHECK | BUILD BIN | ||||||
| lpNet 2.18.0 Lars Kaderali
| malbec1 | Linux (Ubuntu 18.04.4 LTS) / x86_64 | OK | OK | OK | |||||||
| tokay1 | Windows Server 2012 R2 Standard / x64 | OK | OK | OK | [ OK ] | |||||||
| merida1 | OS X 10.11.6 El Capitan / x86_64 | OK | OK | OK | OK |
| Package: lpNet |
| Version: 2.18.0 |
| Command: rm -rf lpNet.buildbin-libdir && mkdir lpNet.buildbin-libdir && C:\Users\biocbuild\bbs-3.10-bioc\R\bin\R.exe CMD INSTALL --merge-multiarch --build --library=lpNet.buildbin-libdir lpNet_2.18.0.tar.gz |
| StartedAt: 2020-04-15 09:03:41 -0400 (Wed, 15 Apr 2020) |
| EndedAt: 2020-04-15 09:04:32 -0400 (Wed, 15 Apr 2020) |
| EllapsedTime: 51.1 seconds |
| RetCode: 0 |
| Status: OK |
| PackageFile: lpNet_2.18.0.zip |
| PackageFileSize: 329 KiB |
##############################################################################
##############################################################################
###
### Running command:
###
### rm -rf lpNet.buildbin-libdir && mkdir lpNet.buildbin-libdir && C:\Users\biocbuild\bbs-3.10-bioc\R\bin\R.exe CMD INSTALL --merge-multiarch --build --library=lpNet.buildbin-libdir lpNet_2.18.0.tar.gz
###
##############################################################################
##############################################################################
install for i386
* installing *source* package 'lpNet' ...
** using staged installation
** R
** inst
** byte-compile and prepare package for lazy loading
** help
*** installing help indices
converting help for package 'lpNet'
finding HTML links ... done
CV html
calcActivation html
calcPrediction html
calcRangeLambda html
doILP html
generateTimeSeriesNetStates html
getAdja html
getBaseline html
getEdgeAnnot html
getObsMat html
getSampleAdja html
lpNet-package html
summarizeRepl html
** building package indices
** installing vignettes
** testing if installed package can be loaded from temporary location
** testing if installed package can be loaded from final location
** testing if installed package keeps a record of temporary installation path
install for x64
* installing *source* package 'lpNet' ...
** testing if installed package can be loaded
* MD5 sums
packaged installation of 'lpNet' as lpNet_2.18.0.zip
* DONE (lpNet)