| Back to Multiple platform build/check report for BioC 3.10 |
|
This page was generated on 2020-04-15 12:18:05 -0400 (Wed, 15 Apr 2020).
| Package 888/1823 | Hostname | OS / Arch | INSTALL | BUILD | CHECK | BUILD BIN | ||||||
| keggorthology 2.38.0 VJ Carey
| malbec1 | Linux (Ubuntu 18.04.4 LTS) / x86_64 | OK | OK | OK | |||||||
| tokay1 | Windows Server 2012 R2 Standard / x64 | OK | OK | OK | [ OK ] | |||||||
| merida1 | OS X 10.11.6 El Capitan / x86_64 | OK | OK | OK | OK |
| Package: keggorthology |
| Version: 2.38.0 |
| Command: rm -rf keggorthology.buildbin-libdir && mkdir keggorthology.buildbin-libdir && C:\Users\biocbuild\bbs-3.10-bioc\R\bin\R.exe CMD INSTALL --merge-multiarch --build --library=keggorthology.buildbin-libdir keggorthology_2.38.0.tar.gz |
| StartedAt: 2020-04-15 09:01:35 -0400 (Wed, 15 Apr 2020) |
| EndedAt: 2020-04-15 09:02:12 -0400 (Wed, 15 Apr 2020) |
| EllapsedTime: 37.1 seconds |
| RetCode: 0 |
| Status: OK |
| PackageFile: keggorthology_2.38.0.zip |
| PackageFileSize: 689.9 KiB |
##############################################################################
##############################################################################
###
### Running command:
###
### rm -rf keggorthology.buildbin-libdir && mkdir keggorthology.buildbin-libdir && C:\Users\biocbuild\bbs-3.10-bioc\R\bin\R.exe CMD INSTALL --merge-multiarch --build --library=keggorthology.buildbin-libdir keggorthology_2.38.0.tar.gz
###
##############################################################################
##############################################################################
install for i386
* installing *source* package 'keggorthology' ...
** using staged installation
** R
** data
** inst
** byte-compile and prepare package for lazy loading
** help
*** installing help indices
converting help for package 'keggorthology'
finding HTML links ... done
getKOprobes html
indRender html
keggDF2graph html
** building package indices
** installing vignettes
** testing if installed package can be loaded from temporary location
** testing if installed package can be loaded from final location
** testing if installed package keeps a record of temporary installation path
install for x64
* installing *source* package 'keggorthology' ...
** testing if installed package can be loaded
* MD5 sums
packaged installation of 'keggorthology' as keggorthology_2.38.0.zip
* DONE (keggorthology)