| Back to Multiple platform build/check report for BioC 3.10 |
|
This page was generated on 2020-04-15 12:26:28 -0400 (Wed, 15 Apr 2020).
| Package 872/1823 | Hostname | OS / Arch | INSTALL | BUILD | CHECK | BUILD BIN | ||||||
| isomiRs 1.14.0 Lorena Pantano
| malbec1 | Linux (Ubuntu 18.04.4 LTS) / x86_64 | OK | OK | OK | |||||||
| tokay1 | Windows Server 2012 R2 Standard / x64 | OK | OK | [ OK ] | OK | |||||||
| merida1 | OS X 10.11.6 El Capitan / x86_64 | OK | OK | OK | OK |
| Package: isomiRs |
| Version: 1.14.0 |
| Command: C:\Users\biocbuild\bbs-3.10-bioc\R\bin\R.exe CMD check --force-multiarch --install=check:isomiRs.install-out.txt --library=C:\Users\biocbuild\bbs-3.10-bioc\R\library --no-vignettes --timings isomiRs_1.14.0.tar.gz |
| StartedAt: 2020-04-15 04:11:32 -0400 (Wed, 15 Apr 2020) |
| EndedAt: 2020-04-15 04:18:10 -0400 (Wed, 15 Apr 2020) |
| EllapsedTime: 398.2 seconds |
| RetCode: 0 |
| Status: OK |
| CheckDir: isomiRs.Rcheck |
| Warnings: 0 |
##############################################################################
##############################################################################
###
### Running command:
###
### C:\Users\biocbuild\bbs-3.10-bioc\R\bin\R.exe CMD check --force-multiarch --install=check:isomiRs.install-out.txt --library=C:\Users\biocbuild\bbs-3.10-bioc\R\library --no-vignettes --timings isomiRs_1.14.0.tar.gz
###
##############################################################################
##############################################################################
* using log directory 'C:/Users/biocbuild/bbs-3.10-bioc/meat/isomiRs.Rcheck'
* using R version 3.6.3 (2020-02-29)
* using platform: x86_64-w64-mingw32 (64-bit)
* using session charset: ISO8859-1
* using option '--no-vignettes'
* checking for file 'isomiRs/DESCRIPTION' ... OK
* checking extension type ... Package
* this is package 'isomiRs' version '1.14.0'
* package encoding: UTF-8
* checking package namespace information ... OK
* checking package dependencies ... OK
* checking if this is a source package ... OK
* checking if there is a namespace ... OK
* checking for hidden files and directories ... NOTE
Found the following hidden files and directories:
.travis.yml
These were most likely included in error. See section 'Package
structure' in the 'Writing R Extensions' manual.
* checking for portable file names ... OK
* checking whether package 'isomiRs' can be installed ... OK
* checking installed package size ... OK
* checking package directory ... OK
* checking 'build' directory ... OK
* checking DESCRIPTION meta-information ... OK
* checking top-level files ... OK
* checking for left-over files ... OK
* checking index information ... OK
* checking package subdirectories ... OK
* checking R files for non-ASCII characters ... OK
* checking R files for syntax errors ... OK
* loading checks for arch 'i386'
** checking whether the package can be loaded ... OK
** checking whether the package can be loaded with stated dependencies ... OK
** checking whether the package can be unloaded cleanly ... OK
** checking whether the namespace can be loaded with stated dependencies ... OK
** checking whether the namespace can be unloaded cleanly ... OK
* loading checks for arch 'x64'
** checking whether the package can be loaded ... OK
** checking whether the package can be loaded with stated dependencies ... OK
** checking whether the package can be unloaded cleanly ... OK
** checking whether the namespace can be loaded with stated dependencies ... OK
** checking whether the namespace can be unloaded cleanly ... OK
* checking dependencies in R code ... OK
* checking S3 generic/method consistency ... OK
* checking replacement functions ... OK
* checking foreign function calls ... OK
* checking R code for possible problems ... NOTE
.clean_noise: no visible binding for global variable 'total'
.clean_noise: no visible binding for global variable 'hits'
isoAnnotate: no visible binding for global variable 'pct'
isoCounts: no visible global function definition for 'as.tibble'
isoPlot: no visible binding for global variable 'iso_sample'
isoPlotPosition: no visible binding for global variable 'iso_sample'
mirna2targetscan: no visible binding for global variable
'targetscan.Hs.egMIRNA'
mirna2targetscan: no visible binding for global variable
'targetscan.Hs.egMIRBASE2FAMILY'
mirna2targetscan: no visible binding for global variable
'targetscan.Hs.egTARGETS'
mirna2targetscan: no visible binding for global variable
'targetscan.Hs.egTARGETSFULL'
mirna2targetscan: no visible binding for global variable
'targetscan.Mm.egMIRNA'
mirna2targetscan: no visible binding for global variable
'targetscan.Mm.egMIRBASE2FAMILY'
mirna2targetscan: no visible binding for global variable
'targetscan.Mm.egTARGETS'
mirna2targetscan: no visible binding for global variable
'targetscan.Mm.egTARGETSFULL'
Undefined global functions or variables:
as.tibble hits iso_sample pct targetscan.Hs.egMIRBASE2FAMILY
targetscan.Hs.egMIRNA targetscan.Hs.egTARGETS
targetscan.Hs.egTARGETSFULL targetscan.Mm.egMIRBASE2FAMILY
targetscan.Mm.egMIRNA targetscan.Mm.egTARGETS
targetscan.Mm.egTARGETSFULL total
* checking Rd files ... OK
* checking Rd metadata ... OK
* checking Rd cross-references ... OK
* checking for missing documentation entries ... OK
* checking for code/documentation mismatches ... OK
* checking Rd \usage sections ... OK
* checking Rd contents ... OK
* checking for unstated dependencies in examples ... OK
* checking contents of 'data' directory ... OK
* checking data for non-ASCII characters ... OK
* checking data for ASCII and uncompressed saves ... OK
* checking files in 'vignettes' ... OK
* checking examples ...
** running examples for arch 'i386' ... OK
Examples with CPU or elapsed time > 5s
user system elapsed
isoDE 7.48 0.03 7.51
isoNetwork 5.58 0.04 5.63
isoAnnotate 5.08 0.09 5.17
** running examples for arch 'x64' ... OK
Examples with CPU or elapsed time > 5s
user system elapsed
isoDE 8.15 0.02 8.17
isoNetwork 6.67 0.03 6.73
isoAnnotate 4.80 0.25 5.04
* checking for unstated dependencies in 'tests' ... OK
* checking tests ...
** running tests for arch 'i386' ...
Running 'testthat.R'
OK
** running tests for arch 'x64' ...
Running 'testthat.R'
OK
* checking for unstated dependencies in vignettes ... OK
* checking package vignettes in 'inst/doc' ... OK
* checking running R code from vignettes ... SKIPPED
* checking re-building of vignette outputs ... SKIPPED
* checking PDF version of manual ... OK
* DONE
Status: 2 NOTEs
See
'C:/Users/biocbuild/bbs-3.10-bioc/meat/isomiRs.Rcheck/00check.log'
for details.
isomiRs.Rcheck/00install.out
##############################################################################
##############################################################################
###
### Running command:
###
### C:\cygwin\bin\curl.exe -O https://malbec1.bioconductor.org/BBS/3.10/bioc/src/contrib/isomiRs_1.14.0.tar.gz && rm -rf isomiRs.buildbin-libdir && mkdir isomiRs.buildbin-libdir && C:\Users\biocbuild\bbs-3.10-bioc\R\bin\R.exe CMD INSTALL --merge-multiarch --build --library=isomiRs.buildbin-libdir isomiRs_1.14.0.tar.gz && C:\Users\biocbuild\bbs-3.10-bioc\R\bin\R.exe CMD INSTALL isomiRs_1.14.0.zip && rm isomiRs_1.14.0.tar.gz isomiRs_1.14.0.zip
###
##############################################################################
##############################################################################
% Total % Received % Xferd Average Speed Time Time Time Current
Dload Upload Total Spent Left Speed
0 0 0 0 0 0 0 0 --:--:-- --:--:-- --:--:-- 0
12 3011k 12 384k 0 0 2584k 0 0:00:01 --:--:-- 0:00:01 2630k
100 3011k 100 3011k 0 0 5755k 0 --:--:-- --:--:-- --:--:-- 5791k
install for i386
* installing *source* package 'isomiRs' ...
** using staged installation
** R
** data
*** moving datasets to lazyload DB
Registered S3 method overwritten by 'GGally':
method from
+.gg ggplot2
** inst
** byte-compile and prepare package for lazy loading
** help
*** installing help indices
converting help for package 'isomiRs'
finding HTML links ... done
IsomirDataSeq html
IsomirDataSeqFromFiles html
counts html
dat286.long html
design html
ego html
findTargets html
gene_ex_rse html
isoAnnotate html
isoCounts html
isoDE html
isoNetwork html
isoNorm html
isoPLSDA html
isoPLSDAplot html
isoPlot html
isoPlotNet html
isoPlotPosition html
isoSelect html
isoTop html
isomiRs-package html
ma_ex html
mirData html
mirTritation html
mirna2targetscan html
mirna_ex_rse html
updateIsomirDataSeq html
** building package indices
** installing vignettes
** testing if installed package can be loaded from temporary location
** testing if installed package can be loaded from final location
** testing if installed package keeps a record of temporary installation path
install for x64
* installing *source* package 'isomiRs' ...
** testing if installed package can be loaded
* MD5 sums
packaged installation of 'isomiRs' as isomiRs_1.14.0.zip
* DONE (isomiRs)
* installing to library 'C:/Users/biocbuild/bbs-3.10-bioc/R/library'
package 'isomiRs' successfully unpacked and MD5 sums checked
|
isomiRs.Rcheck/tests_i386/testthat.Rout
R version 3.6.3 (2020-02-29) -- "Holding the Windsock"
Copyright (C) 2020 The R Foundation for Statistical Computing
Platform: i386-w64-mingw32/i386 (32-bit)
R is free software and comes with ABSOLUTELY NO WARRANTY.
You are welcome to redistribute it under certain conditions.
Type 'license()' or 'licence()' for distribution details.
R is a collaborative project with many contributors.
Type 'contributors()' for more information and
'citation()' on how to cite R or R packages in publications.
Type 'demo()' for some demos, 'help()' for on-line help, or
'help.start()' for an HTML browser interface to help.
Type 'q()' to quit R.
> library(testthat)
> library(isomiRs)
Loading required package: DiscriMiner
Loading required package: SummarizedExperiment
Loading required package: GenomicRanges
Loading required package: stats4
Loading required package: BiocGenerics
Loading required package: parallel
Attaching package: 'BiocGenerics'
The following objects are masked from 'package:parallel':
clusterApply, clusterApplyLB, clusterCall, clusterEvalQ,
clusterExport, clusterMap, parApply, parCapply, parLapply,
parLapplyLB, parRapply, parSapply, parSapplyLB
The following objects are masked from 'package:stats':
IQR, mad, sd, var, xtabs
The following objects are masked from 'package:base':
Filter, Find, Map, Position, Reduce, anyDuplicated, append,
as.data.frame, basename, cbind, colnames, dirname, do.call,
duplicated, eval, evalq, get, grep, grepl, intersect, is.unsorted,
lapply, mapply, match, mget, order, paste, pmax, pmax.int, pmin,
pmin.int, rank, rbind, rownames, sapply, setdiff, sort, table,
tapply, union, unique, unsplit, which, which.max, which.min
Loading required package: S4Vectors
Attaching package: 'S4Vectors'
The following object is masked from 'package:base':
expand.grid
Loading required package: IRanges
Attaching package: 'IRanges'
The following object is masked from 'package:grDevices':
windows
Loading required package: GenomeInfoDb
Loading required package: Biobase
Welcome to Bioconductor
Vignettes contain introductory material; view with
'browseVignettes()'. To cite Bioconductor, see
'citation("Biobase")', and for packages 'citation("pkgname")'.
Loading required package: DelayedArray
Loading required package: matrixStats
Attaching package: 'matrixStats'
The following objects are masked from 'package:Biobase':
anyMissing, rowMedians
Loading required package: BiocParallel
Attaching package: 'DelayedArray'
The following objects are masked from 'package:matrixStats':
colMaxs, colMins, colRanges, rowMaxs, rowMins, rowRanges
The following objects are masked from 'package:base':
aperm, apply, rowsum
>
> test_check("isomiRs")
Dimmension of cor matrix: 20 20
Dimmension of cor matrix: 3 2
Dimmension of cor matrix: 3 2
Dimmension of cor matrix: 0 0
== testthat results ===========================================================
[ OK: 28 | SKIPPED: 0 | WARNINGS: 0 | FAILED: 0 ]
>
> proc.time()
user system elapsed
19.03 1.32 20.34
|
isomiRs.Rcheck/tests_x64/testthat.Rout
R version 3.6.3 (2020-02-29) -- "Holding the Windsock"
Copyright (C) 2020 The R Foundation for Statistical Computing
Platform: x86_64-w64-mingw32/x64 (64-bit)
R is free software and comes with ABSOLUTELY NO WARRANTY.
You are welcome to redistribute it under certain conditions.
Type 'license()' or 'licence()' for distribution details.
R is a collaborative project with many contributors.
Type 'contributors()' for more information and
'citation()' on how to cite R or R packages in publications.
Type 'demo()' for some demos, 'help()' for on-line help, or
'help.start()' for an HTML browser interface to help.
Type 'q()' to quit R.
> library(testthat)
> library(isomiRs)
Loading required package: DiscriMiner
Loading required package: SummarizedExperiment
Loading required package: GenomicRanges
Loading required package: stats4
Loading required package: BiocGenerics
Loading required package: parallel
Attaching package: 'BiocGenerics'
The following objects are masked from 'package:parallel':
clusterApply, clusterApplyLB, clusterCall, clusterEvalQ,
clusterExport, clusterMap, parApply, parCapply, parLapply,
parLapplyLB, parRapply, parSapply, parSapplyLB
The following objects are masked from 'package:stats':
IQR, mad, sd, var, xtabs
The following objects are masked from 'package:base':
Filter, Find, Map, Position, Reduce, anyDuplicated, append,
as.data.frame, basename, cbind, colnames, dirname, do.call,
duplicated, eval, evalq, get, grep, grepl, intersect, is.unsorted,
lapply, mapply, match, mget, order, paste, pmax, pmax.int, pmin,
pmin.int, rank, rbind, rownames, sapply, setdiff, sort, table,
tapply, union, unique, unsplit, which, which.max, which.min
Loading required package: S4Vectors
Attaching package: 'S4Vectors'
The following object is masked from 'package:base':
expand.grid
Loading required package: IRanges
Attaching package: 'IRanges'
The following object is masked from 'package:grDevices':
windows
Loading required package: GenomeInfoDb
Loading required package: Biobase
Welcome to Bioconductor
Vignettes contain introductory material; view with
'browseVignettes()'. To cite Bioconductor, see
'citation("Biobase")', and for packages 'citation("pkgname")'.
Loading required package: DelayedArray
Loading required package: matrixStats
Attaching package: 'matrixStats'
The following objects are masked from 'package:Biobase':
anyMissing, rowMedians
Loading required package: BiocParallel
Attaching package: 'DelayedArray'
The following objects are masked from 'package:matrixStats':
colMaxs, colMins, colRanges, rowMaxs, rowMins, rowRanges
The following objects are masked from 'package:base':
aperm, apply, rowsum
>
> test_check("isomiRs")
Dimmension of cor matrix: 20 20
Dimmension of cor matrix: 3 2
Dimmension of cor matrix: 3 2
Dimmension of cor matrix: 0 0
== testthat results ===========================================================
[ OK: 28 | SKIPPED: 0 | WARNINGS: 0 | FAILED: 0 ]
>
> proc.time()
user system elapsed
18.93 0.68 19.64
|
|
isomiRs.Rcheck/examples_i386/isomiRs-Ex.timings
|
isomiRs.Rcheck/examples_x64/isomiRs-Ex.timings
|