| Back to Multiple platform build/check report for BioC 3.10 |
|
This page was generated on 2020-04-15 12:30:47 -0400 (Wed, 15 Apr 2020).
| Package 860/1823 | Hostname | OS / Arch | INSTALL | BUILD | CHECK | BUILD BIN | ||||||
| ipdDb 1.4.0 Steffen Klasberg
| malbec1 | Linux (Ubuntu 18.04.4 LTS) / x86_64 | OK | OK | OK | |||||||
| tokay1 | Windows Server 2012 R2 Standard / x64 | [ OK ] | OK | OK | OK | |||||||
| merida1 | OS X 10.11.6 El Capitan / x86_64 | OK | OK | OK | OK |
| Package: ipdDb |
| Version: 1.4.0 |
| Command: C:\cygwin\bin\curl.exe -O https://malbec1.bioconductor.org/BBS/3.10/bioc/src/contrib/ipdDb_1.4.0.tar.gz && rm -rf ipdDb.buildbin-libdir && mkdir ipdDb.buildbin-libdir && C:\Users\biocbuild\bbs-3.10-bioc\R\bin\R.exe CMD INSTALL --merge-multiarch --build --library=ipdDb.buildbin-libdir ipdDb_1.4.0.tar.gz && C:\Users\biocbuild\bbs-3.10-bioc\R\bin\R.exe CMD INSTALL ipdDb_1.4.0.zip && rm ipdDb_1.4.0.tar.gz ipdDb_1.4.0.zip |
| StartedAt: 2020-04-14 19:30:56 -0400 (Tue, 14 Apr 2020) |
| EndedAt: 2020-04-14 19:31:24 -0400 (Tue, 14 Apr 2020) |
| EllapsedTime: 28.5 seconds |
| RetCode: 0 |
| Status: OK |
##############################################################################
##############################################################################
###
### Running command:
###
### C:\cygwin\bin\curl.exe -O https://malbec1.bioconductor.org/BBS/3.10/bioc/src/contrib/ipdDb_1.4.0.tar.gz && rm -rf ipdDb.buildbin-libdir && mkdir ipdDb.buildbin-libdir && C:\Users\biocbuild\bbs-3.10-bioc\R\bin\R.exe CMD INSTALL --merge-multiarch --build --library=ipdDb.buildbin-libdir ipdDb_1.4.0.tar.gz && C:\Users\biocbuild\bbs-3.10-bioc\R\bin\R.exe CMD INSTALL ipdDb_1.4.0.zip && rm ipdDb_1.4.0.tar.gz ipdDb_1.4.0.zip
###
##############################################################################
##############################################################################
% Total % Received % Xferd Average Speed Time Time Time Current
Dload Upload Total Spent Left Speed
0 0 0 0 0 0 0 0 --:--:-- --:--:-- --:--:-- 0
100 16238 100 16238 0 0 227k 0 --:--:-- --:--:-- --:--:-- 240k
install for i386
* installing *source* package 'ipdDb' ...
** using staged installation
** R
** inst
** byte-compile and prepare package for lazy loading
** help
*** installing help indices
converting help for package 'ipdDb'
finding HTML links ... done
IpdDb html
getAlleles-IpdDb-method html
getClosestComplete-IpdDb-method html
getLoci-IpdDb-method html
getReference-IpdDb-method html
getStructure-IpdDb-method html
ipdDbPackage html
loadHlaData html
loadKirData html
** building package indices
** installing vignettes
** testing if installed package can be loaded from temporary location
** testing if installed package can be loaded from final location
** testing if installed package keeps a record of temporary installation path
install for x64
* installing *source* package 'ipdDb' ...
** testing if installed package can be loaded
* MD5 sums
packaged installation of 'ipdDb' as ipdDb_1.4.0.zip
* DONE (ipdDb)
* installing to library 'C:/Users/biocbuild/bbs-3.10-bioc/R/library'
package 'ipdDb' successfully unpacked and MD5 sums checked