| Back to Multiple platform build/check report for BioC 3.10 |
|
This page was generated on 2020-04-15 12:32:28 -0400 (Wed, 15 Apr 2020).
| Package 845/1823 | Hostname | OS / Arch | INSTALL | BUILD | CHECK | BUILD BIN | ||||||
| infercnv 1.2.1 Christophe Georgescu
| malbec1 | Linux (Ubuntu 18.04.4 LTS) / x86_64 | OK | OK | OK | |||||||
| tokay1 | Windows Server 2012 R2 Standard / x64 | OK | OK | OK | [ OK ] | |||||||
| merida1 | OS X 10.11.6 El Capitan / x86_64 | OK | OK | OK | OK |
| Package: infercnv |
| Version: 1.2.1 |
| Command: rm -rf infercnv.buildbin-libdir && mkdir infercnv.buildbin-libdir && C:\Users\biocbuild\bbs-3.10-bioc\R\bin\R.exe CMD INSTALL --merge-multiarch --build --library=infercnv.buildbin-libdir infercnv_1.2.1.tar.gz |
| StartedAt: 2020-04-15 08:59:06 -0400 (Wed, 15 Apr 2020) |
| EndedAt: 2020-04-15 08:59:51 -0400 (Wed, 15 Apr 2020) |
| EllapsedTime: 44.3 seconds |
| RetCode: 0 |
| Status: OK |
| PackageFile: infercnv_1.2.1.zip |
| PackageFileSize: 4.265 MiB |
##############################################################################
##############################################################################
###
### Running command:
###
### rm -rf infercnv.buildbin-libdir && mkdir infercnv.buildbin-libdir && C:\Users\biocbuild\bbs-3.10-bioc\R\bin\R.exe CMD INSTALL --merge-multiarch --build --library=infercnv.buildbin-libdir infercnv_1.2.1.tar.gz
###
##############################################################################
##############################################################################
install for i386
* installing *source* package 'infercnv' ...
** using staged installation
** R
** data
*** moving datasets to lazyload DB
** inst
** byte-compile and prepare package for lazy loading
** help
*** installing help indices
converting help for package 'infercnv'
finding HTML links ... done
CreateInfercnvObject html
HMM_states html
MCMC_inferCNV-class html
add_to_seurat html
annots html
apply_median_filtering html
data html
filterHighPNormals html
genes html
inferCNVBayesNet html
infercnv-class html
infercnv-package html
infercnv_obj html
mcmc_obj html
plot_cnv html
plot_per_group html
run html
sample_object html
validate_infercnv_obj html
** building package indices
** installing vignettes
** testing if installed package can be loaded from temporary location
** testing if installed package can be loaded from final location
** testing if installed package keeps a record of temporary installation path
install for x64
* installing *source* package 'infercnv' ...
** testing if installed package can be loaded
* MD5 sums
packaged installation of 'infercnv' as infercnv_1.2.1.zip
* DONE (infercnv)