| Back to Multiple platform build/check report for BioC 3.10 |
|
This page was generated on 2020-04-15 12:17:17 -0400 (Wed, 15 Apr 2020).
| Package 825/1823 | Hostname | OS / Arch | INSTALL | BUILD | CHECK | BUILD BIN | ||||||
| idiogram 1.62.0 Karl J. Dykema
| malbec1 | Linux (Ubuntu 18.04.4 LTS) / x86_64 | OK | OK | OK | |||||||
| tokay1 | Windows Server 2012 R2 Standard / x64 | OK | OK | OK | [ OK ] | |||||||
| merida1 | OS X 10.11.6 El Capitan / x86_64 | OK | OK | OK | OK |
| Package: idiogram |
| Version: 1.62.0 |
| Command: rm -rf idiogram.buildbin-libdir && mkdir idiogram.buildbin-libdir && C:\Users\biocbuild\bbs-3.10-bioc\R\bin\R.exe CMD INSTALL --merge-multiarch --build --library=idiogram.buildbin-libdir idiogram_1.62.0.tar.gz |
| StartedAt: 2020-04-15 08:57:58 -0400 (Wed, 15 Apr 2020) |
| EndedAt: 2020-04-15 08:58:43 -0400 (Wed, 15 Apr 2020) |
| EllapsedTime: 44.2 seconds |
| RetCode: 0 |
| Status: OK |
| PackageFile: idiogram_1.62.0.zip |
| PackageFileSize: 3.719 MiB |
##############################################################################
##############################################################################
###
### Running command:
###
### rm -rf idiogram.buildbin-libdir && mkdir idiogram.buildbin-libdir && C:\Users\biocbuild\bbs-3.10-bioc\R\bin\R.exe CMD INSTALL --merge-multiarch --build --library=idiogram.buildbin-libdir idiogram_1.62.0.tar.gz
###
##############################################################################
##############################################################################
install for i386
* installing *source* package 'idiogram' ...
** using staged installation
** R
** data
*** moving datasets to lazyload DB
** inst
** byte-compile and prepare package for lazy loading
** help
*** installing help indices
converting help for package 'idiogram'
finding HTML links ... done
Hs.cytoband html
buildChromLocation.2 html
cytoband html
idiograb html
idiogram html
idiogramExample html
** building package indices
** installing vignettes
** testing if installed package can be loaded from temporary location
** testing if installed package can be loaded from final location
** testing if installed package keeps a record of temporary installation path
install for x64
* installing *source* package 'idiogram' ...
** testing if installed package can be loaded
* MD5 sums
packaged installation of 'idiogram' as idiogram_1.62.0.zip
* DONE (idiogram)