| Back to Multiple platform build/check report for BioC 3.10 |
|
This page was generated on 2020-04-15 12:19:46 -0400 (Wed, 15 Apr 2020).
| Package 813/1823 | Hostname | OS / Arch | INSTALL | BUILD | CHECK | BUILD BIN | ||||||
| ibh 1.34.0 Kircicegi Korkmaz
| malbec1 | Linux (Ubuntu 18.04.4 LTS) / x86_64 | OK | OK | OK | |||||||
| tokay1 | Windows Server 2012 R2 Standard / x64 | OK | OK | [ OK ] | OK | |||||||
| merida1 | OS X 10.11.6 El Capitan / x86_64 | OK | OK | OK | OK |
| Package: ibh |
| Version: 1.34.0 |
| Command: C:\Users\biocbuild\bbs-3.10-bioc\R\bin\R.exe CMD check --force-multiarch --install=check:ibh.install-out.txt --library=C:\Users\biocbuild\bbs-3.10-bioc\R\library --no-vignettes --timings ibh_1.34.0.tar.gz |
| StartedAt: 2020-04-15 03:57:44 -0400 (Wed, 15 Apr 2020) |
| EndedAt: 2020-04-15 03:58:24 -0400 (Wed, 15 Apr 2020) |
| EllapsedTime: 40.0 seconds |
| RetCode: 0 |
| Status: OK |
| CheckDir: ibh.Rcheck |
| Warnings: 0 |
##############################################################################
##############################################################################
###
### Running command:
###
### C:\Users\biocbuild\bbs-3.10-bioc\R\bin\R.exe CMD check --force-multiarch --install=check:ibh.install-out.txt --library=C:\Users\biocbuild\bbs-3.10-bioc\R\library --no-vignettes --timings ibh_1.34.0.tar.gz
###
##############################################################################
##############################################################################
* using log directory 'C:/Users/biocbuild/bbs-3.10-bioc/meat/ibh.Rcheck'
* using R version 3.6.3 (2020-02-29)
* using platform: x86_64-w64-mingw32 (64-bit)
* using session charset: ISO8859-1
* using option '--no-vignettes'
* checking for file 'ibh/DESCRIPTION' ... OK
* checking extension type ... Package
* this is package 'ibh' version '1.34.0'
* checking package namespace information ... OK
* checking package dependencies ... OK
* checking if this is a source package ... OK
* checking if there is a namespace ... OK
* checking for hidden files and directories ... OK
* checking for portable file names ... OK
* checking whether package 'ibh' can be installed ... OK
* checking installed package size ... OK
* checking package directory ... OK
* checking 'build' directory ... OK
* checking DESCRIPTION meta-information ... OK
* checking top-level files ... OK
* checking for left-over files ... OK
* checking index information ... OK
* checking package subdirectories ... OK
* checking R files for non-ASCII characters ... OK
* checking R files for syntax errors ... OK
* loading checks for arch 'i386'
** checking whether the package can be loaded ... OK
** checking whether the package can be loaded with stated dependencies ... OK
** checking whether the package can be unloaded cleanly ... OK
** checking whether the namespace can be loaded with stated dependencies ... OK
** checking whether the namespace can be unloaded cleanly ... OK
* loading checks for arch 'x64'
** checking whether the package can be loaded ... OK
** checking whether the package can be loaded with stated dependencies ... OK
** checking whether the package can be unloaded cleanly ... OK
** checking whether the namespace can be loaded with stated dependencies ... OK
** checking whether the namespace can be unloaded cleanly ... OK
* checking dependencies in R code ... NOTE
Package in Depends field not imported from: 'simpIntLists'
These packages need to be imported from (in the NAMESPACE file)
for when this namespace is loaded but not attached.
* checking S3 generic/method consistency ... OK
* checking replacement functions ... OK
* checking foreign function calls ... OK
* checking R code for possible problems ... NOTE
ibhBioGRID: no visible global function definition for
'findInteractionList'
ibhForMultipleGeneListsBioGRID: no visible global function definition
for 'findInteractionList'
readDirectedInteractionsFromCsv: no visible global function definition
for 'read.csv'
readUndirectedInteractionsFromCsv: no visible global function
definition for 'read.csv'
Undefined global functions or variables:
findInteractionList read.csv
Consider adding
importFrom("utils", "read.csv")
to your NAMESPACE file.
* checking Rd files ... OK
* checking Rd metadata ... OK
* checking Rd cross-references ... OK
* checking for missing documentation entries ... OK
* checking for code/documentation mismatches ... OK
* checking Rd \usage sections ... OK
* checking Rd contents ... OK
* checking for unstated dependencies in examples ... OK
* checking files in 'vignettes' ... OK
* checking examples ...
** running examples for arch 'i386' ... OK
Examples with CPU or elapsed time > 5s
user system elapsed
ibh-package 1.89 0.1 5.68
** running examples for arch 'x64' ... OK
* checking for unstated dependencies in vignettes ... OK
* checking package vignettes in 'inst/doc' ... OK
* checking running R code from vignettes ... SKIPPED
* checking re-building of vignette outputs ... SKIPPED
* checking PDF version of manual ... OK
* DONE
Status: 2 NOTEs
See
'C:/Users/biocbuild/bbs-3.10-bioc/meat/ibh.Rcheck/00check.log'
for details.
ibh.Rcheck/00install.out
##############################################################################
##############################################################################
###
### Running command:
###
### C:\cygwin\bin\curl.exe -O https://malbec1.bioconductor.org/BBS/3.10/bioc/src/contrib/ibh_1.34.0.tar.gz && rm -rf ibh.buildbin-libdir && mkdir ibh.buildbin-libdir && C:\Users\biocbuild\bbs-3.10-bioc\R\bin\R.exe CMD INSTALL --merge-multiarch --build --library=ibh.buildbin-libdir ibh_1.34.0.tar.gz && C:\Users\biocbuild\bbs-3.10-bioc\R\bin\R.exe CMD INSTALL ibh_1.34.0.zip && rm ibh_1.34.0.tar.gz ibh_1.34.0.zip
###
##############################################################################
##############################################################################
% Total % Received % Xferd Average Speed Time Time Time Current
Dload Upload Total Spent Left Speed
0 0 0 0 0 0 0 0 --:--:-- --:--:-- --:--:-- 0
0 6268 0 0 0 0 0 0 --:--:-- --:--:-- --:--:-- 0
100 6268 100 6268 0 0 14359 0 --:--:-- --:--:-- --:--:-- 14748
install for i386
* installing *source* package 'ibh' ...
** using staged installation
** R
** byte-compile and prepare package for lazy loading
** help
*** installing help indices
converting help for package 'ibh'
finding HTML links ... done
findEntry html
ibh-package html
ibh html
ibhBioGRID html
ibhClusterEval html
ibhClusterEvalBioGRID html
ibhForMultipleGeneLists html
ibhForMultipleGeneListsBioGRID html
readDirectedInteractionsFromCsv html
readUndirectedInteractionsFromCsv html
** building package indices
** installing vignettes
** testing if installed package can be loaded from temporary location
** testing if installed package can be loaded from final location
** testing if installed package keeps a record of temporary installation path
install for x64
* installing *source* package 'ibh' ...
** testing if installed package can be loaded
* MD5 sums
packaged installation of 'ibh' as ibh_1.34.0.zip
* DONE (ibh)
* installing to library 'C:/Users/biocbuild/bbs-3.10-bioc/R/library'
package 'ibh' successfully unpacked and MD5 sums checked
|
ibh.Rcheck/examples_i386/ibh-Ex.timings
|
ibh.Rcheck/examples_x64/ibh-Ex.timings
|