| Back to Multiple platform build/check report for BioC 3.10 |
|
This page was generated on 2020-04-15 12:19:05 -0400 (Wed, 15 Apr 2020).
| Package 819/1823 | Hostname | OS / Arch | INSTALL | BUILD | CHECK | BUILD BIN | ||||||
| iChip 1.40.0 Qianxing Mo
| malbec1 | Linux (Ubuntu 18.04.4 LTS) / x86_64 | OK | OK | OK | |||||||
| tokay1 | Windows Server 2012 R2 Standard / x64 | OK | [ OK ] | OK | OK | |||||||
| merida1 | OS X 10.11.6 El Capitan / x86_64 | OK | OK | OK | OK |
| Package: iChip |
| Version: 1.40.0 |
| Command: chmod a+r iChip -R && C:\Users\biocbuild\bbs-3.10-bioc\R\bin\R.exe CMD build --keep-empty-dirs --no-resave-data iChip |
| StartedAt: 2020-04-14 21:08:11 -0400 (Tue, 14 Apr 2020) |
| EndedAt: 2020-04-14 21:09:22 -0400 (Tue, 14 Apr 2020) |
| EllapsedTime: 71.0 seconds |
| RetCode: 0 |
| Status: OK |
| PackageFile: iChip_1.40.0.tar.gz |
| PackageFileSize: 1.611 MiB |
##############################################################################
##############################################################################
###
### Running command:
###
### chmod a+r iChip -R && C:\Users\biocbuild\bbs-3.10-bioc\R\bin\R.exe CMD build --keep-empty-dirs --no-resave-data iChip
###
##############################################################################
##############################################################################
* checking for file 'iChip/DESCRIPTION' ... OK
* preparing 'iChip':
* checking DESCRIPTION meta-information ... OK
* cleaning src
* installing the package to build vignettes
* creating vignettes ... OK
Warning: 'inst/doc' file
'iChip.pdf'
ignored as vignettes have been rebuilt.
Run R CMD build with --no-build-vignettes to prevent rebuilding.
* cleaning src
* checking for LF line-endings in source and make files and shell scripts
* checking for empty or unneeded directories
* looking to see if a 'data/datalist' file should be added
* building 'iChip_1.40.0.tar.gz'
Warning: file 'iChip/cleanup' did not have execute permissions: corrected