| Back to Multiple platform build/check report for BioC 3.10 |
|
This page was generated on 2020-04-15 12:06:54 -0400 (Wed, 15 Apr 2020).
| Package 812/1823 | Hostname | OS / Arch | INSTALL | BUILD | CHECK | BUILD BIN | ||||||
| iBBiG 1.30.0 Aedin Culhane
| malbec1 | Linux (Ubuntu 18.04.4 LTS) / x86_64 | [ OK ] | OK | OK | |||||||
| tokay1 | Windows Server 2012 R2 Standard / x64 | OK | OK | WARNINGS | OK | |||||||
| merida1 | OS X 10.11.6 El Capitan / x86_64 | OK | OK | OK | OK |
| Package: iBBiG |
| Version: 1.30.0 |
| Command: /home/biocbuild/bbs-3.10-bioc/R/bin/R CMD INSTALL iBBiG |
| StartedAt: 2020-04-14 18:13:57 -0400 (Tue, 14 Apr 2020) |
| EndedAt: 2020-04-14 18:14:03 -0400 (Tue, 14 Apr 2020) |
| EllapsedTime: 5.9 seconds |
| RetCode: 0 |
| Status: OK |
##############################################################################
##############################################################################
###
### Running command:
###
### /home/biocbuild/bbs-3.10-bioc/R/bin/R CMD INSTALL iBBiG
###
##############################################################################
##############################################################################
* installing to library ‘/home/biocbuild/bbs-3.10-bioc/R/library’
* installing *source* package ‘iBBiG’ ...
** using staged installation
** libs
gcc -I"/home/biocbuild/bbs-3.10-bioc/R/include" -DNDEBUG -I/usr/local/include -fpic -g -O2 -Wall -c R_init_iBBiG.c -o R_init_iBBiG.o
gcc -I"/home/biocbuild/bbs-3.10-bioc/R/include" -DNDEBUG -I/usr/local/include -fpic -g -O2 -Wall -c iBBiG.c -o iBBiG.o
iBBiG.c: In function ‘clusterCovsC’:
iBBiG.c:300:22: warning: implicit declaration of function ‘time’ [-Wimplicit-function-declaration]
srand((unsigned)time(NULL));
^~~~
gcc -shared -L/home/biocbuild/bbs-3.10-bioc/R/lib -L/usr/local/lib -o iBBiG.so R_init_iBBiG.o iBBiG.o -L/home/biocbuild/bbs-3.10-bioc/R/lib -lR
installing to /home/biocbuild/bbs-3.10-bioc/R/library/00LOCK-iBBiG/00new/iBBiG/libs
** R
** byte-compile and prepare package for lazy loading
** help
*** installing help indices
** building package indices
** installing vignettes
** testing if installed package can be loaded from temporary location
** checking absolute paths in shared objects and dynamic libraries
** testing if installed package can be loaded from final location
** testing if installed package keeps a record of temporary installation path
* DONE (iBBiG)