| Back to Multiple platform build/check report for BioC 3.10 |
|
This page was generated on 2020-04-15 12:39:26 -0400 (Wed, 15 Apr 2020).
| Package 768/1823 | Hostname | OS / Arch | INSTALL | BUILD | CHECK | BUILD BIN | ||||||
| h5vc 2.20.0 Paul Theodor Pyl
| malbec1 | Linux (Ubuntu 18.04.4 LTS) / x86_64 | OK | OK | OK | |||||||
| tokay1 | Windows Server 2012 R2 Standard / x64 | OK | OK | WARNINGS | OK | |||||||
| merida1 | OS X 10.11.6 El Capitan / x86_64 | [ OK ] | OK | OK | OK |
| Package: h5vc |
| Version: 2.20.0 |
| Command: /Library/Frameworks/R.framework/Versions/Current/Resources/bin/R CMD INSTALL h5vc |
| StartedAt: 2020-04-14 19:04:19 -0400 (Tue, 14 Apr 2020) |
| EndedAt: 2020-04-14 19:04:53 -0400 (Tue, 14 Apr 2020) |
| EllapsedTime: 34.6 seconds |
| RetCode: 0 |
| Status: OK |
##############################################################################
##############################################################################
###
### Running command:
###
### /Library/Frameworks/R.framework/Versions/Current/Resources/bin/R CMD INSTALL h5vc
###
##############################################################################
##############################################################################
* installing to library ‘/Library/Frameworks/R.framework/Versions/3.6/Resources/library’
* installing *source* package ‘h5vc’ ...
** using staged installation
** libs
clang -I"/Library/Frameworks/R.framework/Resources/include" -DNDEBUG -D_FILE_OFFSET_BITS=64 -I"/Library/Frameworks/R.framework/Versions/3.6/Resources/library/Rhtslib/include" -isysroot /Library/Developer/CommandLineTools/SDKs/MacOSX.sdk -I/usr/local/include -fPIC -Wall -g -O2 -c bam.c -o bam.o
clang -I"/Library/Frameworks/R.framework/Resources/include" -DNDEBUG -D_FILE_OFFSET_BITS=64 -I"/Library/Frameworks/R.framework/Versions/3.6/Resources/library/Rhtslib/include" -isysroot /Library/Developer/CommandLineTools/SDKs/MacOSX.sdk -I/usr/local/include -fPIC -Wall -g -O2 -c bam_plbuf.c -o bam_plbuf.o
clang -I"/Library/Frameworks/R.framework/Resources/include" -DNDEBUG -D_FILE_OFFSET_BITS=64 -I"/Library/Frameworks/R.framework/Versions/3.6/Resources/library/Rhtslib/include" -isysroot /Library/Developer/CommandLineTools/SDKs/MacOSX.sdk -I/usr/local/include -fPIC -Wall -g -O2 -c sam.c -o sam.o
clang++ -std=gnu++11 -I"/Library/Frameworks/R.framework/Resources/include" -DNDEBUG -D_FILE_OFFSET_BITS=64 -I"/Library/Frameworks/R.framework/Versions/3.6/Resources/library/Rhtslib/include" -isysroot /Library/Developer/CommandLineTools/SDKs/MacOSX.sdk -I/usr/local/include -fPIC -Wall -g -O2 -c tallyBAM.cpp -o tallyBAM.o
tallyBAM.cpp:47:7: warning: unused variable 'len' [-Wunused-variable]
int len = nttable->end - nttable->beg;
^
tallyBAM.cpp:60:18: warning: variable 'c' is used uninitialized whenever 'if' condition is false [-Wsometimes-uninitialized]
}else if(p->indel > 0){
^~~~~~~~~~~~
tallyBAM.cpp:64:16: note: uninitialized use occurs here
str += c;
^
tallyBAM.cpp:60:15: note: remove the 'if' if its condition is always true
}else if(p->indel > 0){
^~~~~~~~~~~~~~~~
tallyBAM.cpp:55:15: note: initialize the variable 'c' to silence this warning
char c;
^
= '\0'
tallyBAM.cpp:96:7: warning: unused variable 'len' [-Wunused-variable]
int len = nttable->end - nttable->beg;
^
tallyBAM.cpp:140:6: warning: unused variable 'c' [-Wunused-variable]
int c = 0;
^
tallyBAM.cpp:43:12: warning: unused function 'pileup_func_old' [-Wunused-function]
static int pileup_func_old(uint32_t tid, uint32_t pos, int n, const bam_pileup1_t *pl, void *data)
^
5 warnings generated.
clang++ -std=gnu++11 -dynamiclib -Wl,-headerpad_max_install_names -undefined dynamic_lookup -single_module -multiply_defined suppress -L/Library/Frameworks/R.framework/Resources/lib -L/usr/local/lib -o h5vc.so bam.o bam_plbuf.o sam.o tallyBAM.o /Library/Frameworks/R.framework/Versions/3.6/Resources/library/Rhtslib/usrlib/libhts.a -lcurl -F/Library/Frameworks/R.framework/.. -framework R -Wl,-framework -Wl,CoreFoundation
installing to /Library/Frameworks/R.framework/Versions/3.6/Resources/library/00LOCK-h5vc/00new/h5vc/libs
** R
** data
** inst
** byte-compile and prepare package for lazy loading
** help
*** installing help indices
** building package indices
** installing vignettes
‘h5vc.simple.genome.browser.Rmd’
‘h5vc.tour.Rmd’
** testing if installed package can be loaded from temporary location
** checking absolute paths in shared objects and dynamic libraries
** testing if installed package can be loaded from final location
** testing if installed package keeps a record of temporary installation path
* DONE (h5vc)