| Back to Multiple platform build/check report for BioC 3.10 |
|
This page was generated on 2020-04-15 12:19:14 -0400 (Wed, 15 Apr 2020).
| Package 725/1823 | Hostname | OS / Arch | INSTALL | BUILD | CHECK | BUILD BIN | ||||||
| goseq 1.38.0 Matthew Young
| malbec1 | Linux (Ubuntu 18.04.4 LTS) / x86_64 | OK | OK | OK | |||||||
| tokay1 | Windows Server 2012 R2 Standard / x64 | OK | OK | [ OK ] | OK | |||||||
| merida1 | OS X 10.11.6 El Capitan / x86_64 | OK | OK | OK | OK |
| Package: goseq |
| Version: 1.38.0 |
| Command: C:\Users\biocbuild\bbs-3.10-bioc\R\bin\R.exe CMD check --force-multiarch --install=check:goseq.install-out.txt --library=C:\Users\biocbuild\bbs-3.10-bioc\R\library --no-vignettes --timings goseq_1.38.0.tar.gz |
| StartedAt: 2020-04-15 03:37:05 -0400 (Wed, 15 Apr 2020) |
| EndedAt: 2020-04-15 03:45:02 -0400 (Wed, 15 Apr 2020) |
| EllapsedTime: 476.5 seconds |
| RetCode: 0 |
| Status: OK |
| CheckDir: goseq.Rcheck |
| Warnings: 0 |
##############################################################################
##############################################################################
###
### Running command:
###
### C:\Users\biocbuild\bbs-3.10-bioc\R\bin\R.exe CMD check --force-multiarch --install=check:goseq.install-out.txt --library=C:\Users\biocbuild\bbs-3.10-bioc\R\library --no-vignettes --timings goseq_1.38.0.tar.gz
###
##############################################################################
##############################################################################
* using log directory 'C:/Users/biocbuild/bbs-3.10-bioc/meat/goseq.Rcheck'
* using R version 3.6.3 (2020-02-29)
* using platform: x86_64-w64-mingw32 (64-bit)
* using session charset: ISO8859-1
* using option '--no-vignettes'
* checking for file 'goseq/DESCRIPTION' ... OK
* this is package 'goseq' version '1.38.0'
* checking package namespace information ... OK
* checking package dependencies ... OK
* checking if this is a source package ... OK
* checking if there is a namespace ... OK
* checking for hidden files and directories ... OK
* checking for portable file names ... OK
* checking whether package 'goseq' can be installed ... OK
* checking installed package size ... OK
* checking package directory ... OK
* checking 'build' directory ... OK
* checking DESCRIPTION meta-information ... NOTE
Malformed Description field: should contain one or more complete sentences.
* checking top-level files ... OK
* checking for left-over files ... OK
* checking index information ... OK
* checking package subdirectories ... OK
* checking R files for non-ASCII characters ... OK
* checking R files for syntax errors ... OK
* loading checks for arch 'i386'
** checking whether the package can be loaded ... OK
** checking whether the package can be loaded with stated dependencies ... OK
** checking whether the package can be unloaded cleanly ... OK
** checking whether the namespace can be loaded with stated dependencies ... OK
** checking whether the namespace can be unloaded cleanly ... OK
* loading checks for arch 'x64'
** checking whether the package can be loaded ... OK
** checking whether the package can be loaded with stated dependencies ... OK
** checking whether the package can be unloaded cleanly ... OK
** checking whether the namespace can be loaded with stated dependencies ... OK
** checking whether the namespace can be unloaded cleanly ... OK
* checking dependencies in R code ... NOTE
'library' or 'require' call to 'rtracklayer' in package code.
Please use :: or requireNamespace() instead.
See section 'Suggested packages' in the 'Writing R Extensions' manual.
* checking S3 generic/method consistency ... OK
* checking replacement functions ... OK
* checking foreign function calls ... OK
* checking R code for possible problems ... NOTE
.onAttach: no visible global function definition for 'winMenuAddItem'
getlength: no visible global function definition for
'installed.packages'
getlength: no visible global function definition for 'tail'
getlength: no visible global function definition for
'transcriptLengths'
getlength: no visible global function definition for 'browserSession'
getlength: no visible global function definition for 'genome<-'
getlength: no visible global function definition for 'ucscTableQuery'
getlength: no visible global function definition for 'getTable'
makespline: no visible global function definition for 'show'
supportedOrganisms: no visible global function definition for
'ucscGenomes'
Undefined global functions or variables:
browserSession genome<- getTable installed.packages show tail
transcriptLengths ucscGenomes ucscTableQuery winMenuAddItem
Consider adding
importFrom("methods", "show")
importFrom("utils", "installed.packages", "tail", "winMenuAddItem")
to your NAMESPACE file (and ensure that your DESCRIPTION Imports field
contains 'methods').
* checking Rd files ... OK
* checking Rd metadata ... OK
* checking Rd cross-references ... OK
* checking for missing documentation entries ... OK
* checking for code/documentation mismatches ... OK
* checking Rd \usage sections ... OK
* checking Rd contents ... OK
* checking for unstated dependencies in examples ... OK
* checking contents of 'data' directory ... OK
* checking data for non-ASCII characters ... OK
* checking data for ASCII and uncompressed saves ... OK
* checking files in 'vignettes' ... OK
* checking examples ...
** running examples for arch 'i386' ... OK
Examples with CPU or elapsed time > 5s
user system elapsed
goseq 26.31 1.63 28.14
getgo 12.00 0.84 12.84
plotPWF 7.07 1.01 8.10
nullp 6.14 1.44 7.57
getlength 5.22 1.95 19.12
** running examples for arch 'x64' ... OK
Examples with CPU or elapsed time > 5s
user system elapsed
goseq 33.30 1.46 34.75
getgo 15.72 0.74 16.47
nullp 9.81 1.36 11.18
plotPWF 8.44 1.57 10.01
getlength 7.89 1.14 9.03
supportedOrganisms 0.46 0.04 6.22
* checking for unstated dependencies in vignettes ... OK
* checking package vignettes in 'inst/doc' ... OK
* checking running R code from vignettes ... SKIPPED
* checking re-building of vignette outputs ... SKIPPED
* checking PDF version of manual ... OK
* DONE
Status: 3 NOTEs
See
'C:/Users/biocbuild/bbs-3.10-bioc/meat/goseq.Rcheck/00check.log'
for details.
goseq.Rcheck/00install.out
##############################################################################
##############################################################################
###
### Running command:
###
### C:\cygwin\bin\curl.exe -O https://malbec1.bioconductor.org/BBS/3.10/bioc/src/contrib/goseq_1.38.0.tar.gz && rm -rf goseq.buildbin-libdir && mkdir goseq.buildbin-libdir && C:\Users\biocbuild\bbs-3.10-bioc\R\bin\R.exe CMD INSTALL --merge-multiarch --build --library=goseq.buildbin-libdir goseq_1.38.0.tar.gz && C:\Users\biocbuild\bbs-3.10-bioc\R\bin\R.exe CMD INSTALL goseq_1.38.0.zip && rm goseq_1.38.0.tar.gz goseq_1.38.0.zip
###
##############################################################################
##############################################################################
% Total % Received % Xferd Average Speed Time Time Time Current
Dload Upload Total Spent Left Speed
0 0 0 0 0 0 0 0 --:--:-- --:--:-- --:--:-- 0
100 465k 100 465k 0 0 2317k 0 --:--:-- --:--:-- --:--:-- 2364k
install for i386
* installing *source* package 'goseq' ...
** using staged installation
** R
** data
** inst
** byte-compile and prepare package for lazy loading
** help
*** installing help indices
converting help for package 'goseq'
finding HTML links ... done
genes html
getgo html
finding level-2 HTML links ... done
getlength html
goseq html
makespline html
nullp html
plotPWF html
supportedOrganisms html
** building package indices
** installing vignettes
** testing if installed package can be loaded from temporary location
** testing if installed package can be loaded from final location
** testing if installed package keeps a record of temporary installation path
install for x64
* installing *source* package 'goseq' ...
** testing if installed package can be loaded
* MD5 sums
packaged installation of 'goseq' as goseq_1.38.0.zip
* DONE (goseq)
* installing to library 'C:/Users/biocbuild/bbs-3.10-bioc/R/library'
package 'goseq' successfully unpacked and MD5 sums checked
|
goseq.Rcheck/examples_i386/goseq-Ex.timings
|
goseq.Rcheck/examples_x64/goseq-Ex.timings
|