| Back to Multiple platform build/check report for BioC 3.10 |
|
This page was generated on 2020-04-15 12:24:21 -0400 (Wed, 15 Apr 2020).
| Package 704/1823 | Hostname | OS / Arch | INSTALL | BUILD | CHECK | BUILD BIN | ||||||
| ggtree 2.0.4 Guangchuang Yu
| malbec1 | Linux (Ubuntu 18.04.4 LTS) / x86_64 | OK | OK | OK | |||||||
| tokay1 | Windows Server 2012 R2 Standard / x64 | OK | OK | WARNINGS | [ OK ] | |||||||
| merida1 | OS X 10.11.6 El Capitan / x86_64 | OK | OK | OK | OK |
| Package: ggtree |
| Version: 2.0.4 |
| Command: rm -rf ggtree.buildbin-libdir && mkdir ggtree.buildbin-libdir && C:\Users\biocbuild\bbs-3.10-bioc\R\bin\R.exe CMD INSTALL --merge-multiarch --build --library=ggtree.buildbin-libdir ggtree_2.0.4.tar.gz |
| StartedAt: 2020-04-15 08:50:52 -0400 (Wed, 15 Apr 2020) |
| EndedAt: 2020-04-15 08:52:19 -0400 (Wed, 15 Apr 2020) |
| EllapsedTime: 87.5 seconds |
| RetCode: 0 |
| Status: OK |
| PackageFile: ggtree_2.0.4.zip |
| PackageFileSize: 773.8 KiB |
##############################################################################
##############################################################################
###
### Running command:
###
### rm -rf ggtree.buildbin-libdir && mkdir ggtree.buildbin-libdir && C:\Users\biocbuild\bbs-3.10-bioc\R\bin\R.exe CMD INSTALL --merge-multiarch --build --library=ggtree.buildbin-libdir ggtree_2.0.4.tar.gz
###
##############################################################################
##############################################################################
install for i386
* installing *source* package 'ggtree' ...
** using staged installation
** R
** inst
** byte-compile and prepare package for lazy loading
** help
*** installing help indices
converting help for package 'ggtree'
finding HTML links ... done
Date2decimal html
add-TREEDATA html
add_TREEINFO html
add_colorbar html
annotation_image html
applyLayoutDaylight html
as.polytomy html
collapse html
decimal2Date html
dotFun html
expand html
facet-plot html
facet_data html
facet_labeller html
facet_widths html
flip html
geom_aline html
geom_balance html
geom_cladelabel html
geom_cladelabel2 html
geom_hilight html
geom_hilight_encircle html
geom_label2 html
Rd warning: C:/Users/biocbuild/bbs-3.10-bioc/tmpdir/RtmpmK9H5e/R.INSTALL188040e8efd/ggtree/man/geom_label2.Rd:64: file link 'geom_label' in package 'ggplot2' does not exist and so has been treated as a topic
geom_motif html
geom_nodelab html
geom_nodelab2 html
geom_nodepoint html
geom_point2 html
geom_range html
geom_rootedge html
geom_rootpoint html
geom_segment2 html
geom_strip html
geom_taxalink html
geom_text2 html
geom_tiplab html
geom_tiplab2 html
geom_tippoint html
geom_tree html
geom_tree2 html
geom_treescale html
get.path html
getNodeAngle.df html
getNodesBreadthFirst.df html
getSubtree html
getSubtree.df html
getSubtreeUnrooted html
getSubtreeUnrooted.df html
getTreeArcAngles html
get_clade_position html
get_heatmap_column_position html
get_taxa_name html
ggdensitree html
ggtree-ggproto html
ggtree html
gheatmap html
gzoom-methods html
gzoom.phylo html
identify html
inset html
layoutDaylight html
layoutEqualAngle html
msaplot html
multiplot html
nodebar html
nodepie html
open_tree html
phylopic html
range_format html
reexports html
Rd warning: C:/Users/biocbuild/bbs-3.10-bioc/tmpdir/RtmpmK9H5e/R.INSTALL188040e8efd/ggtree/man/reexports.Rd:35: file link 'collapse' in package 'dplyr' does not exist and so has been treated as a topic
Rd warning: C:/Users/biocbuild/bbs-3.10-bioc/tmpdir/RtmpmK9H5e/R.INSTALL188040e8efd/ggtree/man/reexports.Rd:37: file link 'geom_label' in package 'ggplot2' does not exist and so has been treated as a topic
Rd warning: C:/Users/biocbuild/bbs-3.10-bioc/tmpdir/RtmpmK9H5e/R.INSTALL188040e8efd/ggtree/man/reexports.Rd:37: file link 'xlim' in package 'ggplot2' does not exist and so has been treated as a topic
Rd warning: C:/Users/biocbuild/bbs-3.10-bioc/tmpdir/RtmpmK9H5e/R.INSTALL188040e8efd/ggtree/man/reexports.Rd:41: file link '%>%' in package 'magrittr' does not exist and so has been treated as a topic
revts html
rotate html
rotateTreePoints.df html
rotate_tree html
scaleClade html
scale_color-methods html
scale_x_ggtree html
scale_x_range html
set_hilight_legend html
stat_hilight html
subview html
theme_dendrogram html
theme_inset html
theme_tree html
theme_tree2 html
tree-layout html
update-TREE html
viewClade html
xlim_expand html
xlim_tree html
** building package indices
** installing vignettes
** testing if installed package can be loaded from temporary location
** testing if installed package can be loaded from final location
** testing if installed package keeps a record of temporary installation path
install for x64
* installing *source* package 'ggtree' ...
** testing if installed package can be loaded
* MD5 sums
packaged installation of 'ggtree' as ggtree_2.0.4.zip
* DONE (ggtree)