| Back to Multiple platform build/check report for BioC 3.10 |
|
This page was generated on 2020-04-15 12:26:25 -0400 (Wed, 15 Apr 2020).
| Package 691/1823 | Hostname | OS / Arch | INSTALL | BUILD | CHECK | BUILD BIN | ||||||
| genphen 1.14.0 Simo Kitanovski
| malbec1 | Linux (Ubuntu 18.04.4 LTS) / x86_64 | OK | OK | OK | |||||||
| tokay1 | Windows Server 2012 R2 Standard / x64 | OK | OK | OK | [ OK ] | |||||||
| merida1 | OS X 10.11.6 El Capitan / x86_64 | OK | OK | OK | OK |
| Package: genphen |
| Version: 1.14.0 |
| Command: rm -rf genphen.buildbin-libdir && mkdir genphen.buildbin-libdir && C:\Users\biocbuild\bbs-3.10-bioc\R\bin\R.exe CMD INSTALL --merge-multiarch --build --library=genphen.buildbin-libdir genphen_1.14.0.tar.gz |
| StartedAt: 2020-04-15 08:49:24 -0400 (Wed, 15 Apr 2020) |
| EndedAt: 2020-04-15 08:50:48 -0400 (Wed, 15 Apr 2020) |
| EllapsedTime: 84.2 seconds |
| RetCode: 0 |
| Status: OK |
| PackageFile: genphen_1.14.0.zip |
| PackageFileSize: 675.4 KiB |
##############################################################################
##############################################################################
###
### Running command:
###
### rm -rf genphen.buildbin-libdir && mkdir genphen.buildbin-libdir && C:\Users\biocbuild\bbs-3.10-bioc\R\bin\R.exe CMD INSTALL --merge-multiarch --build --library=genphen.buildbin-libdir genphen_1.14.0.tar.gz
###
##############################################################################
##############################################################################
install for i386
* installing *source* package 'genphen' ...
** using staged installation
** R
** data
** inst
** byte-compile and prepare package for lazy loading
** help
*** installing help indices
converting help for package 'genphen'
finding HTML links ... done
dichotomous.phenotype.saap html
genotype.saap html
genotype.saap.msa html
genotype.snp html
genotype.snp.msa html
phenotype.saap html
phenotype.snp html
runDiagnostics html
runGenphen html
runPhyloBiasCheck html
** building package indices
** installing vignettes
** testing if installed package can be loaded from temporary location
** testing if installed package can be loaded from final location
** testing if installed package keeps a record of temporary installation path
install for x64
* installing *source* package 'genphen' ...
** testing if installed package can be loaded
* MD5 sums
packaged installation of 'genphen' as genphen_1.14.0.zip
* DONE (genphen)