| Back to Multiple platform build/check report for BioC 3.10 |
|
This page was generated on 2020-04-15 12:35:50 -0400 (Wed, 15 Apr 2020).
| Package 677/1823 | Hostname | OS / Arch | INSTALL | BUILD | CHECK | BUILD BIN | ||||||
| genomeIntervals 1.42.0 Julien Gagneur
| malbec1 | Linux (Ubuntu 18.04.4 LTS) / x86_64 | OK | OK | OK | |||||||
| tokay1 | Windows Server 2012 R2 Standard / x64 | OK | OK | WARNINGS | OK | |||||||
| merida1 | OS X 10.11.6 El Capitan / x86_64 | OK | OK | OK | [ OK ] |
| Package: genomeIntervals |
| Version: 1.42.0 |
| Command: rm -rf genomeIntervals.buildbin-libdir && mkdir genomeIntervals.buildbin-libdir && /Users/biocbuild/BBS/utils/build-universal.sh genomeIntervals_1.42.0.tar.gz /Library/Frameworks/R.framework/Versions/Current/Resources/bin/R genomeIntervals.buildbin-libdir |
| StartedAt: 2020-04-15 07:35:21 -0400 (Wed, 15 Apr 2020) |
| EndedAt: 2020-04-15 07:36:14 -0400 (Wed, 15 Apr 2020) |
| EllapsedTime: 53.3 seconds |
| RetCode: 0 |
| Status: OK |
| PackageFile: genomeIntervals_1.42.0.tgz |
| PackageFileSize: 575.2 KiB |
############################################################################## ############################################################################## ### ### Running command: ### ### rm -rf genomeIntervals.buildbin-libdir && mkdir genomeIntervals.buildbin-libdir && /Users/biocbuild/BBS/utils/build-universal.sh genomeIntervals_1.42.0.tar.gz /Library/Frameworks/R.framework/Versions/Current/Resources/bin/R genomeIntervals.buildbin-libdir ### ############################################################################## ############################################################################## >>>>>>> >>>>>>> INSTALLATION WITH 'R CMD INSTALL --preclean --no-multiarch --library=genomeIntervals.buildbin-libdir genomeIntervals_1.42.0.tar.gz' >>>>>>> * installing *source* package ‘genomeIntervals’ ... ** using staged installation ** R ** data ** inst ** byte-compile and prepare package for lazy loading ** help *** installing help indices ** building package indices ** installing vignettes ** testing if installed package can be loaded from temporary location ** testing if installed package can be loaded from final location ** testing if installed package keeps a record of temporary installation path * DONE (genomeIntervals)