| Back to Multiple platform build/check report for BioC 3.10 |
|
This page was generated on 2020-04-15 12:26:49 -0400 (Wed, 15 Apr 2020).
| Package 659/1823 | Hostname | OS / Arch | INSTALL | BUILD | CHECK | BUILD BIN | ||||||
| geneplast 1.12.2 Mauro Castro
| malbec1 | Linux (Ubuntu 18.04.4 LTS) / x86_64 | OK | OK | OK | |||||||
| tokay1 | Windows Server 2012 R2 Standard / x64 | OK | OK | OK | [ OK ] | |||||||
| merida1 | OS X 10.11.6 El Capitan / x86_64 | OK | OK | OK | OK |
| Package: geneplast |
| Version: 1.12.2 |
| Command: rm -rf geneplast.buildbin-libdir && mkdir geneplast.buildbin-libdir && C:\Users\biocbuild\bbs-3.10-bioc\R\bin\R.exe CMD INSTALL --merge-multiarch --build --library=geneplast.buildbin-libdir geneplast_1.12.2.tar.gz |
| StartedAt: 2020-04-15 08:47:31 -0400 (Wed, 15 Apr 2020) |
| EndedAt: 2020-04-15 08:48:06 -0400 (Wed, 15 Apr 2020) |
| EllapsedTime: 35.8 seconds |
| RetCode: 0 |
| Status: OK |
| PackageFile: geneplast_1.12.2.zip |
| PackageFileSize: 3.788 MiB |
##############################################################################
##############################################################################
###
### Running command:
###
### rm -rf geneplast.buildbin-libdir && mkdir geneplast.buildbin-libdir && C:\Users\biocbuild\bbs-3.10-bioc\R\bin\R.exe CMD INSTALL --merge-multiarch --build --library=geneplast.buildbin-libdir geneplast_1.12.2.tar.gz
###
##############################################################################
##############################################################################
install for i386
* installing *source* package 'geneplast' ...
** using staged installation
** R
** data
** inst
** byte-compile and prepare package for lazy loading
** help
*** installing help indices
converting help for package 'geneplast'
finding HTML links ... done
OGP-class html
OGR-class html
geneplast-package html
gpdata html
gplast html
gplast.get html
gplast.preprocess html
groot html
groot.get html
groot.plot html
groot.preprocess html
ogr2igraph html
ogr2tni html
ppidata html
** building package indices
** installing vignettes
** testing if installed package can be loaded from temporary location
** testing if installed package can be loaded from final location
** testing if installed package keeps a record of temporary installation path
install for x64
* installing *source* package 'geneplast' ...
** testing if installed package can be loaded
* MD5 sums
packaged installation of 'geneplast' as geneplast_1.12.2.zip
* DONE (geneplast)