| Back to Multiple platform build/check report for BioC 3.10 |
|
This page was generated on 2020-04-15 12:04:43 -0400 (Wed, 15 Apr 2020).
| Package 624/1823 | Hostname | OS / Arch | INSTALL | BUILD | CHECK | BUILD BIN | ||||||
| gaggle 1.54.0 Christopher Bare
| malbec1 | Linux (Ubuntu 18.04.4 LTS) / x86_64 | [ OK ] | OK | OK | |||||||
| tokay1 | Windows Server 2012 R2 Standard / x64 | OK | OK | OK | OK | |||||||
| merida1 | OS X 10.11.6 El Capitan / x86_64 | OK | OK | OK | OK |
| Package: gaggle |
| Version: 1.54.0 |
| Command: /home/biocbuild/bbs-3.10-bioc/R/bin/R CMD INSTALL gaggle |
| StartedAt: 2020-04-14 18:23:57 -0400 (Tue, 14 Apr 2020) |
| EndedAt: 2020-04-14 18:24:02 -0400 (Tue, 14 Apr 2020) |
| EllapsedTime: 4.7 seconds |
| RetCode: 0 |
| Status: OK |
##############################################################################
##############################################################################
###
### Running command:
###
### /home/biocbuild/bbs-3.10-bioc/R/bin/R CMD INSTALL gaggle
###
##############################################################################
##############################################################################
* installing to library ‘/home/biocbuild/bbs-3.10-bioc/R/library’
* installing *source* package ‘gaggle’ ...
** using staged installation
** R
** inst
** byte-compile and prepare package for lazy loading
** help
*** installing help indices
** building package indices
** installing vignettes
** testing if installed package can be loaded from temporary location
onLoad -- libname: /home/biocbuild/bbs-3.10-bioc/R/library/00LOCK-gaggle/00new pkgname: gaggle
path to jar: /home/biocbuild/bbs-3.10-bioc/R/library/00LOCK-gaggle/00new/gaggle/jars/gaggleRShell.jar
script: gaggle.R $Revision: 4499 $ $Date: 2010-08-10 17:15:03 -0700 (Tue, 10 Aug 2010) $
os version: Linux
jvm version: 1.8.0_242
You are using the wrong version of Java.
Please see http://gaggle.systemsbiology.org/docs/html/java
** testing if installed package can be loaded from final location
onLoad -- libname: /home/biocbuild/bbs-3.10-bioc/R/library pkgname: gaggle
path to jar: /home/biocbuild/bbs-3.10-bioc/R/library/gaggle/jars/gaggleRShell.jar
script: gaggle.R $Revision: 4499 $ $Date: 2010-08-10 17:15:03 -0700 (Tue, 10 Aug 2010) $
os version: Linux
jvm version: 1.8.0_242
You are using the wrong version of Java.
Please see http://gaggle.systemsbiology.org/docs/html/java
** testing if installed package keeps a record of temporary installation path
* DONE (gaggle)